Back to Build/check report for BioC 3.21 annotations
ABCD[E]FGHIJKLMNOPQRSTUVWXYZ

This page was generated on 2025-02-05 08:30 -0500 (Wed, 05 Feb 2025).

HostnameOSArch (*)R versionInstalled pkgs
nebbiolo1Linux (Ubuntu 24.04.1 LTS)x86_64R Under development (unstable) (2025-01-20 r87609) -- "Unsuffered Consequences" 4717
Click on any hostname to see more info about the system (e.g. compilers)      (*) as reported by 'uname -p', except on Windows and Mac OS X

Package 18/47HostnameOS / ArchINSTALLBUILDCHECK
EPICv2manifest 0.99.7  (landing page)
Tim Peters
Snapshot Date: 2025-02-05 06:00 -0500 (Wed, 05 Feb 2025)
git_url: https://git.bioconductor.org/packages/EPICv2manifest
git_branch: devel
git_last_commit: 1014dad
git_last_commit_date: 2024-03-08 02:30:39 -0500 (Fri, 08 Mar 2024)
nebbiolo1Linux (Ubuntu 24.04.1 LTS) / x86_64  OK    OK    OK  UNNEEDED, same version is already published


INSTALL results for EPICv2manifest on nebbiolo1

To the developers/maintainers of the EPICv2manifest package:
- Use the following Renviron settings to reproduce errors and warnings.
- If 'R CMD check' started to fail recently on the Linux builder(s) over a missing dependency, add the missing dependency to 'Suggests:' in your DESCRIPTION file. See Renviron.bioc for more information.

raw results


Summary

Package: EPICv2manifest
Version: 0.99.7
Command: /home/biocbuild/bbs-3.21-bioc/R/bin/R CMD INSTALL EPICv2manifest
StartedAt: 2025-02-05 06:30:07 -0500 (Wed, 05 Feb 2025)
EndedAt: 2025-02-05 06:30:17 -0500 (Wed, 05 Feb 2025)
EllapsedTime: 9.5 seconds
RetCode: 0
Status:   OK  

Command output

##############################################################################
##############################################################################
###
### Running command:
###
###   /home/biocbuild/bbs-3.21-bioc/R/bin/R CMD INSTALL EPICv2manifest
###
##############################################################################
##############################################################################


* installing to library ‘/home/biocbuild/bbs-3.21-bioc/R/site-library’
* installing *source* package ‘EPICv2manifest’ ...
** this is package ‘EPICv2manifest’ version ‘0.99.7’
** using staged installation
** inst
** help
*** installing help indices
** building package indices
** installing vignettes
** testing if installed package can be loaded from temporary location
** testing if installed package can be loaded from final location
** testing if installed package keeps a record of temporary installation path
* DONE (EPICv2manifest)