Back to Books build report for BioC 3.22 |
This page was generated on 2025-09-24 14:30 -0400 (Wed, 24 Sep 2025).
A |
QUICK STATS | OS / Arch | INSTALL | BUILD | CHECK | ||||||||||||||
nebbiolo2 | Linux (Ubuntu 24.04.3 LTS) / x86_64 |
|
|
| ||||||||||||||
lconway | macOS 12.7.1 Monterey / x86_64 |
|
|
| ||||||||||||||
kjohnson3 | macOS 13.7.7 Ventura / arm64 |
|
|
| ||||||||||||||
Package | Maintainer | INSTALL | BUILD | CHECK | ||||||||||||||
1/10 | BiocBookDemo 1.7.0 (landing page) | Jacques Serizay | OK | OK | OK | ![]() | ||||||||||||
2/10 | csawBook 1.17.0 (landing page) | Aaron Lun | OK | OK | OK | ![]() | ||||||||||||
3/10 | OHCA 1.5.0 (landing page) | Jacques Serizay | OK | OK | OK | ![]() | ||||||||||||
4/10 | OSCA 1.19.0 (landing page) | Alan O'Callaghan | OK | OK | OK | ![]() | ||||||||||||
5/10 | OSCA.advanced 1.17.0 (landing page) | Ludwig Geistlinger | OK | ERROR | skipped | |||||||||||||
6/10 | OSCA.basic 1.17.0 (landing page) | Peter Hickey | OK | ERROR | skipped | |||||||||||||
7/10 | OSCA.intro 1.17.1 (landing page) | Ludwig Geistlinger | OK | OK | OK | ![]() | ||||||||||||
8/10 | OSCA.multisample 1.17.0 (landing page) | Alan O'Callaghan | OK | OK | OK | ![]() | ||||||||||||
9/10 | OSCA.workflows 1.17.0 (landing page) | Peter Hickey | OK | ERROR | skipped | |||||||||||||
10/10 | SingleRBook 1.19.0 (landing page) | Aaron Lun | OK | OK | OK | ![]() |