This page was generated on 2025-11-07 14:30 -0500 (Fri, 07 Nov 2025).
| |
| See this page for all the Bioconductor builds and their schedule. |
| Hostname | OS | Arch (*) | R version | Installed pkgs |
|---|---|---|---|---|
| nebbiolo1 | Linux (Ubuntu 24.04.3 LTS) | x86_64 | R Under development (unstable) (2025-10-20 r88955) -- "Unsuffered Consequences" | 4818 |
| Click on any hostname to see more info about the system (e.g. compilers) (*) as reported by 'uname -p', except on Windows and Mac OS X | ||||
A | |||||||||
| QUICK STATS | OS / Arch | INSTALL | BUILD | CHECK | ||||||||||||||
| nebbiolo1 | Linux (Ubuntu 24.04.3 LTS) / x86_64 |
|
|
| ||||||||||||||
| Package | Maintainer | INSTALL | BUILD | CHECK | ||||||||||||||
| 1/11 | BiocBookDemo 1.9.0 (landing page) | Jacques Serizay | OK | OK | OK | |||||||||||||
| 2/11 | csawBook 1.19.0 (landing page) | Aaron Lun | ERROR | ERROR | skipped | |||||||||||||
| 3/11 | OHCA 1.7.0 (landing page) | Jacques Serizay | OK | OK | OK | |||||||||||||
| 4/11 | OSCA 1.21.0 (landing page) | Alan O'Callaghan | OK | OK | OK | |||||||||||||
| 5/11 | OSCA.advanced 1.19.0 (landing page) | Ludwig Geistlinger | OK | OK | OK | |||||||||||||
| 6/11 | OSCA.basic 1.19.0 (landing page) | Peter Hickey | OK | OK | OK | |||||||||||||
| 7/11 | OSCA.intro 1.19.0 (landing page) | Ludwig Geistlinger | OK | OK | OK | |||||||||||||
| 8/11 | OSCA.multisample 1.19.0 (landing page) | Alan O'Callaghan | OK | OK | OK | |||||||||||||
| 9/11 | OSCA.workflows 1.19.0 (landing page) | Peter Hickey | OK | OK | OK | |||||||||||||
| 10/11 | OSTA 1.1.1 (landing page) | Lukas M. Weber | OK | ERROR | skipped | |||||||||||||
| 11/11 | SingleRBook 1.21.0 (landing page) | Aaron Lun | OK | OK | OK | |||||||||||||