| Back to Books build report for BioC 3.23 |
This page was generated on 2025-11-10 14:30 -0500 (Mon, 10 Nov 2025).
| Hostname | OS | Arch (*) | R version | Installed pkgs |
|---|---|---|---|---|
| nebbiolo1 | Linux (Ubuntu 24.04.3 LTS) | x86_64 | R Under development (unstable) (2025-10-20 r88955) -- "Unsuffered Consequences" | 4821 |
| Click on any hostname to see more info about the system (e.g. compilers) (*) as reported by 'uname -p', except on Windows and Mac OS X | ||||
| Package 8/11 | Hostname | OS / Arch | INSTALL | BUILD | CHECK | ||||||||
| OSCA.multisample 1.19.0 (landing page) Alan O'Callaghan
| nebbiolo1 | Linux (Ubuntu 24.04.3 LTS) / x86_64 | OK | OK | OK | ||||||||
|
To the developers/maintainers of the OSCA.multisample package: - Use the following Renviron settings to reproduce errors and warnings. - If 'R CMD check' started to fail recently on the Linux builder(s) over a missing dependency, add the missing dependency to 'Suggests:' in your DESCRIPTION file. See Renviron.bioc for more information. |
| Package: OSCA.multisample |
| Version: 1.19.0 |
| Command: /home/biocbuild/bbs-3.23-bioc/R/bin/R CMD build --keep-empty-dirs --no-resave-data OSCA.multisample |
| StartedAt: 2025-11-10 10:17:24 -0500 (Mon, 10 Nov 2025) |
| EndedAt: 2025-11-10 11:52:33 -0500 (Mon, 10 Nov 2025) |
| EllapsedTime: 5709.2 seconds |
| RetCode: 0 |
| Status: OK |
| PackageFile: OSCA.multisample_1.19.0.tar.gz |
| PackageFileSize: 11.33 MiB |
############################################################################## ############################################################################## ### ### Running command: ### ### /home/biocbuild/bbs-3.23-bioc/R/bin/R CMD build --keep-empty-dirs --no-resave-data OSCA.multisample ### ############################################################################## ############################################################################## * checking for file ‘OSCA.multisample/DESCRIPTION’ ... OK * preparing ‘OSCA.multisample’: * checking DESCRIPTION meta-information ... OK * installing the package (it is needed to build vignettes) * creating vignettes ... OK * checking for LF line-endings in source and make files and shell scripts * checking for empty or unneeded directories * creating default NAMESPACE file * building ‘OSCA.multisample_1.19.0.tar.gz’ Warning in utils::tar(filepath, pkgname, compression = compression, compression_level = 9L, : storing paths of more than 100 bytes is not portable: ‘OSCA.multisample/inst/doc/book/tenx-filtered-pbmc3k-4k-8k_files/figure-html/unref-filtered-pbmc-merged-tsne-1.png’ Warning in utils::tar(filepath, pkgname, compression = compression, compression_level = 9L, : storing paths of more than 100 bytes is not portable: ‘OSCA.multisample/inst/doc/book/tenx-filtered-pbmc3k-4k-8k_files/figure-html/unref-filtered-pbmc-tsne-1.png’ Warning in utils::tar(filepath, pkgname, compression = compression, compression_level = 9L, : storing paths of more than 100 bytes is not portable: ‘OSCA.multisample/inst/doc/book/tenx-filtered-pbmc3k-4k-8k_files/figure-html/unref-filtered-pbmc-variance-1.png’ Warning in utils::tar(filepath, pkgname, compression = compression, compression_level = 9L, : storing paths of more than 100 bytes is not portable: ‘OSCA.multisample/inst/doc/book/tenx-filtered-pbmc3k-4k-8k_files/figure-html/unref-pbmc-filtered-var-1.png’ Warning in utils::tar(filepath, pkgname, compression = compression, compression_level = 9L, : storing paths of more than 100 bytes is not portable: ‘OSCA.multisample/inst/doc/book/using-corrected-values_files/figure-html/seger-beta-ins-corrected-1.png’