| Back to Books build report for BioC 3.22 |
This page was generated on 2025-10-22 14:30 -0400 (Wed, 22 Oct 2025).
| Hostname | OS | Arch (*) | R version | Installed pkgs |
|---|---|---|---|---|
| nebbiolo2 | Linux (Ubuntu 24.04.3 LTS) | x86_64 | 4.5.1 Patched (2025-08-23 r88802) -- "Great Square Root" | 4891 |
| lconway | macOS 12.7.6 Monterey | x86_64 | 4.5.1 Patched (2025-09-10 r88807) -- "Great Square Root" | 4681 |
| kjohnson3 | macOS 13.7.7 Ventura | arm64 | 4.5.1 Patched (2025-09-10 r88807) -- "Great Square Root" | 4626 |
| Click on any hostname to see more info about the system (e.g. compilers) (*) as reported by 'uname -p', except on Windows and Mac OS X | ||||
| Package 7/11 | Hostname | OS / Arch | INSTALL | BUILD | CHECK | ||||||||
| OSCA.intro 1.17.1 (landing page) Ludwig Geistlinger
| nebbiolo2 | Linux (Ubuntu 24.04.3 LTS) / x86_64 | OK | NA | NA | ||||||||
| lconway | macOS 12.7.6 Monterey / x86_64 | OK | OK | OK | |||||||||
| kjohnson3 | macOS 13.7.7 Ventura / arm64 | OK | OK | OK | |||||||||
|
To the developers/maintainers of the OSCA.intro package: - Use the following Renviron settings to reproduce errors and warnings. - If 'R CMD check' started to fail recently on the Linux builder(s) over a missing dependency, add the missing dependency to 'Suggests:' in your DESCRIPTION file. See Renviron.bioc for more information. |
| Package: OSCA.intro |
| Version: 1.17.1 |
| Command: rm -rf OSCA.intro.book && mkdir OSCA.intro.book && /Users/biocbuild/BBS/utils/deploy_book.py OSCA.intro_1.17.1.tar.gz OSCA.intro.book |
| StartedAt: 2025-10-22 06:58:47 -0400 (Wed, 22 Oct 2025) |
| EndedAt: 2025-10-22 06:58:48 -0400 (Wed, 22 Oct 2025) |
| EllapsedTime: 1.2 seconds |
| RetCode: 0 |
| Status: OK |
| DeployDestDir: OSCA.intro.book |
| Warnings: 0 |
############################################################################## ############################################################################## ### ### Running command: ### ### rm -rf OSCA.intro.book && mkdir OSCA.intro.book && /Users/biocbuild/BBS/utils/deploy_book.py OSCA.intro_1.17.1.tar.gz OSCA.intro.book ### ############################################################################## ############################################################################## Deploying content from book tarball 'OSCA.intro_1.17.1.tar.gz' to 'OSCA.intro.book/OSCA.intro/' ... OK