Back to Rapid builds (Linux only) of a subset of BioC 3.21
Report updated every 6 hours

This page was generated on 2025-02-05 10:04 -0500 (Wed, 05 Feb 2025).

HostnameOSArch (*)R versionInstalled pkgs
teran2Linux (Ubuntu 24.04.1 LTS)x86_64R Under development (unstable) (2025-01-20 r87609) -- "Unsuffered Consequences" 869
Click on any hostname to see more info about the system (e.g. compilers)      (*) as reported by 'uname -p', except on Windows and Mac OS X

Package 180/217HostnameOS / ArchINSTALLBUILDCHECK
rtracklayer 1.67.0  (landing page)
Michael Lawrence
Snapshot Date: 2025-02-05 06:00 -0500 (Wed, 05 Feb 2025)
git_url: https://git.bioconductor.org/packages/rtracklayer
git_branch: devel
git_last_commit: c1806e7
git_last_commit_date: 2024-12-13 12:03:58 -0500 (Fri, 13 Dec 2024)
teran2Linux (Ubuntu 24.04.1 LTS) / x86_64  OK    OK    WARNINGS  


BUILD results for rtracklayer on teran2

To the developers/maintainers of the rtracklayer package:
- Use the following Renviron settings to reproduce errors and warnings.
- If 'R CMD check' started to fail recently on the Linux builder(s) over a missing dependency, add the missing dependency to 'Suggests:' in your DESCRIPTION file. See Renviron.bioc for more information.

raw results


Summary

Package: rtracklayer
Version: 1.67.0
Command: /home/rapidbuild/bbs-3.21-bioc-rapid/R/bin/R CMD build --keep-empty-dirs --no-resave-data rtracklayer
StartedAt: 2025-02-05 07:32:14 -0500 (Wed, 05 Feb 2025)
EndedAt: 2025-02-05 07:33:31 -0500 (Wed, 05 Feb 2025)
EllapsedTime: 77.0 seconds
RetCode: 0
Status:   OK  
PackageFile: rtracklayer_1.67.0.tar.gz
PackageFileSize: 3.914 MiB

Command output

##############################################################################
##############################################################################
###
### Running command:
###
###   /home/rapidbuild/bbs-3.21-bioc-rapid/R/bin/R CMD build --keep-empty-dirs --no-resave-data rtracklayer
###
##############################################################################
##############################################################################


* checking for file ‘rtracklayer/DESCRIPTION’ ... OK
* preparing ‘rtracklayer’:
* checking DESCRIPTION meta-information ... OK
* cleaning src
* installing the package to build vignettes
* creating vignettes ... OK
* cleaning src
* checking for LF line-endings in source and make files and shell scripts
* checking for empty or unneeded directories
* looking to see if a ‘data/datalist’ file should be added
  NB: this package now depends on R (>= 3.5.0)
  WARNING: Added dependency on R >= 3.5.0 because serialized objects in
  serialize/load version 3 cannot be read in older versions of R.
  File(s) containing such objects:
    ‘rtracklayer/data/cpneTrack.rda’
* building ‘rtracklayer_1.67.0.tar.gz’