Back to Rapid builds (Linux only) of a subset of BioC 3.21
Report updated every 6 hours

This page was generated on 2025-02-05 10:04 -0500 (Wed, 05 Feb 2025).

HostnameOSArch (*)R versionInstalled pkgs
teran2Linux (Ubuntu 24.04.1 LTS)x86_64R Under development (unstable) (2025-01-20 r87609) -- "Unsuffered Consequences" 869
Click on any hostname to see more info about the system (e.g. compilers)      (*) as reported by 'uname -p', except on Windows and Mac OS X

Package 111/217HostnameOS / ArchINSTALLBUILDCHECK
gypsum 1.3.0  (landing page)
Aaron Lun
Snapshot Date: 2025-02-05 06:00 -0500 (Wed, 05 Feb 2025)
git_url: https://git.bioconductor.org/packages/gypsum
git_branch: devel
git_last_commit: c2d990c
git_last_commit_date: 2024-10-29 11:27:28 -0500 (Tue, 29 Oct 2024)
teran2Linux (Ubuntu 24.04.1 LTS) / x86_64  OK    OK    OK  


CHECK results for gypsum on teran2

To the developers/maintainers of the gypsum package:
- Use the following Renviron settings to reproduce errors and warnings.
- If 'R CMD check' started to fail recently on the Linux builder(s) over a missing dependency, add the missing dependency to 'Suggests:' in your DESCRIPTION file. See Renviron.bioc for more information.

raw results


Summary

Package: gypsum
Version: 1.3.0
Command: /home/rapidbuild/bbs-3.21-bioc-rapid/R/bin/R CMD check --install=check:gypsum.install-out.txt --library=/home/rapidbuild/bbs-3.21-bioc-rapid/R/site-library --timings gypsum_1.3.0.tar.gz
StartedAt: 2025-02-05 08:52:53 -0500 (Wed, 05 Feb 2025)
EndedAt: 2025-02-05 08:53:47 -0500 (Wed, 05 Feb 2025)
EllapsedTime: 54.0 seconds
RetCode: 0
Status:   OK  
CheckDir: gypsum.Rcheck
Warnings: 0

Command output

##############################################################################
##############################################################################
###
### Running command:
###
###   /home/rapidbuild/bbs-3.21-bioc-rapid/R/bin/R CMD check --install=check:gypsum.install-out.txt --library=/home/rapidbuild/bbs-3.21-bioc-rapid/R/site-library --timings gypsum_1.3.0.tar.gz
###
##############################################################################
##############################################################################


* using log directory ‘/media/volume/teran2_disk/rapidbuild/bbs-3.21-bioc-rapid/meat/gypsum.Rcheck’
* using R Under development (unstable) (2025-01-20 r87609)
* using platform: x86_64-pc-linux-gnu
* R was compiled by
    gcc (Ubuntu 13.3.0-6ubuntu2~24.04) 13.3.0
    GNU Fortran (Ubuntu 13.3.0-6ubuntu2~24.04) 13.3.0
* running under: Ubuntu 24.04.1 LTS
* using session charset: UTF-8
* checking for file ‘gypsum/DESCRIPTION’ ... OK
* this is package ‘gypsum’ version ‘1.3.0’
* checking package namespace information ... OK
* checking package dependencies ... OK
* checking if this is a source package ... OK
* checking if there is a namespace ... OK
* checking for hidden files and directories ... OK
* checking for portable file names ... OK
* checking for sufficient/correct file permissions ... OK
* checking whether package ‘gypsum’ can be installed ... OK
* checking installed package size ... OK
* checking package directory ... OK
* checking ‘build’ directory ... OK
* checking DESCRIPTION meta-information ... NOTE
License stub is invalid DCF.
* checking top-level files ... OK
* checking for left-over files ... OK
* checking index information ... OK
* checking package subdirectories ... OK
* checking code files for non-ASCII characters ... OK
* checking R files for syntax errors ... OK
* checking whether the package can be loaded ... OK
* checking whether the package can be loaded with stated dependencies ... OK
* checking whether the package can be unloaded cleanly ... OK
* checking whether the namespace can be loaded with stated dependencies ... OK
* checking whether the namespace can be unloaded cleanly ... OK
* checking loading without being on the library search path ... OK
* checking dependencies in R code ... OK
* checking S3 generic/method consistency ... OK
* checking replacement functions ... OK
* checking foreign function calls ... OK
* checking R code for possible problems ... OK
* checking Rd files ... OK
* checking Rd metadata ... OK
* checking Rd cross-references ... OK
* checking for missing documentation entries ... OK
* checking for code/documentation mismatches ... OK
* checking Rd \usage sections ... OK
* checking Rd contents ... OK
* checking for unstated dependencies in examples ... OK
* checking files in ‘vignettes’ ... OK
* checking examples ... OK
* checking for unstated dependencies in ‘tests’ ... OK
* checking tests ...
  Running ‘testthat.R’
 OK
* checking for unstated dependencies in vignettes ... OK
* checking package vignettes ... OK
* checking re-building of vignette outputs ... OK
* checking PDF version of manual ... OK
* DONE

Status: 1 NOTE
See
  ‘/media/volume/teran2_disk/rapidbuild/bbs-3.21-bioc-rapid/meat/gypsum.Rcheck/00check.log’
for details.


Installation output

gypsum.Rcheck/00install.out

##############################################################################
##############################################################################
###
### Running command:
###
###   /home/rapidbuild/bbs-3.21-bioc-rapid/R/bin/R CMD INSTALL gypsum
###
##############################################################################
##############################################################################


* installing to library ‘/media/volume/teran2_disk/rapidbuild/bbs-3.21-bioc-rapid/R/site-library’
* installing *source* package ‘gypsum’ ...
** this is package ‘gypsum’ version ‘1.3.0’
** using staged installation
** R
** inst
** byte-compile and prepare package for lazy loading
** help
*** installing help indices
** building package indices
** installing vignettes
** testing if installed package can be loaded from temporary location
** testing if installed package can be loaded from final location
** testing if installed package keeps a record of temporary installation path
* DONE (gypsum)

Tests output

gypsum.Rcheck/tests/testthat.Rout


R Under development (unstable) (2025-01-20 r87609) -- "Unsuffered Consequences"
Copyright (C) 2025 The R Foundation for Statistical Computing
Platform: x86_64-pc-linux-gnu

R is free software and comes with ABSOLUTELY NO WARRANTY.
You are welcome to redistribute it under certain conditions.
Type 'license()' or 'licence()' for distribution details.

R is a collaborative project with many contributors.
Type 'contributors()' for more information and
'citation()' on how to cite R or R packages in publications.

Type 'demo()' for some demos, 'help()' for on-line help, or
'help.start()' for an HTML browser interface to help.
Type 'q()' to quit R.

> library(testthat)
> library(gypsum)
> test_check("gypsum")
[ FAIL 0 | WARN 0 | SKIP 13 | PASS 252 ]

══ Skipped tests (13) ══════════════════════════════════════════════════════════
• is.na(gh_token) is TRUE (13): 'test-accessToken.R:5:5', 'test-latest.R:5:5',
  'test-permissions.R:5:5', 'test-probation.R:5:5', 'test-probation.R:28:5',
  'test-quota.R:5:5', 'test-quota.R:23:5', 'test-remove.R:5:5',
  'test-unlockProject.R:5:5', 'test-upload.R:5:5', 'test-upload.R:55:5',
  'test-upload.R:89:5', 'test-upload.R:107:5'

[ FAIL 0 | WARN 0 | SKIP 13 | PASS 252 ]
> 
> proc.time()
   user  system elapsed 
  2.819   0.220  16.061 

Example timings

gypsum.Rcheck/gypsum-Ex.timings

nameusersystemelapsed
abortUpload0.0010.0000.001
accessToken000
approveProbation000
cacheDirectory0.0000.0000.001
cloneVersion0.0040.0000.015
completeUpload000
createProject000
fetchLatest0.0440.0040.229
fetchManifest0.0040.0000.007
fetchMetadataDatabase0.0560.0000.352
fetchMetadataSchema0.0000.0010.007
fetchPermissions0.0050.0020.131
fetchQuota0.0050.0010.128
fetchSummary0.0010.0000.002
fetchUsage0.0060.0000.144
formatObjectMetadata0.5670.0411.214
listAssets0.0060.0010.121
listFiles0.0060.0010.108
listProjects000
listVersions0.0050.0010.102
prepareDirectoryUpload0.0010.0010.005
publicS3Config0.0010.0000.003
refreshLatest000
refreshUsage000
rejectProbation0.0000.0010.000
removeAsset000
removeProject000
removeVersion0.0000.0000.006
resolveLinks0.0380.0040.800
restUrl0.0000.0000.005
saveFile0.0010.0000.001
saveVersion0.0000.0000.001
searchMetadata0.3640.0160.549
setPermissions0.0010.0000.000
setQuota0.0000.0010.000
startUpload0.0000.0000.006
translateTextQuery0.0330.0070.079
unlockProject000
uploadDirectory000
uploadFiles0.0010.0000.001
validateMetadata0.3000.0430.331