| Back to Rapid builds (Linux only) of a subset of BioC 3.23 Report updated every 6 hours |
This page was generated on 2025-11-04 16:03 -0500 (Tue, 04 Nov 2025).
| Hostname | OS | Arch (*) | R version | Installed pkgs |
|---|---|---|---|---|
| teran2 | Linux (Ubuntu 24.04.3 LTS) | x86_64 | R Under development (unstable) (2025-10-28 r88973) -- "Unsuffered Consequences" | 917 |
| Click on any hostname to see more info about the system (e.g. compilers) (*) as reported by 'uname -p', except on Windows and Mac OS X | ||||
| Package 200/230 | Hostname | OS / Arch | INSTALL | BUILD | CHECK | |||||||
| sesame 1.29.0 (landing page) Wanding Zhou
| teran2 | Linux (Ubuntu 24.04.3 LTS) / x86_64 | OK | OK | OK | |||||||
|
To the developers/maintainers of the sesame package: - Use the following Renviron settings to reproduce errors and warnings. - If 'R CMD check' started to fail recently on the Linux builder(s) over a missing dependency, add the missing dependency to 'Suggests:' in your DESCRIPTION file. See Renviron.bioc for more information. |
| Package: sesame |
| Version: 1.29.0 |
| Command: /home/rapidbuild/bbs-3.23-bioc-rapid/R/bin/R CMD check --install=check:sesame.install-out.txt --library=/home/rapidbuild/bbs-3.23-bioc-rapid/R/site-library --timings sesame_1.29.0.tar.gz |
| StartedAt: 2025-11-04 15:18:41 -0500 (Tue, 04 Nov 2025) |
| EndedAt: 2025-11-04 15:31:43 -0500 (Tue, 04 Nov 2025) |
| EllapsedTime: 781.5 seconds |
| RetCode: 0 |
| Status: OK |
| CheckDir: sesame.Rcheck |
| Warnings: 0 |
##############################################################################
##############################################################################
###
### Running command:
###
### /home/rapidbuild/bbs-3.23-bioc-rapid/R/bin/R CMD check --install=check:sesame.install-out.txt --library=/home/rapidbuild/bbs-3.23-bioc-rapid/R/site-library --timings sesame_1.29.0.tar.gz
###
##############################################################################
##############################################################################
* using log directory ‘/media/volume/teran2_disk/rapidbuild/bbs-3.23-bioc-rapid/meat/sesame.Rcheck’
* using R Under development (unstable) (2025-10-28 r88973)
* using platform: x86_64-pc-linux-gnu
* R was compiled by
gcc (Ubuntu 13.3.0-6ubuntu2~24.04) 13.3.0
GNU Fortran (Ubuntu 13.3.0-6ubuntu2~24.04) 13.3.0
* running under: Ubuntu 24.04.3 LTS
* using session charset: UTF-8
* checking for file ‘sesame/DESCRIPTION’ ... OK
* checking extension type ... Package
* this is package ‘sesame’ version ‘1.29.0’
* package encoding: UTF-8
* checking CRAN incoming feasibility ... NOTE
Maintainer: ‘Wanding Zhou <zhouwanding@gmail.com>’
Unknown, possibly misspelled, fields in DESCRIPTION:
‘git_url’ ‘git_branch’ ‘git_last_commit’ ‘git_last_commit_date’
The Title field should be in title case. Current version is:
‘SEnsible Step-wise Analysis of DNA MEthylation BeadChips’
In title case that is:
‘SEnsible Step-Wise Analysis of DNA MEthylation BeadChips’
Size of tarball: 17013905 bytes
* checking package namespace information ... OK
* checking package dependencies ... OK
* checking if this is a source package ... OK
* checking if there is a namespace ... OK
* checking for hidden files and directories ... OK
* checking for portable file names ... OK
* checking for sufficient/correct file permissions ... OK
* checking whether package ‘sesame’ can be installed ... OK
* checking installed package size ... OK
* checking package directory ... OK
* checking ‘build’ directory ... OK
* checking DESCRIPTION meta-information ... OK
* checking top-level files ... OK
* checking for left-over files ... OK
* checking index information ... OK
* checking package subdirectories ... OK
* checking code files for non-ASCII characters ... OK
* checking R files for syntax errors ... OK
* checking whether the package can be loaded ... OK
* checking whether the package can be loaded with stated dependencies ... OK
* checking whether the package can be unloaded cleanly ... OK
* checking whether the namespace can be loaded with stated dependencies ... OK
* checking whether the namespace can be unloaded cleanly ... OK
* checking loading without being on the library search path ... OK
* checking whether startup messages can be suppressed ... OK
* checking use of S3 registration ... OK
* checking dependencies in R code ... OK
* checking S3 generic/method consistency ... OK
* checking replacement functions ... OK
* checking foreign function calls ... OK
* checking R code for possible problems ... OK
* checking Rd files ... OK
* checking Rd metadata ... OK
* checking Rd cross-references ... OK
* checking for missing documentation entries ... OK
* checking for code/documentation mismatches ... OK
* checking Rd \usage sections ... OK
* checking Rd contents ... OK
* checking for unstated dependencies in examples ... OK
* checking files in ‘vignettes’ ... OK
* checking examples ... NOTE
Examples with CPU (user + system) or elapsed time > 5s
user system elapsed
imputeBetasByGenomicNeighbors 25.320 0.741 26.101
imputeBetas 14.973 0.563 15.862
inferSex 15.030 0.123 15.165
ELBAR 12.636 0.152 12.804
sesameQC_calcStats 12.685 0.010 12.700
inferSpecies 11.243 0.757 12.009
sesameQC_plotHeatSNPs 11.423 0.029 11.456
diffRefSet 10.805 0.146 10.956
getRefSet 9.701 0.096 9.801
compareMouseStrainReference 9.044 0.079 9.128
compareReference 8.843 0.153 9.002
sesameQC_plotBar 8.211 0.085 8.324
matchDesign 7.305 0.038 7.349
DMR 6.945 0.145 7.096
inferStrain 5.847 0.673 6.522
sesameQC_plotBetaByDesign 5.857 0.000 5.860
DML 5.369 0.251 5.631
visualizeGene 5.312 0.089 5.409
dyeBiasCorrMostBalanced 5.113 0.117 5.238
estimateLeukocyte 4.902 0.142 5.067
* checking for unstated dependencies in ‘tests’ ... OK
* checking tests ...
Running ‘testthat.R’
OK
* checking for unstated dependencies in vignettes ... OK
* checking package vignettes ... OK
* checking re-building of vignette outputs ... OK
* checking PDF version of manual ... OK
* DONE
Status: 2 NOTEs
See
‘/media/volume/teran2_disk/rapidbuild/bbs-3.23-bioc-rapid/meat/sesame.Rcheck/00check.log’
for details.
sesame.Rcheck/00install.out
############################################################################## ############################################################################## ### ### Running command: ### ### /home/rapidbuild/bbs-3.23-bioc-rapid/R/bin/R CMD INSTALL sesame ### ############################################################################## ############################################################################## * installing to library ‘/media/volume/teran2_disk/rapidbuild/bbs-3.23-bioc-rapid/R/site-library’ * installing *source* package ‘sesame’ ... ** this is package ‘sesame’ version ‘1.29.0’ ** using staged installation ** R ** inst ** byte-compile and prepare package for lazy loading ** help *** installing help indices ** building package indices ** installing vignettes ** testing if installed package can be loaded from temporary location ** testing if installed package can be loaded from final location ** testing if installed package keeps a record of temporary installation path * DONE (sesame)
sesame.Rcheck/tests/testthat.Rout
R Under development (unstable) (2025-10-28 r88973) -- "Unsuffered Consequences"
Copyright (C) 2025 The R Foundation for Statistical Computing
Platform: x86_64-pc-linux-gnu
R is free software and comes with ABSOLUTELY NO WARRANTY.
You are welcome to redistribute it under certain conditions.
Type 'license()' or 'licence()' for distribution details.
R is a collaborative project with many contributors.
Type 'contributors()' for more information and
'citation()' on how to cite R or R packages in publications.
Type 'demo()' for some demos, 'help()' for on-line help, or
'help.start()' for an HTML browser interface to help.
Type 'q()' to quit R.
> library(testthat)
> library(sesame)
Loading required package: sesameData
Loading required package: ExperimentHub
Loading required package: BiocGenerics
Loading required package: generics
Attaching package: 'generics'
The following objects are masked from 'package:base':
as.difftime, as.factor, as.ordered, intersect, is.element, setdiff,
setequal, union
Attaching package: 'BiocGenerics'
The following objects are masked from 'package:stats':
IQR, mad, sd, var, xtabs
The following objects are masked from 'package:base':
Filter, Find, Map, Position, Reduce, anyDuplicated, aperm, append,
as.data.frame, basename, cbind, colnames, dirname, do.call,
duplicated, eval, evalq, get, grep, grepl, is.unsorted, lapply,
mapply, match, mget, order, paste, pmax, pmax.int, pmin, pmin.int,
rank, rbind, rownames, sapply, saveRDS, table, tapply, unique,
unsplit, which.max, which.min
Loading required package: AnnotationHub
Loading required package: BiocFileCache
Loading required package: dbplyr
Loading sesameData.
----------------------------------------------------------
| SEnsible Step-wise Analysis of DNA MEthylation (SeSAMe)
| --------------------------------------------------------
| Please cache auxiliary data by "sesameDataCache()".
| This needs to be done only once per SeSAMe installation.
----------------------------------------------------------
>
> test_check("sesame")
[ FAIL 0 | WARN 0 | SKIP 0 | PASS 5 ]
>
> proc.time()
user system elapsed
13.139 0.788 13.915
sesame.Rcheck/sesame-Ex.timings
| name | user | system | elapsed | |
| BetaValueToMValue | 0 | 0 | 0 | |
| DML | 5.369 | 0.251 | 5.631 | |
| DMLpredict | 0.720 | 0.034 | 0.753 | |
| DMR | 6.945 | 0.145 | 7.096 | |
| ELBAR | 12.636 | 0.152 | 12.804 | |
| MValueToBetaValue | 0.000 | 0.001 | 0.000 | |
| SigDF | 0.190 | 0.015 | 0.206 | |
| addMask | 0.049 | 0.000 | 0.050 | |
| betasCollapseToPfx | 0.009 | 0.001 | 0.010 | |
| bisConversionControl | 3.244 | 0.047 | 3.295 | |
| calcEffectSize | 0.706 | 0.033 | 0.739 | |
| checkLevels | 2.577 | 0.049 | 2.639 | |
| cnSegmentation | 0.173 | 0.016 | 0.189 | |
| compareMouseStrainReference | 9.044 | 0.079 | 9.128 | |
| compareMouseTissueReference | 0 | 0 | 0 | |
| compareReference | 8.843 | 0.153 | 9.002 | |
| controls | 1.203 | 0.045 | 1.248 | |
| createUCSCtrack | 3.830 | 0.158 | 3.993 | |
| deIdentify | 3.854 | 0.064 | 3.944 | |
| detectionPnegEcdf | 0.679 | 0.003 | 0.682 | |
| diffRefSet | 10.805 | 0.146 | 10.956 | |
| dmContrasts | 1.926 | 0.031 | 1.959 | |
| dyeBiasCorr | 1.835 | 0.053 | 1.889 | |
| dyeBiasCorrMostBalanced | 5.113 | 0.117 | 5.238 | |
| dyeBiasL | 2.192 | 0.086 | 2.279 | |
| dyeBiasNL | 4.847 | 0.128 | 4.974 | |
| estimateLeukocyte | 4.902 | 0.142 | 5.067 | |
| formatVCF | 1.282 | 0.045 | 1.329 | |
| getAFTypeIbySumAlleles | 1.032 | 0.052 | 1.087 | |
| getAFs | 0.686 | 0.026 | 0.713 | |
| getBetas | 0.783 | 0.012 | 0.796 | |
| getMask | 4.029 | 0.126 | 4.165 | |
| getRefSet | 9.701 | 0.096 | 9.801 | |
| imputeBetas | 14.973 | 0.563 | 15.862 | |
| imputeBetasByGenomicNeighbors | 25.320 | 0.741 | 26.101 | |
| imputeBetasMatrixByMean | 0.002 | 0.000 | 0.001 | |
| inferEthnicity | 0.001 | 0.000 | 0.001 | |
| inferInfiniumIChannel | 0.166 | 0.126 | 0.292 | |
| inferSex | 15.030 | 0.123 | 15.165 | |
| inferSpecies | 11.243 | 0.757 | 12.009 | |
| inferStrain | 5.847 | 0.673 | 6.522 | |
| inferTissue | 4.018 | 0.203 | 4.223 | |
| initFileSet | 0.601 | 0.027 | 0.628 | |
| listAvailableMasks | 0.618 | 0.023 | 0.642 | |
| mLiftOver | 0 | 0 | 0 | |
| mapFileSet | 0.024 | 0.000 | 0.023 | |
| mapToMammal40 | 1.320 | 0.061 | 1.386 | |
| matchDesign | 7.305 | 0.038 | 7.349 | |
| meanIntensity | 1.483 | 0.040 | 1.524 | |
| medianTotalIntensity | 0.461 | 0.008 | 0.469 | |
| noMasked | 1.980 | 0.047 | 2.028 | |
| noob | 1.311 | 0.011 | 1.322 | |
| openSesame | 2.973 | 0.063 | 3.049 | |
| openSesameToFile | 0.815 | 0.003 | 0.818 | |
| pOOBAH | 0.798 | 0.000 | 0.798 | |
| palgen | 0.024 | 0.003 | 0.032 | |
| parseGEOsignalMU | 1.788 | 0.038 | 1.832 | |
| predictAge | 1.329 | 0.038 | 1.367 | |
| predictAgeHorvath353 | 0 | 0 | 0 | |
| predictAgeSkinBlood | 0 | 0 | 0 | |
| predictMouseAgeInMonth | 0 | 0 | 0 | |
| prefixMask | 0.264 | 0.000 | 0.264 | |
| prefixMaskButC | 0.071 | 0.000 | 0.071 | |
| prefixMaskButCG | 0.027 | 0.000 | 0.027 | |
| prepSesame | 2.042 | 0.025 | 2.067 | |
| prepSesameList | 0.001 | 0.001 | 0.001 | |
| print.DMLSummary | 2.172 | 0.050 | 2.223 | |
| print.fileSet | 0.617 | 0.026 | 0.643 | |
| probeID_designType | 0 | 0 | 0 | |
| probeSuccessRate | 2.869 | 0.068 | 2.937 | |
| qualityMask | 1.136 | 0.040 | 1.175 | |
| reIdentify | 2.770 | 0.024 | 2.796 | |
| readFileSet | 0.042 | 0.000 | 0.043 | |
| readIDATpair | 0.060 | 0.002 | 0.063 | |
| recommendedMaskNames | 0 | 0 | 0 | |
| resetMask | 0.218 | 0.016 | 0.233 | |
| scrub | 1.478 | 0.000 | 1.479 | |
| scrubSoft | 2.163 | 0.001 | 2.164 | |
| sdfPlatform | 0.180 | 0.007 | 0.187 | |
| sdf_read_table | 4.676 | 0.086 | 4.765 | |
| sdf_write_table | 1.100 | 0.081 | 1.196 | |
| searchIDATprefixes | 0.002 | 0.001 | 0.010 | |
| sesame-package | 1.418 | 0.026 | 1.445 | |
| sesameAnno_attachManifest | 0 | 0 | 0 | |
| sesameAnno_buildAddressFile | 0 | 0 | 0 | |
| sesameAnno_buildManifestGRanges | 0 | 0 | 0 | |
| sesameAnno_download | 0 | 0 | 0 | |
| sesameAnno_readManifestTSV | 0 | 0 | 0 | |
| sesameQC_calcStats | 12.685 | 0.010 | 12.700 | |
| sesameQC_getStats | 1.238 | 0.000 | 1.238 | |
| sesameQC_plotBar | 8.211 | 0.085 | 8.324 | |
| sesameQC_plotBetaByDesign | 5.857 | 0.000 | 5.860 | |
| sesameQC_plotHeatSNPs | 11.423 | 0.029 | 11.456 | |
| sesameQC_plotIntensVsBetas | 1.062 | 0.010 | 1.072 | |
| sesameQC_plotRedGrnQQ | 0.925 | 0.040 | 0.965 | |
| sesameQC_rankStats | 1.951 | 0.034 | 1.988 | |
| sesameQCtoDF | 1.15 | 0.00 | 1.15 | |
| sesame_checkVersion | 0.004 | 0.000 | 0.003 | |
| sesamize | 0 | 0 | 0 | |
| setMask | 0.057 | 0.000 | 0.058 | |
| signalMU | 1.998 | 0.018 | 2.016 | |
| sliceFileSet | 0.023 | 0.001 | 0.024 | |
| summaryExtractTest | 1.742 | 0.045 | 1.788 | |
| totalIntensities | 1.337 | 0.042 | 1.381 | |
| updateSigDF | 1.677 | 0.058 | 1.737 | |
| visualizeGene | 5.312 | 0.089 | 5.409 | |
| visualizeProbes | 0.749 | 0.001 | 0.750 | |
| visualizeRegion | 0.210 | 0.001 | 0.211 | |
| visualizeSegments | 1.421 | 0.009 | 1.431 | |