| Back to Rapid builds (Linux only) of a subset of BioC 3.22 Report updated every 6 hours |
This page was generated on 2025-10-23 10:08 -0400 (Thu, 23 Oct 2025).
| Hostname | OS | Arch (*) | R version | Installed pkgs |
|---|---|---|---|---|
| teran2 | Linux (Ubuntu 24.04.3 LTS) | x86_64 | 4.5.1 (2025-06-13) -- "Great Square Root" | 926 |
| Click on any hostname to see more info about the system (e.g. compilers) (*) as reported by 'uname -p', except on Windows and Mac OS X | ||||
| Package 186/229 | Hostname | OS / Arch | INSTALL | BUILD | CHECK | |||||||
| rpx 2.17.0 (landing page) Laurent Gatto
| teran2 | Linux (Ubuntu 24.04.3 LTS) / x86_64 | OK | OK | OK | |||||||
|
To the developers/maintainers of the rpx package: - Use the following Renviron settings to reproduce errors and warnings. - If 'R CMD check' started to fail recently on the Linux builder(s) over a missing dependency, add the missing dependency to 'Suggests:' in your DESCRIPTION file. See Renviron.bioc for more information. |
| Package: rpx |
| Version: 2.17.0 |
| Command: /home/rapidbuild/bbs-3.22-bioc-rapid/R/bin/R CMD build --keep-empty-dirs --no-resave-data rpx |
| StartedAt: 2025-10-23 07:22:40 -0400 (Thu, 23 Oct 2025) |
| EndedAt: 2025-10-23 07:22:51 -0400 (Thu, 23 Oct 2025) |
| EllapsedTime: 11.0 seconds |
| RetCode: 0 |
| Status: OK |
| PackageFile: rpx_2.17.0.tar.gz |
| PackageFileSize: 316.8 KiB |
############################################################################## ############################################################################## ### ### Running command: ### ### /home/rapidbuild/bbs-3.22-bioc-rapid/R/bin/R CMD build --keep-empty-dirs --no-resave-data rpx ### ############################################################################## ############################################################################## * checking for file ‘rpx/DESCRIPTION’ ... OK * preparing ‘rpx’: * checking DESCRIPTION meta-information ... OK * installing the package to build vignettes * creating vignettes ... OK * checking for LF line-endings in source and make files and shell scripts * checking for empty or unneeded directories * building ‘rpx_2.17.0.tar.gz’