| Back to Rapid builds (Linux only) of a subset of BioC 3.22 Report updated every 6 hours |
This page was generated on 2025-10-24 10:06 -0400 (Fri, 24 Oct 2025).
| Hostname | OS | Arch (*) | R version | Installed pkgs |
|---|---|---|---|---|
| teran2 | Linux (Ubuntu 24.04.3 LTS) | x86_64 | 4.5.1 (2025-06-13) -- "Great Square Root" | 926 |
| Click on any hostname to see more info about the system (e.g. compilers) (*) as reported by 'uname -p', except on Windows and Mac OS X | ||||
| Package 142/229 | Hostname | OS / Arch | INSTALL | BUILD | CHECK | |||||||
| microRNA 1.67.0 (landing page) "Michael Lawrence"
| teran2 | Linux (Ubuntu 24.04.3 LTS) / x86_64 | OK | OK | OK | |||||||
|
To the developers/maintainers of the microRNA package: - Use the following Renviron settings to reproduce errors and warnings. - If 'R CMD check' started to fail recently on the Linux builder(s) over a missing dependency, add the missing dependency to 'Suggests:' in your DESCRIPTION file. See Renviron.bioc for more information. |
| Package: microRNA |
| Version: 1.67.0 |
| Command: /home/rapidbuild/bbs-3.22-bioc-rapid/R/bin/R CMD INSTALL microRNA |
| StartedAt: 2025-10-24 06:13:06 -0400 (Fri, 24 Oct 2025) |
| EndedAt: 2025-10-24 06:13:15 -0400 (Fri, 24 Oct 2025) |
| EllapsedTime: 8.4 seconds |
| RetCode: 0 |
| Status: OK |
##############################################################################
##############################################################################
###
### Running command:
###
### /home/rapidbuild/bbs-3.22-bioc-rapid/R/bin/R CMD INSTALL microRNA
###
##############################################################################
##############################################################################
* installing to library ‘/media/volume/teran2_disk/rapidbuild/bbs-3.22-bioc-rapid/R/site-library’
* installing *source* package ‘microRNA’ ...
** this is package ‘microRNA’ version ‘1.67.0’
** using staged installation
** libs
using C++ compiler: ‘g++ (Ubuntu 13.3.0-6ubuntu2~24.04) 13.3.0’
g++ -std=gnu++17 -I"/home/rapidbuild/bbs-3.22-bioc-rapid/R/include" -DNDEBUG -I/usr/local/include -fpic -g -O2 -Wall -Werror=format-security -c longest_common_substring.cpp -o longest_common_substring.o
longest_common_substring.cpp: In function ‘SEXPREC* longest_common_substring(SEXP)’:
longest_common_substring.cpp:55:15: warning: comparison of integer expressions of different signedness: ‘size_t’ {aka ‘long unsigned int’} and ‘__gnu_cxx::__alloc_traits<std::allocator<int>, int>::value_type’ {aka ‘int’} [-Wsign-compare]
55 | if (i == len[index] - 1) { // ignore null termination character
| ~~^~~~~~~~~~~~~~~~~
g++ -std=gnu++17 -shared -L/usr/local/lib -o microRNA.so longest_common_substring.o
installing to /media/volume/teran2_disk/rapidbuild/bbs-3.22-bioc-rapid/R/site-library/00LOCK-microRNA/00new/microRNA/libs
** R
** data
** inst
** byte-compile and prepare package for lazy loading
** help
*** installing help indices
** building package indices
** testing if installed package can be loaded from temporary location
** checking absolute paths in shared objects and dynamic libraries
** testing if installed package can be loaded from final location
** testing if installed package keeps a record of temporary installation path
* DONE (microRNA)