| Back to Rapid builds (Linux only) of a subset of BioC 3.23 Report updated every 6 hours |
This page was generated on 2025-11-05 10:18 -0500 (Wed, 05 Nov 2025).
| Hostname | OS | Arch (*) | R version | Installed pkgs |
|---|---|---|---|---|
| teran2 | Linux (Ubuntu 24.04.3 LTS) | x86_64 | R Under development (unstable) (2025-10-28 r88973) -- "Unsuffered Consequences" | 917 |
| Click on any hostname to see more info about the system (e.g. compilers) (*) as reported by 'uname -p', except on Windows and Mac OS X | ||||
| Package 126/230 | Hostname | OS / Arch | INSTALL | BUILD | CHECK | |||||||
Bioconductor Package Maintainer
| teran2 | Linux (Ubuntu 24.04.3 LTS) / x86_64 | OK | OK | OK | |||||||
|
To the developers/maintainers of the interactiveDisplay package: - Use the following Renviron settings to reproduce errors and warnings. - If 'R CMD check' started to fail recently on the Linux builder(s) over a missing dependency, add the missing dependency to 'Suggests:' in your DESCRIPTION file. See Renviron.bioc for more information. |
| Package: interactiveDisplay |
| Version: 1.49.0 |
| Command: /home/rapidbuild/bbs-3.23-bioc-rapid/R/bin/R CMD INSTALL interactiveDisplay |
| StartedAt: 2025-11-05 06:17:46 -0500 (Wed, 05 Nov 2025) |
| EndedAt: 2025-11-05 06:18:06 -0500 (Wed, 05 Nov 2025) |
| EllapsedTime: 19.9 seconds |
| RetCode: 0 |
| Status: OK |
############################################################################## ############################################################################## ### ### Running command: ### ### /home/rapidbuild/bbs-3.23-bioc-rapid/R/bin/R CMD INSTALL interactiveDisplay ### ############################################################################## ############################################################################## * installing to library ‘/media/volume/teran2_disk/rapidbuild/bbs-3.23-bioc-rapid/R/site-library’ * installing *source* package ‘interactiveDisplay’ ... ** this is package ‘interactiveDisplay’ version ‘1.49.0’ ** using staged installation ** R ** data ** inst ** byte-compile and prepare package for lazy loading in method for ‘display’ with signature ‘object="GRanges"’: no definition for class “GRanges” in method for ‘display’ with signature ‘object="GRangesList"’: no definition for class “GRangesList” in method for ‘display’ with signature ‘object="RangedSummarizedExperiment"’: no definition for class “RangedSummarizedExperiment” in method for ‘display’ with signature ‘object="MRexperiment"’: no definition for class “MRexperiment” ** help *** installing help indices ** building package indices ** installing vignettes ** testing if installed package can be loaded from temporary location Warning in fun(libname, pkgname) : Package 'interactiveDisplay' is deprecated and will be removed from Bioconductor version 3.23 ** testing if installed package can be loaded from final location Warning in fun(libname, pkgname) : Package 'interactiveDisplay' is deprecated and will be removed from Bioconductor version 3.23 ** testing if installed package keeps a record of temporary installation path * DONE (interactiveDisplay)