Back to Rapid builds (Linux only) of a subset of BioC 3.21 Report updated every 6 hours |
This page was generated on 2025-02-06 10:01 -0500 (Thu, 06 Feb 2025).
Hostname | OS | Arch (*) | R version | Installed pkgs |
---|---|---|---|---|
teran2 | Linux (Ubuntu 24.04.1 LTS) | x86_64 | R Under development (unstable) (2025-01-20 r87609) -- "Unsuffered Consequences" | 869 |
Click on any hostname to see more info about the system (e.g. compilers) (*) as reported by 'uname -p', except on Windows and Mac OS X |
Package 101/217 | Hostname | OS / Arch | INSTALL | BUILD | CHECK | |||||||
ggtree 3.15.0 (landing page) Guangchuang Yu
| teran2 | Linux (Ubuntu 24.04.1 LTS) / x86_64 | OK | OK | OK | |||||||
To the developers/maintainers of the ggtree package: - Use the following Renviron settings to reproduce errors and warnings. - If 'R CMD check' started to fail recently on the Linux builder(s) over a missing dependency, add the missing dependency to 'Suggests:' in your DESCRIPTION file. See Renviron.bioc for more information. |
Package: ggtree |
Version: 3.15.0 |
Command: /home/rapidbuild/bbs-3.21-bioc-rapid/R/bin/R CMD check --install=check:ggtree.install-out.txt --library=/home/rapidbuild/bbs-3.21-bioc-rapid/R/site-library --timings ggtree_3.15.0.tar.gz |
StartedAt: 2025-02-06 08:47:41 -0500 (Thu, 06 Feb 2025) |
EndedAt: 2025-02-06 08:48:26 -0500 (Thu, 06 Feb 2025) |
EllapsedTime: 45.0 seconds |
RetCode: 0 |
Status: OK |
CheckDir: ggtree.Rcheck |
Warnings: 0 |
############################################################################## ############################################################################## ### ### Running command: ### ### /home/rapidbuild/bbs-3.21-bioc-rapid/R/bin/R CMD check --install=check:ggtree.install-out.txt --library=/home/rapidbuild/bbs-3.21-bioc-rapid/R/site-library --timings ggtree_3.15.0.tar.gz ### ############################################################################## ############################################################################## * using log directory ‘/media/volume/teran2_disk/rapidbuild/bbs-3.21-bioc-rapid/meat/ggtree.Rcheck’ * using R Under development (unstable) (2025-01-20 r87609) * using platform: x86_64-pc-linux-gnu * R was compiled by gcc (Ubuntu 13.3.0-6ubuntu2~24.04) 13.3.0 GNU Fortran (Ubuntu 13.3.0-6ubuntu2~24.04) 13.3.0 * running under: Ubuntu 24.04.1 LTS * using session charset: UTF-8 * checking for file ‘ggtree/DESCRIPTION’ ... OK * checking extension type ... Package * this is package ‘ggtree’ version ‘3.15.0’ * package encoding: UTF-8 * checking package namespace information ... OK * checking package dependencies ... OK * checking if this is a source package ... OK * checking if there is a namespace ... OK * checking for hidden files and directories ... OK * checking for portable file names ... OK * checking for sufficient/correct file permissions ... OK * checking whether package ‘ggtree’ can be installed ... OK * checking installed package size ... OK * checking package directory ... OK * checking ‘build’ directory ... OK * checking DESCRIPTION meta-information ... OK * checking top-level files ... OK * checking for left-over files ... OK * checking index information ... OK * checking package subdirectories ... OK * checking code files for non-ASCII characters ... OK * checking R files for syntax errors ... OK * checking whether the package can be loaded ... OK * checking whether the package can be loaded with stated dependencies ... OK * checking whether the package can be unloaded cleanly ... OK * checking whether the namespace can be loaded with stated dependencies ... OK * checking whether the namespace can be unloaded cleanly ... OK * checking loading without being on the library search path ... OK * checking whether startup messages can be suppressed ... OK * checking dependencies in R code ... OK * checking S3 generic/method consistency ... OK * checking replacement functions ... OK * checking foreign function calls ... OK * checking R code for possible problems ... OK * checking Rd files ... OK * checking Rd metadata ... OK * checking Rd cross-references ... OK * checking for missing documentation entries ... OK * checking for code/documentation mismatches ... OK * checking Rd \usage sections ... OK * checking Rd contents ... OK * checking for unstated dependencies in examples ... OK * checking files in ‘vignettes’ ... OK * checking examples ... OK * checking for unstated dependencies in ‘tests’ ... OK * checking tests ... Running ‘testthat.R’ OK * checking for unstated dependencies in vignettes ... OK * checking package vignettes ... OK * checking re-building of vignette outputs ... OK * checking PDF version of manual ... OK * DONE Status: OK
ggtree.Rcheck/00install.out
############################################################################## ############################################################################## ### ### Running command: ### ### /home/rapidbuild/bbs-3.21-bioc-rapid/R/bin/R CMD INSTALL ggtree ### ############################################################################## ############################################################################## * installing to library ‘/media/volume/teran2_disk/rapidbuild/bbs-3.21-bioc-rapid/R/site-library’ * installing *source* package ‘ggtree’ ... ** this is package ‘ggtree’ version ‘3.15.0’ ** using staged installation ** R ** inst ** byte-compile and prepare package for lazy loading ** help *** installing help indices ** building package indices ** installing vignettes ** testing if installed package can be loaded from temporary location ** testing if installed package can be loaded from final location ** testing if installed package keeps a record of temporary installation path * DONE (ggtree)
ggtree.Rcheck/tests/testthat.Rout
R Under development (unstable) (2025-01-20 r87609) -- "Unsuffered Consequences" Copyright (C) 2025 The R Foundation for Statistical Computing Platform: x86_64-pc-linux-gnu R is free software and comes with ABSOLUTELY NO WARRANTY. You are welcome to redistribute it under certain conditions. Type 'license()' or 'licence()' for distribution details. R is a collaborative project with many contributors. Type 'contributors()' for more information and 'citation()' on how to cite R or R packages in publications. Type 'demo()' for some demos, 'help()' for on-line help, or 'help.start()' for an HTML browser interface to help. Type 'q()' to quit R. > library(testthat) > library(ggtree) ggtree v3.15.0 Learn more at https://yulab-smu.top/contribution-tree-data/ Please cite: Shuangbin Xu, Lin Li, Xiao Luo, Meijun Chen, Wenli Tang, Li Zhan, Zehan Dai, Tommy T. Lam, Yi Guan, Guangchuang Yu. Ggtree: A serialized data object for visualization of a phylogenetic tree and annotation data. iMeta 2022, 1(4):e56. doi:10.1002/imt2.56 > > test_check("ggtree") [ FAIL 0 | WARN 3 | SKIP 0 | PASS 14 ] [ FAIL 0 | WARN 3 | SKIP 0 | PASS 14 ] > > proc.time() user system elapsed 1.409 0.176 1.571
ggtree.Rcheck/ggtree-Ex.timings
name | user | system | elapsed | |
collapse | 0.210 | 0.007 | 0.217 | |
expand | 0.100 | 0.002 | 0.102 | |
facet-plot | 0.177 | 0.001 | 0.178 | |
flip | 0.117 | 0.000 | 0.117 | |
geom-hilight | 1.227 | 0.037 | 1.263 | |
geom_balance | 0.156 | 0.001 | 0.157 | |
geom_cladelab | 0.403 | 0.000 | 0.408 | |
geom_label2 | 0.138 | 0.001 | 0.140 | |
geom_point2 | 0.538 | 0.001 | 0.542 | |
geom_rootedge | 0.420 | 0.002 | 0.423 | |
geom_rootpoint | 0.18 | 0.00 | 0.18 | |
geom_strip | 0.103 | 0.001 | 0.104 | |
geom_striplab | 0.131 | 0.000 | 0.132 | |
geom_tiplab | 0.104 | 0.000 | 0.104 | |
geom_tiplab2 | 0.151 | 0.002 | 0.153 | |
geom_tippoint | 0.091 | 0.002 | 0.093 | |
geom_tree | 0.077 | 0.002 | 0.079 | |
get_taxa_name | 0.023 | 0.000 | 0.022 | |
ggdensitree | 1.034 | 0.002 | 1.037 | |
ggexpand | 0.147 | 0.000 | 0.148 | |
ggtree-format-painter | 0.117 | 0.001 | 0.120 | |
ggtree | 0.095 | 0.000 | 0.095 | |
label_pad | 0.000 | 0.000 | 0.001 | |
open_tree | 0.147 | 0.000 | 0.148 | |
reexports | 0.15 | 0.00 | 0.15 | |
revts | 0.102 | 0.000 | 0.102 | |
rotate | 0.103 | 0.000 | 0.104 | |
rotate_tree | 0.146 | 0.001 | 0.148 | |
scaleClade | 0.123 | 0.000 | 0.123 | |
theme_tree | 0.104 | 0.000 | 0.104 | |
theme_tree2 | 0.104 | 0.001 | 0.106 | |
tree-layout | 0.634 | 0.001 | 0.635 | |
viewClade | 0.169 | 0.001 | 0.169 | |
xlim_expand | 0.174 | 0.001 | 0.174 | |
xlim_tree | 0.181 | 0.000 | 0.180 | |
zoomClade | 0 | 0 | 0 | |