| Back to Rapid builds (Linux only) of a subset of BioC 3.22 Report updated every 6 hours |
This page was generated on 2025-10-25 10:08 -0400 (Sat, 25 Oct 2025).
| Hostname | OS | Arch (*) | R version | Installed pkgs |
|---|---|---|---|---|
| teran2 | Linux (Ubuntu 24.04.3 LTS) | x86_64 | 4.5.1 (2025-06-13) -- "Great Square Root" | 926 |
| Click on any hostname to see more info about the system (e.g. compilers) (*) as reported by 'uname -p', except on Windows and Mac OS X | ||||
| Package 228/229 | Hostname | OS / Arch | INSTALL | BUILD | CHECK | |||||||
| XVector 0.49.1 (landing page) Hervé Pagès
| teran2 | Linux (Ubuntu 24.04.3 LTS) / x86_64 | OK | OK | WARNINGS | |||||||
|
To the developers/maintainers of the XVector package: - Use the following Renviron settings to reproduce errors and warnings. - If 'R CMD check' started to fail recently on the Linux builder(s) over a missing dependency, add the missing dependency to 'Suggests:' in your DESCRIPTION file. See Renviron.bioc for more information. |
| Package: XVector |
| Version: 0.49.1 |
| Command: /home/rapidbuild/bbs-3.22-bioc-rapid/R/bin/R CMD build --keep-empty-dirs --no-resave-data XVector |
| StartedAt: 2025-10-25 07:39:02 -0400 (Sat, 25 Oct 2025) |
| EndedAt: 2025-10-25 07:39:03 -0400 (Sat, 25 Oct 2025) |
| EllapsedTime: 1.0 seconds |
| RetCode: 0 |
| Status: OK |
| PackageFile: XVector_0.49.1.tar.gz |
| PackageFileSize: 66.32 KiB |
############################################################################## ############################################################################## ### ### Running command: ### ### /home/rapidbuild/bbs-3.22-bioc-rapid/R/bin/R CMD build --keep-empty-dirs --no-resave-data XVector ### ############################################################################## ############################################################################## * checking for file ‘XVector/DESCRIPTION’ ... OK * preparing ‘XVector’: * checking DESCRIPTION meta-information ... OK * cleaning src * checking for LF line-endings in source and make files and shell scripts * checking for empty or unneeded directories * building ‘XVector_0.49.1.tar.gz’