| Back to Rapid builds (Linux only) of a subset of BioC 3.22 Report updated every 6 hours |
This page was generated on 2025-10-23 10:08 -0400 (Thu, 23 Oct 2025).
| Hostname | OS | Arch (*) | R version | Installed pkgs |
|---|---|---|---|---|
| teran2 | Linux (Ubuntu 24.04.3 LTS) | x86_64 | 4.5.1 (2025-06-13) -- "Great Square Root" | 926 |
| Click on any hostname to see more info about the system (e.g. compilers) (*) as reported by 'uname -p', except on Windows and Mac OS X | ||||
| Package 215/229 | Hostname | OS / Arch | INSTALL | BUILD | CHECK | |||||||
| TFBSTools 1.47.1 (landing page) Ge Tan
| teran2 | Linux (Ubuntu 24.04.3 LTS) / x86_64 | OK | OK | OK | |||||||
|
To the developers/maintainers of the TFBSTools package: - Use the following Renviron settings to reproduce errors and warnings. - If 'R CMD check' started to fail recently on the Linux builder(s) over a missing dependency, add the missing dependency to 'Suggests:' in your DESCRIPTION file. See Renviron.bioc for more information. |
| Package: TFBSTools |
| Version: 1.47.1 |
| Command: /home/rapidbuild/bbs-3.22-bioc-rapid/R/bin/R CMD check --install=check:TFBSTools.install-out.txt --library=/home/rapidbuild/bbs-3.22-bioc-rapid/R/site-library --timings TFBSTools_1.47.1.tar.gz |
| StartedAt: 2025-10-23 09:38:13 -0400 (Thu, 23 Oct 2025) |
| EndedAt: 2025-10-23 09:43:10 -0400 (Thu, 23 Oct 2025) |
| EllapsedTime: 296.6 seconds |
| RetCode: 0 |
| Status: OK |
| CheckDir: TFBSTools.Rcheck |
| Warnings: 0 |
##############################################################################
##############################################################################
###
### Running command:
###
### /home/rapidbuild/bbs-3.22-bioc-rapid/R/bin/R CMD check --install=check:TFBSTools.install-out.txt --library=/home/rapidbuild/bbs-3.22-bioc-rapid/R/site-library --timings TFBSTools_1.47.1.tar.gz
###
##############################################################################
##############################################################################
* using log directory ‘/media/volume/teran2_disk/rapidbuild/bbs-3.22-bioc-rapid/meat/TFBSTools.Rcheck’
* using R version 4.5.1 (2025-06-13)
* using platform: x86_64-pc-linux-gnu
* R was compiled by
gcc (Ubuntu 13.3.0-6ubuntu2~24.04) 13.3.0
GNU Fortran (Ubuntu 13.3.0-6ubuntu2~24.04) 13.3.0
* running under: Ubuntu 24.04.3 LTS
* using session charset: UTF-8
* checking for file ‘TFBSTools/DESCRIPTION’ ... OK
* checking extension type ... Package
* this is package ‘TFBSTools’ version ‘1.47.1’
* checking package namespace information ... OK
* checking package dependencies ... OK
* checking if this is a source package ... OK
* checking if there is a namespace ... OK
* checking for hidden files and directories ... OK
* checking for portable file names ... OK
* checking for sufficient/correct file permissions ... OK
* checking whether package ‘TFBSTools’ can be installed ... OK
* used C compiler: ‘gcc (Ubuntu 13.3.0-6ubuntu2~24.04) 13.3.0’
* checking installed package size ... OK
* checking package directory ... OK
* checking ‘build’ directory ... OK
* checking DESCRIPTION meta-information ... OK
* checking top-level files ... OK
* checking for left-over files ... OK
* checking index information ... OK
* checking package subdirectories ... OK
* checking code files for non-ASCII characters ... OK
* checking R files for syntax errors ... OK
* checking whether the package can be loaded ... OK
* checking whether the package can be loaded with stated dependencies ... OK
* checking whether the package can be unloaded cleanly ... OK
* checking whether the namespace can be loaded with stated dependencies ... OK
* checking whether the namespace can be unloaded cleanly ... OK
* checking loading without being on the library search path ... OK
* checking dependencies in R code ... NOTE
Unexported objects imported by ':::' calls:
‘S4Vectors:::new_SimpleList_from_list’ ‘seqLogo:::pwm2ic’
See the note in ?`:::` about the use of this operator.
* checking S3 generic/method consistency ... OK
* checking replacement functions ... OK
* checking foreign function calls ... OK
* checking R code for possible problems ... OK
* checking Rd files ... OK
* checking Rd metadata ... OK
* checking Rd cross-references ... NOTE
Found the following Rd file(s) with Rd \link{} targets missing package
anchors:
toICM-methods.Rd: DNAStringSet
toPWM-methods.Rd: DNAStringSet
Please provide package anchors for all Rd \link{} targets not in the
package itself and the base packages.
* checking for missing documentation entries ... OK
* checking for code/documentation mismatches ... OK
* checking Rd \usage sections ... OK
* checking Rd contents ... OK
* checking for unstated dependencies in examples ... OK
* checking contents of ‘data’ directory ... OK
* checking data for non-ASCII characters ... OK
* checking LazyData ... OK
* checking data for ASCII and uncompressed saves ... OK
* checking line endings in C/C++/Fortran sources/headers ... OK
* checking line endings in Makefiles ... OK
* checking compilation flags in Makevars ... OK
* checking for GNU extensions in Makefiles ... OK
* checking for portable use of $(BLAS_LIBS) and $(LAPACK_LIBS) ... OK
* checking use of PKG_*FLAGS in Makefiles ... OK
* checking compiled code ... NOTE
Note: information on .o files is not available
* checking files in ‘vignettes’ ... OK
* checking examples ... OK
Examples with CPU (user + system) or elapsed time > 5s
user system elapsed
SiteSetList-class 48.813 0.067 48.884
* checking for unstated dependencies in ‘tests’ ... OK
* checking tests ...
Running ‘testthat.R’
OK
* checking for unstated dependencies in vignettes ... OK
* checking package vignettes ... OK
* checking re-building of vignette outputs ... OK
* checking PDF version of manual ... OK
* DONE
Status: 3 NOTEs
See
‘/media/volume/teran2_disk/rapidbuild/bbs-3.22-bioc-rapid/meat/TFBSTools.Rcheck/00check.log’
for details.
TFBSTools.Rcheck/00install.out
##############################################################################
##############################################################################
###
### Running command:
###
### /home/rapidbuild/bbs-3.22-bioc-rapid/R/bin/R CMD INSTALL TFBSTools
###
##############################################################################
##############################################################################
* installing to library ‘/media/volume/teran2_disk/rapidbuild/bbs-3.22-bioc-rapid/R/site-library’
* installing *source* package ‘TFBSTools’ ...
** this is package ‘TFBSTools’ version ‘1.47.1’
** using staged installation
** libs
using C compiler: ‘gcc (Ubuntu 13.3.0-6ubuntu2~24.04) 13.3.0’
gcc -std=gnu2x -I"/home/rapidbuild/bbs-3.22-bioc-rapid/R/include" -DNDEBUG -I/usr/local/include -fpic -g -O2 -Wall -Werror=format-security -c matrixAlignerDynamic.c -o matrixAlignerDynamic.o
matrixAlignerDynamic.c: In function ‘score’:
matrixAlignerDynamic.c:235:22: warning: ‘best_pntr’ may be used uninitialized [-Wmaybe-uninitialized]
235 | while (current_pntr->father != NULL){ // while the father of the current pointer exists, walk through the best posible alignment
| ~~~~~~~~~~~~^~~~~~~~
matrixAlignerDynamic.c:115:17: note: ‘best_pntr’ was declared here
115 | struct entry *best_pntr; // pointer to the best entry so far
| ^~~~~~~~~
gcc -std=gnu2x -I"/home/rapidbuild/bbs-3.22-bioc-rapid/R/include" -DNDEBUG -I/usr/local/include -fpic -g -O2 -Wall -Werror=format-security -c R_init_TFBSTools.c -o R_init_TFBSTools.o
gcc -std=gnu2x -shared -L/usr/local/lib -o TFBSTools.so matrixAlignerDynamic.o R_init_TFBSTools.o
installing to /media/volume/teran2_disk/rapidbuild/bbs-3.22-bioc-rapid/R/site-library/00LOCK-TFBSTools/00new/TFBSTools/libs
** R
** data
*** moving datasets to lazyload DB
** inst
** byte-compile and prepare package for lazy loading
Creating a new generic function for ‘seqLogo’ in package ‘TFBSTools’
Creating a new generic function for ‘pattern’ in package ‘TFBSTools’
Creating a generic function for ‘colSums’ from package ‘base’ in package ‘TFBSTools’
Creating a generic function for ‘rowSums’ from package ‘base’ in package ‘TFBSTools’
** help
*** installing help indices
** building package indices
** installing vignettes
** testing if installed package can be loaded from temporary location
** checking absolute paths in shared objects and dynamic libraries
** testing if installed package can be loaded from final location
** testing if installed package keeps a record of temporary installation path
* DONE (TFBSTools)
TFBSTools.Rcheck/tests/testthat.Rout
R version 4.5.1 (2025-06-13) -- "Great Square Root"
Copyright (C) 2025 The R Foundation for Statistical Computing
Platform: x86_64-pc-linux-gnu
R is free software and comes with ABSOLUTELY NO WARRANTY.
You are welcome to redistribute it under certain conditions.
Type 'license()' or 'licence()' for distribution details.
R is a collaborative project with many contributors.
Type 'contributors()' for more information and
'citation()' on how to cite R or R packages in publications.
Type 'demo()' for some demos, 'help()' for on-line help, or
'help.start()' for an HTML browser interface to help.
Type 'q()' to quit R.
> library(testthat)
> library(TFBSTools)
>
> test_check("TFBSTools")
[ FAIL 0 | WARN 0 | SKIP 0 | PASS 34 ]
>
> proc.time()
user system elapsed
10.395 0.699 11.079
TFBSTools.Rcheck/TFBSTools-Ex.timings
| name | user | system | elapsed | |
| IUPAC2Matrix | 0 | 0 | 0 | |
| MA0004.1 | 0.003 | 0.001 | 0.003 | |
| MotifSet-class | 0.000 | 0.000 | 0.001 | |
| PFMSimilarity-methods | 0.159 | 0.033 | 0.245 | |
| PWMSimilarity-methods | 0.007 | 0.000 | 0.007 | |
| SiteSet-class | 4.914 | 0.085 | 4.999 | |
| SiteSetList-class | 48.813 | 0.067 | 48.884 | |
| TFFM-class | 0.018 | 0.000 | 0.019 | |
| XMatrix-class | 0.009 | 0.001 | 0.009 | |
| XMatrixList-class | 0.001 | 0.001 | 0.002 | |
| deleteMatrixHavingID-methods | 0.056 | 0.009 | 0.065 | |
| dmmEM-methods | 0 | 0 | 0 | |
| getEmissionProb | 0.114 | 0.001 | 0.116 | |
| getMatrixByID-methods | 0.105 | 0.005 | 0.132 | |
| getMatrixSet-methods | 0 | 0 | 0 | |
| getPosProb | 0.131 | 0.002 | 0.132 | |
| makeFlatFileDir | 0 | 0 | 0 | |
| parseMEMEOutput | 0.096 | 0.001 | 0.099 | |
| permuteMatrix-methods | 0.035 | 0.001 | 0.036 | |
| rPWMDmm-methods | 0 | 0 | 0 | |
| readJASPARMatrix | 0.007 | 0.001 | 0.010 | |
| readXMLTFFM | 0.014 | 0.000 | 0.013 | |
| runMEME-methods | 0 | 0 | 0 | |
| sampleRanges | 0.142 | 0.004 | 0.146 | |
| searchAln-methods | 1.217 | 0.006 | 1.223 | |
| searchPairBSgenome-methods | 0 | 0 | 0 | |
| searchSeq-methods | 0.599 | 0.005 | 0.605 | |
| seqLogo | 0.415 | 0.027 | 0.442 | |
| shannon.entropy | 0 | 0 | 0 | |
| toGRangesList-methods | 0.002 | 0.000 | 0.002 | |
| toICM-methods | 0.008 | 0.000 | 0.008 | |
| toPWM-methods | 0.004 | 0.001 | 0.005 | |