| Back to Rapid builds (Linux only) of a subset of BioC 3.22 Report updated every 6 hours |
This page was generated on 2025-10-25 10:08 -0400 (Sat, 25 Oct 2025).
| Hostname | OS | Arch (*) | R version | Installed pkgs |
|---|---|---|---|---|
| teran2 | Linux (Ubuntu 24.04.3 LTS) | x86_64 | 4.5.1 (2025-06-13) -- "Great Square Root" | 926 |
| Click on any hostname to see more info about the system (e.g. compilers) (*) as reported by 'uname -p', except on Windows and Mac OS X | ||||
| Package 213/229 | Hostname | OS / Arch | INSTALL | BUILD | CHECK | |||||||
| TCGAbiolinks 2.37.3 (landing page) Tiago Chedraoui Silva
| teran2 | Linux (Ubuntu 24.04.3 LTS) / x86_64 | OK | OK | WARNINGS | |||||||
|
To the developers/maintainers of the TCGAbiolinks package: - Use the following Renviron settings to reproduce errors and warnings. - If 'R CMD check' started to fail recently on the Linux builder(s) over a missing dependency, add the missing dependency to 'Suggests:' in your DESCRIPTION file. See Renviron.bioc for more information. |
| Package: TCGAbiolinks |
| Version: 2.37.3 |
| Command: /home/rapidbuild/bbs-3.22-bioc-rapid/R/bin/R CMD build --keep-empty-dirs --no-resave-data TCGAbiolinks |
| StartedAt: 2025-10-25 07:34:12 -0400 (Sat, 25 Oct 2025) |
| EndedAt: 2025-10-25 07:38:49 -0400 (Sat, 25 Oct 2025) |
| EllapsedTime: 277.7 seconds |
| RetCode: 0 |
| Status: OK |
| PackageFile: TCGAbiolinks_2.37.3.tar.gz |
| PackageFileSize: 63.76 MiB |
############################################################################## ############################################################################## ### ### Running command: ### ### /home/rapidbuild/bbs-3.22-bioc-rapid/R/bin/R CMD build --keep-empty-dirs --no-resave-data TCGAbiolinks ### ############################################################################## ############################################################################## * checking for file ‘TCGAbiolinks/DESCRIPTION’ ... OK * preparing ‘TCGAbiolinks’: * checking DESCRIPTION meta-information ... OK * installing the package to build vignettes * creating vignettes ... OK * checking for LF line-endings in source and make files and shell scripts * checking for empty or unneeded directories * building ‘TCGAbiolinks_2.37.3.tar.gz’