| Back to Rapid builds (Linux only) of a subset of BioC 3.22 Report updated every 6 hours |
This page was generated on 2025-10-23 10:08 -0400 (Thu, 23 Oct 2025).
| Hostname | OS | Arch (*) | R version | Installed pkgs |
|---|---|---|---|---|
| teran2 | Linux (Ubuntu 24.04.3 LTS) | x86_64 | 4.5.1 (2025-06-13) -- "Great Square Root" | 926 |
| Click on any hostname to see more info about the system (e.g. compilers) (*) as reported by 'uname -p', except on Windows and Mac OS X | ||||
| Package 175/229 | Hostname | OS / Arch | INSTALL | BUILD | CHECK | |||||||
| ReportingTools 2.49.0 (landing page) Jason A. Hackney
| teran2 | Linux (Ubuntu 24.04.3 LTS) / x86_64 | OK | OK | OK | |||||||
|
To the developers/maintainers of the ReportingTools package: - Use the following Renviron settings to reproduce errors and warnings. - If 'R CMD check' started to fail recently on the Linux builder(s) over a missing dependency, add the missing dependency to 'Suggests:' in your DESCRIPTION file. See Renviron.bioc for more information. |
| Package: ReportingTools |
| Version: 2.49.0 |
| Command: /home/rapidbuild/bbs-3.22-bioc-rapid/R/bin/R CMD check --install=check:ReportingTools.install-out.txt --library=/home/rapidbuild/bbs-3.22-bioc-rapid/R/site-library --timings ReportingTools_2.49.0.tar.gz |
| StartedAt: 2025-10-23 09:15:18 -0400 (Thu, 23 Oct 2025) |
| EndedAt: 2025-10-23 09:23:11 -0400 (Thu, 23 Oct 2025) |
| EllapsedTime: 472.7 seconds |
| RetCode: 0 |
| Status: OK |
| CheckDir: ReportingTools.Rcheck |
| Warnings: 0 |
##############################################################################
##############################################################################
###
### Running command:
###
### /home/rapidbuild/bbs-3.22-bioc-rapid/R/bin/R CMD check --install=check:ReportingTools.install-out.txt --library=/home/rapidbuild/bbs-3.22-bioc-rapid/R/site-library --timings ReportingTools_2.49.0.tar.gz
###
##############################################################################
##############################################################################
* using log directory ‘/media/volume/teran2_disk/rapidbuild/bbs-3.22-bioc-rapid/meat/ReportingTools.Rcheck’
* using R version 4.5.1 (2025-06-13)
* using platform: x86_64-pc-linux-gnu
* R was compiled by
gcc (Ubuntu 13.3.0-6ubuntu2~24.04) 13.3.0
GNU Fortran (Ubuntu 13.3.0-6ubuntu2~24.04) 13.3.0
* running under: Ubuntu 24.04.3 LTS
* using session charset: UTF-8
* checking for file ‘ReportingTools/DESCRIPTION’ ... OK
* checking extension type ... Package
* this is package ‘ReportingTools’ version ‘2.49.0’
* checking package namespace information ... OK
* checking package dependencies ... OK
* checking if this is a source package ... OK
* checking if there is a namespace ... OK
* checking for hidden files and directories ... OK
* checking for portable file names ... OK
* checking for sufficient/correct file permissions ... OK
* checking whether package ‘ReportingTools’ can be installed ... OK
* checking installed package size ... OK
* checking package directory ... OK
* checking ‘build’ directory ... OK
* checking DESCRIPTION meta-information ... OK
* checking top-level files ... OK
* checking for left-over files ... OK
* checking index information ... OK
* checking package subdirectories ... OK
* checking code files for non-ASCII characters ... OK
* checking R files for syntax errors ... OK
* checking whether the package can be loaded ... OK
* checking whether the package can be loaded with stated dependencies ... OK
* checking whether the package can be unloaded cleanly ... OK
* checking whether the namespace can be loaded with stated dependencies ... OK
* checking whether the namespace can be unloaded cleanly ... OK
* checking loading without being on the library search path ... OK
* checking dependencies in R code ... OK
* checking S3 generic/method consistency ... OK
* checking replacement functions ... OK
* checking foreign function calls ... OK
* checking R code for possible problems ... NOTE
.GeneSetCollection.to.data.frame: no visible binding for global
variable 'description'
.GeneSetCollection.to.html: no visible binding for global variable
'description'
.GeneSetCollection.to.html2: no visible binding for global variable
'description'
.PFAMhyperG.to.html: no visible binding for global variable 'keytype'
.PFAMhyperG.to.html: no visible binding for global variable 'columns'
.make.gene.plots: no visible global function definition for 'exprs'
.marrayLM.to.data.frame: no visible global function definition for
'featureNames'
.marrayLM.to.data.frame: no visible global function definition for
'fData'
.marrayLM.to.html: no visible global function definition for
'featureNames'
.marrayLM.to.html: no visible global function definition for 'fData'
check.ids: no visible binding for global variable 'org.Hs.eg.db'
check.ids: no visible global function definition for 'keys'
custHeaderPanel : <anonymous>: no visible binding for global variable
'tags'
custHeaderPanel : <anonymous>: no visible global function definition
for 'HTML'
custHeaderPanel: no visible global function definition for 'tagList'
custHeaderPanel: no visible global function definition for 'tag'
custHeaderPanel: no visible global function definition for 'div'
custHeaderPanel: no visible global function definition for 'h1'
publish,trellis-HTMLReport: no visible binding for global variable
'htmlRep'
toReportDF,DESeqDataSet: no visible global function definition for
'mcols'
Undefined global functions or variables:
HTML columns description div exprs fData featureNames h1 htmlRep keys
keytype mcols org.Hs.eg.db tag tagList tags
* checking Rd files ... NOTE
checkRd: (-1) ReportHandlers-class.Rd:50: Lost braces
50 | connection as elements are added to the report. code{finish} completes the page and closes the connection.}
| ^
* checking Rd metadata ... OK
* checking Rd cross-references ... NOTE
Found the following Rd file(s) with Rd \link{} targets missing package
anchors:
publish-methods.Rd: DESeqDataSet-class, results, DESeq,
DESeqResults-class
reporting.theme.Rd: standard.theme
reporting.theme.alternate.Rd: standard.theme
Please provide package anchors for all Rd \link{} targets not in the
package itself and the base packages.
* checking for missing documentation entries ... OK
* checking for code/documentation mismatches ... OK
* checking Rd \usage sections ... OK
* checking Rd contents ... OK
* checking for unstated dependencies in examples ... OK
* checking contents of ‘data’ directory ... OK
* checking data for non-ASCII characters ... OK
* checking data for ASCII and uncompressed saves ... OK
* checking files in ‘vignettes’ ... OK
* checking examples ... OK
* checking for unstated dependencies in ‘tests’ ... OK
* checking tests ...
Running ‘runTests.R’
OK
* checking for unstated dependencies in vignettes ... OK
* checking package vignettes ... OK
* checking re-building of vignette outputs ... OK
* checking PDF version of manual ... OK
* DONE
Status: 3 NOTEs
See
‘/media/volume/teran2_disk/rapidbuild/bbs-3.22-bioc-rapid/meat/ReportingTools.Rcheck/00check.log’
for details.
ReportingTools.Rcheck/00install.out
############################################################################## ############################################################################## ### ### Running command: ### ### /home/rapidbuild/bbs-3.22-bioc-rapid/R/bin/R CMD INSTALL ReportingTools ### ############################################################################## ############################################################################## * installing to library ‘/media/volume/teran2_disk/rapidbuild/bbs-3.22-bioc-rapid/R/site-library’ * installing *source* package ‘ReportingTools’ ... ** this is package ‘ReportingTools’ version ‘2.49.0’ ** using staged installation ** R ** data ** inst ** byte-compile and prepare package for lazy loading in method for 'objectToHTML' with signature 'object="ggbio"': no definition for class "ggbio" ** help *** installing help indices ** building package indices ** installing vignettes ** testing if installed package can be loaded from temporary location ** testing if installed package can be loaded from final location ** testing if installed package keeps a record of temporary installation path * DONE (ReportingTools)
ReportingTools.Rcheck/tests/runTests.Rout
R version 4.5.1 (2025-06-13) -- "Great Square Root"
Copyright (C) 2025 The R Foundation for Statistical Computing
Platform: x86_64-pc-linux-gnu
R is free software and comes with ABSOLUTELY NO WARRANTY.
You are welcome to redistribute it under certain conditions.
Type 'license()' or 'licence()' for distribution details.
R is a collaborative project with many contributors.
Type 'contributors()' for more information and
'citation()' on how to cite R or R packages in publications.
Type 'demo()' for some demos, 'help()' for on-line help, or
'help.start()' for an HTML browser interface to help.
Type 'q()' to quit R.
> require("ReportingTools") || stop("unable to load ReportingTools")
Loading required package: ReportingTools
Loading required package: knitr
[1] TRUE
> BiocGenerics:::testPackage("ReportingTools")
Loading required package: Biobase
Loading required package: BiocGenerics
Loading required package: generics
Attaching package: 'generics'
The following objects are masked from 'package:base':
as.difftime, as.factor, as.ordered, intersect, is.element, setdiff,
setequal, union
Attaching package: 'BiocGenerics'
The following objects are masked from 'package:stats':
IQR, mad, sd, var, xtabs
The following objects are masked from 'package:base':
Filter, Find, Map, Position, Reduce, anyDuplicated, aperm, append,
as.data.frame, basename, cbind, colnames, dirname, do.call,
duplicated, eval, evalq, get, grep, grepl, is.unsorted, lapply,
mapply, match, mget, order, paste, pmax, pmax.int, pmin, pmin.int,
rank, rbind, rownames, sapply, saveRDS, table, tapply, unique,
unsplit, which.max, which.min
Welcome to Bioconductor
Vignettes contain introductory material; view with
'browseVignettes()'. To cite Bioconductor, see
'citation("Biobase")', and for packages 'citation("pkgname")'.
Attaching package: 'limma'
The following object is masked from 'package:BiocGenerics':
plotMA
Loading required package: AnnotationDbi
Loading required package: stats4
Loading required package: IRanges
Loading required package: S4Vectors
Attaching package: 'S4Vectors'
The following object is masked from 'package:utils':
findMatches
The following objects are masked from 'package:base':
I, expand.grid, unname
Loading required package: org.Hs.eg.db
Loading required package: GenomicRanges
Loading required package: Seqinfo
Loading required package: SummarizedExperiment
Loading required package: MatrixGenerics
Loading required package: matrixStats
Attaching package: 'matrixStats'
The following objects are masked from 'package:Biobase':
anyMissing, rowMedians
Attaching package: 'MatrixGenerics'
The following objects are masked from 'package:matrixStats':
colAlls, colAnyNAs, colAnys, colAvgsPerRowSet, colCollapse,
colCounts, colCummaxs, colCummins, colCumprods, colCumsums,
colDiffs, colIQRDiffs, colIQRs, colLogSumExps, colMadDiffs,
colMads, colMaxs, colMeans2, colMedians, colMins, colOrderStats,
colProds, colQuantiles, colRanges, colRanks, colSdDiffs, colSds,
colSums2, colTabulates, colVarDiffs, colVars, colWeightedMads,
colWeightedMeans, colWeightedMedians, colWeightedSds,
colWeightedVars, rowAlls, rowAnyNAs, rowAnys, rowAvgsPerColSet,
rowCollapse, rowCounts, rowCummaxs, rowCummins, rowCumprods,
rowCumsums, rowDiffs, rowIQRDiffs, rowIQRs, rowLogSumExps,
rowMadDiffs, rowMads, rowMaxs, rowMeans2, rowMedians, rowMins,
rowOrderStats, rowProds, rowQuantiles, rowRanges, rowRanks,
rowSdDiffs, rowSds, rowSums2, rowTabulates, rowVarDiffs, rowVars,
rowWeightedMads, rowWeightedMeans, rowWeightedMedians,
rowWeightedSds, rowWeightedVars
The following object is masked from 'package:Biobase':
rowMedians
Loading required package: DEXSeq
Loading required package: BiocParallel
Loading required package: RColorBrewer
estimating size factors
estimating dispersions
gene-wise dispersion estimates
mean-dispersion relationship
final dispersion estimates
fitting model and testing
estimating size factors
estimating dispersions
gene-wise dispersion estimates
mean-dispersion relationship
final dispersion estimates
fitting model and testing
Loading required package: annotate
Loading required package: XML
Loading required package: graph
Attaching package: 'graph'
The following object is masked from 'package:XML':
addNode
Loading required package: Category
Loading required package: Matrix
Attaching package: 'Matrix'
The following object is masked from 'package:S4Vectors':
expand
Attaching package: 'GOstats'
The following object is masked from 'package:AnnotationDbi':
makeGOGraph
'select()' returned 1:many mapping between keys and columns
'select()' returned 1:many mapping between keys and columns
'select()' returned 1:many mapping between keys and columns
<script language="JavaScript" src="jslib/jquery-1.8.0.min.js"></script>
<script language="JavaScript" src="jslib/jquery.dataTables-1.9.3.js"></script>
<script language="JavaScript" src="jslib/jquery.dataTables.columnFilter.js"></script>
<script language="JavaScript" src="jslib/jquery.dataTables.plugins.js"></script>
<script language="JavaScript" src="jslib/jquery.dataTables.reprise.js"></script>
<script language="JavaScript" src="jslib/bootstrap.js"></script>
<link rel="stylesheet" type="text/css" href="csslib/bootstrap.css" />
<link rel="stylesheet" type="text/css" href="csslib/reprise.table.bootstrap.css" />
processing file: testRmd.Rmd
output file: testRmd.knit.md
/usr/bin/pandoc +RTS -K512m -RTS testRmd.knit.md --to html4 --from markdown+autolink_bare_uris+tex_math_single_backslash --output /media/volume/teran2_disk/rapidbuild/bbs-3.22-bioc-rapid/meat/ReportingTools.Rcheck/tests/reports/testRmd.html --lua-filter /media/volume/teran2_disk/rapidbuild/bbs-3.22-bioc-rapid/R/site-library/rmarkdown/rmarkdown/lua/pagebreak.lua --lua-filter /media/volume/teran2_disk/rapidbuild/bbs-3.22-bioc-rapid/R/site-library/rmarkdown/rmarkdown/lua/latex-div.lua --self-contained --variable bs3=TRUE --section-divs --template /media/volume/teran2_disk/rapidbuild/bbs-3.22-bioc-rapid/R/site-library/rmarkdown/rmd/h/default.html --no-highlight --variable highlightjs=1 --variable theme=bootstrap --mathjax --variable 'mathjax-url=https://mathjax.rstudio.com/latest/MathJax.js?config=TeX-AMS-MML_HTMLorMML' --include-in-header /tmp/RtmpOwHpHb/rmarkdown-str3d3e1024dad2a5.html
[WARNING] This document format requires a nonempty <title> element.
Please specify either 'title' or 'pagetitle' in the metadata,
e.g. by using --metadata pagetitle="..." on the command line.
Falling back to 'testRmd.knit'
Output created: testRmd.html
Created file named 'testDataPackage/testPkg/man/my.df2.Rd'.
Edit the file and move it to the appropriate directory.
RUNIT TEST PROTOCOL -- Thu Oct 23 09:22:59 2025
***********************************************
Number of test functions: 45
Number of errors: 0
Number of failures: 0
1 Test Suite :
ReportingTools RUnit Tests - 45 test functions, 0 errors, 0 failures
Number of test functions: 45
Number of errors: 0
Number of failures: 0
Warning messages:
1: In DESeqDataSet(se, design = design, ignoreRank) :
some variables in design formula are characters, converting to factors
2: In DESeqDataSet(se, design = design, ignoreRank) :
some variables in design formula are characters, converting to factors
>
> proc.time()
user system elapsed
144.943 6.420 152.462
ReportingTools.Rcheck/ReportingTools-Ex.timings
| name | user | system | elapsed | |
| BaseReportType-class | 0.000 | 0.001 | 0.001 | |
| CSVFile-class | 0.001 | 0.000 | 0.001 | |
| CSVFile | 0.002 | 0.002 | 0.004 | |
| DataPackage-class | 0.005 | 0.002 | 0.007 | |
| DataPackage | 0.002 | 0.001 | 0.003 | |
| HTMLReport | 0.016 | 0.005 | 0.036 | |
| HTMLReportRef-class | 0.000 | 0.000 | 0.001 | |
| Link | 0.005 | 0.001 | 0.007 | |
| ReportHandlers-class | 0.000 | 0.001 | 0.001 | |
| finish-methods | 0.001 | 0.000 | 0.000 | |
| mockRnaSeqData | 0.013 | 0.001 | 0.015 | |
| publish-methods | 0.000 | 0.000 | 0.001 | |
| reporting.theme | 0.013 | 0.000 | 0.013 | |
| reporting.theme.alternate | 0.010 | 0.001 | 0.011 | |
| validConnection | 0.050 | 0.018 | 0.131 | |