| Back to Rapid builds (Linux only) of a subset of BioC 3.22 Report updated every 6 hours |
This page was generated on 2025-10-24 10:06 -0400 (Fri, 24 Oct 2025).
| Hostname | OS | Arch (*) | R version | Installed pkgs |
|---|---|---|---|---|
| teran2 | Linux (Ubuntu 24.04.3 LTS) | x86_64 | 4.5.1 (2025-06-13) -- "Great Square Root" | 926 |
| Click on any hostname to see more info about the system (e.g. compilers) (*) as reported by 'uname -p', except on Windows and Mac OS X | ||||
| Package 109/229 | Hostname | OS / Arch | INSTALL | BUILD | CHECK | |||||||
| GOSemSim 2.35.2 (landing page) Guangchuang Yu
| teran2 | Linux (Ubuntu 24.04.3 LTS) / x86_64 | OK | OK | OK | |||||||
|
To the developers/maintainers of the GOSemSim package: - Use the following Renviron settings to reproduce errors and warnings. - If 'R CMD check' started to fail recently on the Linux builder(s) over a missing dependency, add the missing dependency to 'Suggests:' in your DESCRIPTION file. See Renviron.bioc for more information. |
| Package: GOSemSim |
| Version: 2.35.2 |
| Command: /home/rapidbuild/bbs-3.22-bioc-rapid/R/bin/R CMD build --keep-empty-dirs --no-resave-data GOSemSim |
| StartedAt: 2025-10-24 06:56:17 -0400 (Fri, 24 Oct 2025) |
| EndedAt: 2025-10-24 06:56:36 -0400 (Fri, 24 Oct 2025) |
| EllapsedTime: 19.3 seconds |
| RetCode: 0 |
| Status: OK |
| PackageFile: GOSemSim_2.35.2.tar.gz |
| PackageFileSize: 594.9 KiB |
##############################################################################
##############################################################################
###
### Running command:
###
### /home/rapidbuild/bbs-3.22-bioc-rapid/R/bin/R CMD build --keep-empty-dirs --no-resave-data GOSemSim
###
##############################################################################
##############################################################################
* checking for file ‘GOSemSim/DESCRIPTION’ ... OK
* preparing ‘GOSemSim’:
* checking DESCRIPTION meta-information ... OK
* cleaning src
* installing the package to build vignettes
* creating vignettes ... OK
* cleaning src
* checking for LF line-endings in source and make files and shell scripts
* checking for empty or unneeded directories
* looking to see if a ‘data/datalist’ file should be added
NB: this package now depends on R (>= 4.2.0)
WARNING: Added dependency on R >= 4.2.0 because package code uses the
pipe placeholder syntax added in R 4.2.0
File(s) using such syntax:
‘buildGOmap.R’
* building ‘GOSemSim_2.35.2.tar.gz’