| Back to Rapid builds (Linux only) of a subset of BioC 3.22 Report updated every 6 hours |
This page was generated on 2025-10-23 10:08 -0400 (Thu, 23 Oct 2025).
| Hostname | OS | Arch (*) | R version | Installed pkgs |
|---|---|---|---|---|
| teran2 | Linux (Ubuntu 24.04.3 LTS) | x86_64 | 4.5.1 (2025-06-13) -- "Great Square Root" | 926 |
| Click on any hostname to see more info about the system (e.g. compilers) (*) as reported by 'uname -p', except on Windows and Mac OS X | ||||
| Package 33/229 | Hostname | OS / Arch | INSTALL | BUILD | CHECK | |||||||
| BiocNeighbors 2.3.1 (landing page) Aaron Lun
| teran2 | Linux (Ubuntu 24.04.3 LTS) / x86_64 | OK | OK | OK | |||||||
|
To the developers/maintainers of the BiocNeighbors package: - Use the following Renviron settings to reproduce errors and warnings. - If 'R CMD check' started to fail recently on the Linux builder(s) over a missing dependency, add the missing dependency to 'Suggests:' in your DESCRIPTION file. See Renviron.bioc for more information. |
| Package: BiocNeighbors |
| Version: 2.3.1 |
| Command: /home/rapidbuild/bbs-3.22-bioc-rapid/R/bin/R CMD build --keep-empty-dirs --no-resave-data BiocNeighbors |
| StartedAt: 2025-10-23 06:32:47 -0400 (Thu, 23 Oct 2025) |
| EndedAt: 2025-10-23 06:33:26 -0400 (Thu, 23 Oct 2025) |
| EllapsedTime: 39.3 seconds |
| RetCode: 0 |
| Status: OK |
| PackageFile: BiocNeighbors_2.3.1.tar.gz |
| PackageFileSize: 328.9 KiB |
############################################################################## ############################################################################## ### ### Running command: ### ### /home/rapidbuild/bbs-3.22-bioc-rapid/R/bin/R CMD build --keep-empty-dirs --no-resave-data BiocNeighbors ### ############################################################################## ############################################################################## * checking for file ‘BiocNeighbors/DESCRIPTION’ ... OK * preparing ‘BiocNeighbors’: * checking DESCRIPTION meta-information ... OK * cleaning src * installing the package to build vignettes * creating vignettes ... OK * cleaning src * checking for LF line-endings in source and make files and shell scripts * checking for empty or unneeded directories * building ‘BiocNeighbors_2.3.1.tar.gz’