Back to Rapid builds (Linux only) of a subset of BioC 3.22
Report updated every 6 hours

This page was generated on 2025-10-27 08:39 -0400 (Mon, 27 Oct 2025).

HostnameOSArch (*)R versionInstalled pkgs
teran2Linux (Ubuntu 24.04.3 LTS)x86_644.5.1 (2025-06-13) -- "Great Square Root" 901
Click on any hostname to see more info about the system (e.g. compilers)      (*) as reported by 'uname -p', except on Windows and Mac OS X

Package 47/229HostnameOS / ArchINSTALLBUILDCHECK
BSgenomeForge 1.9.3  (landing page)
Hervé Pagès
Snapshot Date: 2025-10-27 06:00 -0400 (Mon, 27 Oct 2025)
git_url: https://git.bioconductor.org/packages/BSgenomeForge
git_branch: devel
git_last_commit: 69d7402
git_last_commit_date: 2025-10-24 19:15:03 -0400 (Fri, 24 Oct 2025)
teran2Linux (Ubuntu 24.04.3 LTS) / x86_64  ERROR    ERROR  skipped


BUILD results for BSgenomeForge on teran2

To the developers/maintainers of the BSgenomeForge package:
- Use the following Renviron settings to reproduce errors and warnings.
- If 'R CMD check' started to fail recently on the Linux builder(s) over a missing dependency, add the missing dependency to 'Suggests:' in your DESCRIPTION file. See Renviron.bioc for more information.

raw results


Summary

Package: BSgenomeForge
Version: 1.9.3
Command: /home/rapidbuild/bbs-3.22-bioc-rapid/R/bin/R CMD build --keep-empty-dirs --no-resave-data BSgenomeForge
StartedAt: 2025-10-27 06:30:29 -0400 (Mon, 27 Oct 2025)
EndedAt: 2025-10-27 06:30:30 -0400 (Mon, 27 Oct 2025)
EllapsedTime: 1.0 seconds
RetCode: 1
Status:   ERROR  
PackageFile: None
PackageFileSize: NA

Command output

##############################################################################
##############################################################################
###
### Running command:
###
###   /home/rapidbuild/bbs-3.22-bioc-rapid/R/bin/R CMD build --keep-empty-dirs --no-resave-data BSgenomeForge
###
##############################################################################
##############################################################################


* checking for file ‘BSgenomeForge/DESCRIPTION’ ... OK
* preparing ‘BSgenomeForge’:
* checking DESCRIPTION meta-information ... OK
* installing the package to build vignettes
      -----------------------------------
ERROR: dependencies ‘BSgenome’, ‘rtracklayer’ are not available for package ‘BSgenomeForge’
Perhaps try a variation of:
install.packages(c('BSgenome', 'rtracklayer'))
* removing ‘/tmp/RtmpcIfMon/Rinst2a319a19f12ed9/BSgenomeForge’
      -----------------------------------
ERROR: package installation failed