| Back to --- experimental! --- GPU-enabled build/check report for BioC 3.22 Report updated every 6 hours |
This page was generated on 2025-10-24 14:30 -0400 (Fri, 24 Oct 2025).
| Hostname | OS | Arch (*) | R version | Installed pkgs |
|---|---|---|---|---|
| biocgpu | Linux (Ubuntu 24.04.2 LTS) | x86_64 | 4.5.1 Patched (2025-08-23 r88803) -- "Great Square Root" | 282 |
| amarone | Linux (Ubuntu 24.04.3 LTS) | x86_64 | 4.5.1 Patched (2025-09-10 r88813) -- "Great Square Root" | 283 |
| Click on any hostname to see more info about the system (e.g. compilers) (*) as reported by 'uname -p', except on Windows and Mac OS X | ||||
|
To the developers/maintainers of the RbowtieCuda package: - Use the following Renviron settings to reproduce errors and warnings. - If 'R CMD check' started to fail recently on the Linux builder(s) over a missing dependency, add the missing dependency to 'Suggests:' in your DESCRIPTION file. See Renviron.bioc for more information. |
| Package 2/3 | Hostname | OS / Arch | INSTALL | BUILD | CHECK | ||||||||
| RbowtieCuda 1.1.10 (landing page) Franck RICHARD
| biocgpu | Linux (Ubuntu 24.04.2 LTS) / x86_64 | OK | OK | OK | ||||||||
| amarone | Linux (Ubuntu 24.04.3 LTS) / x86_64 | OK | OK | OK | |||||||||