| Back to --- experimental! --- GPU-enabled build/check report for BioC 3.22 Report updated every 6 hours |
This page was generated on 2025-10-24 14:30 -0400 (Fri, 24 Oct 2025).
LibPath Version Built
abind /media/volume/biocgpu2/biocbuild/bbs-3.22-bioc-gpu/R/site-library 1.4-8 4.5.1
AnnotationDbi /media/volume/biocgpu2/biocbuild/bbs-3.22-bioc-gpu/R/site-library 1.71.2 4.5.1
AnnotationHub /media/volume/biocgpu2/biocbuild/bbs-3.22-bioc-gpu/R/site-library 3.99.6 4.5.1
askpass /media/volume/biocgpu2/biocbuild/bbs-3.22-bioc-gpu/R/site-library 1.2.1 4.5.1
assorthead /media/volume/biocgpu2/biocbuild/bbs-3.22-bioc-gpu/R/site-library 1.3.13 4.5.1
backports /media/volume/biocgpu2/biocbuild/bbs-3.22-bioc-gpu/R/site-library 1.5.0 4.5.1
base64enc /media/volume/biocgpu2/biocbuild/bbs-3.22-bioc-gpu/R/site-library 0.1-3 4.5.1
basilisk /media/volume/biocgpu2/biocbuild/bbs-3.22-bioc-gpu/R/site-library 1.21.5 4.5.1
beachmat /media/volume/biocgpu2/biocbuild/bbs-3.22-bioc-gpu/R/site-library 2.25.5 4.5.1
beeswarm /media/volume/biocgpu2/biocbuild/bbs-3.22-bioc-gpu/R/site-library 0.4.0 4.5.1
BH /media/volume/biocgpu2/biocbuild/bbs-3.22-bioc-gpu/R/site-library 1.87.0-1 4.5.1
Biobase /media/volume/biocgpu2/biocbuild/bbs-3.22-bioc-gpu/R/site-library 2.69.1 4.5.1
BiocBaseUtils /media/volume/biocgpu2/biocbuild/bbs-3.22-bioc-gpu/R/site-library 1.11.2 4.5.1
BiocCheck /media/volume/biocgpu2/biocbuild/bbs-3.22-bioc-gpu/R/site-library 1.45.20 4.5.1
BiocFileCache /media/volume/biocgpu2/biocbuild/bbs-3.22-bioc-gpu/R/site-library 2.99.6 4.5.1
BiocGenerics /media/volume/biocgpu2/biocbuild/bbs-3.22-bioc-gpu/R/site-library 0.55.4 4.5.1
BiocIO /media/volume/biocgpu2/biocbuild/bbs-3.22-bioc-gpu/R/site-library 1.19.0 4.5.1
BiocManager /media/volume/biocgpu2/biocbuild/bbs-3.22-bioc-gpu/R/site-library 1.30.26 4.5.1
BiocNeighbors /media/volume/biocgpu2/biocbuild/bbs-3.22-bioc-gpu/R/site-library 2.3.1 4.5.1
BiocParallel /media/volume/biocgpu2/biocbuild/bbs-3.22-bioc-gpu/R/site-library 1.43.4 4.5.1
BiocSingular /media/volume/biocgpu2/biocbuild/bbs-3.22-bioc-gpu/R/site-library 1.25.0 4.5.1
BiocStyle /media/volume/biocgpu2/biocbuild/bbs-3.22-bioc-gpu/R/site-library 2.37.1 4.5.1
BiocVersion /media/volume/biocgpu2/biocbuild/bbs-3.22-bioc-gpu/R/site-library 3.22.0 4.5.1
biocViews /media/volume/biocgpu2/biocbuild/bbs-3.22-bioc-gpu/R/site-library 1.77.4 4.5.1
Biostrings /media/volume/biocgpu2/biocbuild/bbs-3.22-bioc-gpu/R/site-library 2.77.2 4.5.1
bit /media/volume/biocgpu2/biocbuild/bbs-3.22-bioc-gpu/R/site-library 4.6.0 4.5.1
bit64 /media/volume/biocgpu2/biocbuild/bbs-3.22-bioc-gpu/R/site-library 4.6.0-1 4.5.1
bitops /media/volume/biocgpu2/biocbuild/bbs-3.22-bioc-gpu/R/site-library 1.0-9 4.5.1
blob /media/volume/biocgpu2/biocbuild/bbs-3.22-bioc-gpu/R/site-library 1.2.4 4.5.1
bookdown /media/volume/biocgpu2/biocbuild/bbs-3.22-bioc-gpu/R/site-library 0.45 4.5.1
brew /media/volume/biocgpu2/biocbuild/bbs-3.22-bioc-gpu/R/site-library 1.0-10 4.5.1
brio /media/volume/biocgpu2/biocbuild/bbs-3.22-bioc-gpu/R/site-library 1.1.5 4.5.1
broom /media/volume/biocgpu2/biocbuild/bbs-3.22-bioc-gpu/R/site-library 1.0.10 4.5.1
BSgenome /media/volume/biocgpu2/biocbuild/bbs-3.22-bioc-gpu/R/site-library 1.77.2 4.5.1
bslib /media/volume/biocgpu2/biocbuild/bbs-3.22-bioc-gpu/R/site-library 0.9.0 4.5.1
cachem /media/volume/biocgpu2/biocbuild/bbs-3.22-bioc-gpu/R/site-library 1.1.0 4.5.1
Cairo /media/volume/biocgpu2/biocbuild/bbs-3.22-bioc-gpu/R/site-library 1.6-5 4.5.1
callr /media/volume/biocgpu2/biocbuild/bbs-3.22-bioc-gpu/R/site-library 3.7.6 4.5.1
car /media/volume/biocgpu2/biocbuild/bbs-3.22-bioc-gpu/R/site-library 3.1-3 4.5.1
carData /media/volume/biocgpu2/biocbuild/bbs-3.22-bioc-gpu/R/site-library 3.0-5 4.5.1
cli /media/volume/biocgpu2/biocbuild/bbs-3.22-bioc-gpu/R/site-library 3.6.5 4.5.1
clipr /media/volume/biocgpu2/biocbuild/bbs-3.22-bioc-gpu/R/site-library 0.8.0 4.5.1
colorspace /media/volume/biocgpu2/biocbuild/bbs-3.22-bioc-gpu/R/site-library 2.1-2 4.5.1
commonmark /media/volume/biocgpu2/biocbuild/bbs-3.22-bioc-gpu/R/site-library 2.0.0 4.5.1
config /media/volume/biocgpu2/biocbuild/bbs-3.22-bioc-gpu/R/site-library 0.3.2 4.5.1
corrplot /media/volume/biocgpu2/biocbuild/bbs-3.22-bioc-gpu/R/site-library 0.95 4.5.1
cowplot /media/volume/biocgpu2/biocbuild/bbs-3.22-bioc-gpu/R/site-library 1.2.0 4.5.1
cpp11 /media/volume/biocgpu2/biocbuild/bbs-3.22-bioc-gpu/R/site-library 0.5.2 4.5.1
crayon /media/volume/biocgpu2/biocbuild/bbs-3.22-bioc-gpu/R/site-library 1.5.3 4.5.1
credentials /media/volume/biocgpu2/biocbuild/bbs-3.22-bioc-gpu/R/site-library 2.0.3 4.5.1
curl /media/volume/biocgpu2/biocbuild/bbs-3.22-bioc-gpu/R/site-library 7.0.0 4.5.1
DBI /media/volume/biocgpu2/biocbuild/bbs-3.22-bioc-gpu/R/site-library 1.2.3 4.5.1
dbplyr /media/volume/biocgpu2/biocbuild/bbs-3.22-bioc-gpu/R/site-library 2.5.1 4.5.1
DelayedArray /media/volume/biocgpu2/biocbuild/bbs-3.22-bioc-gpu/R/site-library 0.35.3 4.5.1
Deriv /media/volume/biocgpu2/biocbuild/bbs-3.22-bioc-gpu/R/site-library 4.2.0 4.5.1
desc /media/volume/biocgpu2/biocbuild/bbs-3.22-bioc-gpu/R/site-library 1.4.3 4.5.1
devtools /media/volume/biocgpu2/biocbuild/bbs-3.22-bioc-gpu/R/site-library 2.4.6 4.5.1
diffobj /media/volume/biocgpu2/biocbuild/bbs-3.22-bioc-gpu/R/site-library 0.3.6 4.5.1
digest /media/volume/biocgpu2/biocbuild/bbs-3.22-bioc-gpu/R/site-library 0.6.37 4.5.1
dir.expiry /media/volume/biocgpu2/biocbuild/bbs-3.22-bioc-gpu/R/site-library 1.17.0 4.5.1
doBy /media/volume/biocgpu2/biocbuild/bbs-3.22-bioc-gpu/R/site-library 4.7.0 4.5.1
downlit /media/volume/biocgpu2/biocbuild/bbs-3.22-bioc-gpu/R/site-library 0.4.4 4.5.1
dplyr /media/volume/biocgpu2/biocbuild/bbs-3.22-bioc-gpu/R/site-library 1.1.4 4.5.1
dqrng /media/volume/biocgpu2/biocbuild/bbs-3.22-bioc-gpu/R/site-library 0.4.1 4.5.1
ellipsis /media/volume/biocgpu2/biocbuild/bbs-3.22-bioc-gpu/R/site-library 0.3.2 4.5.1
evaluate /media/volume/biocgpu2/biocbuild/bbs-3.22-bioc-gpu/R/site-library 1.0.5 4.5.1
ExperimentHub /media/volume/biocgpu2/biocbuild/bbs-3.22-bioc-gpu/R/site-library 2.99.6 4.5.1
fansi /media/volume/biocgpu2/biocbuild/bbs-3.22-bioc-gpu/R/site-library 1.0.6 4.5.1
farver /media/volume/biocgpu2/biocbuild/bbs-3.22-bioc-gpu/R/site-library 2.1.2 4.5.1
fastmap /media/volume/biocgpu2/biocbuild/bbs-3.22-bioc-gpu/R/site-library 1.2.0 4.5.1
filelock /media/volume/biocgpu2/biocbuild/bbs-3.22-bioc-gpu/R/site-library 1.0.3 4.5.1
FNN /media/volume/biocgpu2/biocbuild/bbs-3.22-bioc-gpu/R/site-library 1.1.4.1 4.5.1
fontawesome /media/volume/biocgpu2/biocbuild/bbs-3.22-bioc-gpu/R/site-library 0.5.3 4.5.1
formatR /media/volume/biocgpu2/biocbuild/bbs-3.22-bioc-gpu/R/site-library 1.14 4.5.1
Formula /media/volume/biocgpu2/biocbuild/bbs-3.22-bioc-gpu/R/site-library 1.2-5 4.5.1
fs /media/volume/biocgpu2/biocbuild/bbs-3.22-bioc-gpu/R/site-library 1.6.6 4.5.1
futile.logger /media/volume/biocgpu2/biocbuild/bbs-3.22-bioc-gpu/R/site-library 1.4.3 4.5.1
futile.options /media/volume/biocgpu2/biocbuild/bbs-3.22-bioc-gpu/R/site-library 1.0.1 4.5.1
generics /media/volume/biocgpu2/biocbuild/bbs-3.22-bioc-gpu/R/site-library 0.1.4 4.5.1
GenomicAlignments /media/volume/biocgpu2/biocbuild/bbs-3.22-bioc-gpu/R/site-library 1.45.4 4.5.1
GenomicFeatures /media/volume/biocgpu2/biocbuild/bbs-3.22-bioc-gpu/R/site-library 1.61.7 4.5.1
GenomicRanges /media/volume/biocgpu2/biocbuild/bbs-3.22-bioc-gpu/R/site-library 1.61.6 4.5.1
gert /media/volume/biocgpu2/biocbuild/bbs-3.22-bioc-gpu/R/site-library 2.1.5 4.5.1
ggbeeswarm /media/volume/biocgpu2/biocbuild/bbs-3.22-bioc-gpu/R/site-library 0.7.2 4.5.1
ggplot2 /media/volume/biocgpu2/biocbuild/bbs-3.22-bioc-gpu/R/site-library 4.0.0 4.5.1
ggpubr /media/volume/biocgpu2/biocbuild/bbs-3.22-bioc-gpu/R/site-library 0.6.2 4.5.1
ggrastr /media/volume/biocgpu2/biocbuild/bbs-3.22-bioc-gpu/R/site-library 1.0.2 4.5.1
ggrepel /media/volume/biocgpu2/biocbuild/bbs-3.22-bioc-gpu/R/site-library 0.9.6 4.5.1
ggsci /media/volume/biocgpu2/biocbuild/bbs-3.22-bioc-gpu/R/site-library 4.0.0 4.5.1
ggsignif /media/volume/biocgpu2/biocbuild/bbs-3.22-bioc-gpu/R/site-library 0.6.4 4.5.1
gh /media/volume/biocgpu2/biocbuild/bbs-3.22-bioc-gpu/R/site-library 1.5.0 4.5.1
gitcreds /media/volume/biocgpu2/biocbuild/bbs-3.22-bioc-gpu/R/site-library 0.1.2 4.5.1
glue /media/volume/biocgpu2/biocbuild/bbs-3.22-bioc-gpu/R/site-library 1.8.0 4.5.1
graph /media/volume/biocgpu2/biocbuild/bbs-3.22-bioc-gpu/R/site-library 1.87.0 4.5.1
gridExtra /media/volume/biocgpu2/biocbuild/bbs-3.22-bioc-gpu/R/site-library 2.3 4.5.1
gtable /media/volume/biocgpu2/biocbuild/bbs-3.22-bioc-gpu/R/site-library 0.3.6 4.5.1
h5mread /media/volume/biocgpu2/biocbuild/bbs-3.22-bioc-gpu/R/site-library 1.1.1 4.5.1
HDF5Array /media/volume/biocgpu2/biocbuild/bbs-3.22-bioc-gpu/R/site-library 1.37.0 4.5.1
here /media/volume/biocgpu2/biocbuild/bbs-3.22-bioc-gpu/R/site-library 1.0.2 4.5.1
highr /media/volume/biocgpu2/biocbuild/bbs-3.22-bioc-gpu/R/site-library 0.11 4.5.1
htmltools /media/volume/biocgpu2/biocbuild/bbs-3.22-bioc-gpu/R/site-library 0.5.8.1 4.5.1
htmlwidgets /media/volume/biocgpu2/biocbuild/bbs-3.22-bioc-gpu/R/site-library 1.6.4 4.5.1
httpuv /media/volume/biocgpu2/biocbuild/bbs-3.22-bioc-gpu/R/site-library 1.6.16 4.5.1
httr /media/volume/biocgpu2/biocbuild/bbs-3.22-bioc-gpu/R/site-library 1.4.7 4.5.1
httr2 /media/volume/biocgpu2/biocbuild/bbs-3.22-bioc-gpu/R/site-library 1.2.1 4.5.1
ini /media/volume/biocgpu2/biocbuild/bbs-3.22-bioc-gpu/R/site-library 0.3.1 4.5.1
IRanges /media/volume/biocgpu2/biocbuild/bbs-3.22-bioc-gpu/R/site-library 2.43.5 4.5.1
irlba /media/volume/biocgpu2/biocbuild/bbs-3.22-bioc-gpu/R/site-library 2.3.5.1 4.5.1
isoband /media/volume/biocgpu2/biocbuild/bbs-3.22-bioc-gpu/R/site-library 0.2.7 4.5.1
jquerylib /media/volume/biocgpu2/biocbuild/bbs-3.22-bioc-gpu/R/site-library 0.1.4 4.5.1
jsonlite /media/volume/biocgpu2/biocbuild/bbs-3.22-bioc-gpu/R/site-library 2.0.0 4.5.1
KEGGREST /media/volume/biocgpu2/biocbuild/bbs-3.22-bioc-gpu/R/site-library 1.49.2 4.5.1
keras /media/volume/biocgpu2/biocbuild/bbs-3.22-bioc-gpu/R/site-library 2.16.0 4.5.1
knitr /media/volume/biocgpu2/biocbuild/bbs-3.22-bioc-gpu/R/site-library 1.50 4.5.1
labeling /media/volume/biocgpu2/biocbuild/bbs-3.22-bioc-gpu/R/site-library 0.4.3 4.5.1
lambda.r /media/volume/biocgpu2/biocbuild/bbs-3.22-bioc-gpu/R/site-library 1.2.4 4.5.1
later /media/volume/biocgpu2/biocbuild/bbs-3.22-bioc-gpu/R/site-library 1.4.4 4.5.1
lifecycle /media/volume/biocgpu2/biocbuild/bbs-3.22-bioc-gpu/R/site-library 1.0.4 4.5.1
limma /media/volume/biocgpu2/biocbuild/bbs-3.22-bioc-gpu/R/site-library 3.65.7 4.5.1
lme4 /media/volume/biocgpu2/biocbuild/bbs-3.22-bioc-gpu/R/site-library 1.1-37 4.5.1
magrittr /media/volume/biocgpu2/biocbuild/bbs-3.22-bioc-gpu/R/site-library 2.0.4 4.5.1
MatrixGenerics /media/volume/biocgpu2/biocbuild/bbs-3.22-bioc-gpu/R/site-library 1.21.0 4.5.1
MatrixModels /media/volume/biocgpu2/biocbuild/bbs-3.22-bioc-gpu/R/site-library 0.5-4 4.5.1
matrixStats /media/volume/biocgpu2/biocbuild/bbs-3.22-bioc-gpu/R/site-library 1.5.0 4.5.1
memoise /media/volume/biocgpu2/biocbuild/bbs-3.22-bioc-gpu/R/site-library 2.0.1 4.5.1
microbenchmark /media/volume/biocgpu2/biocbuild/bbs-3.22-bioc-gpu/R/site-library 1.5.0 4.5.1
mime /media/volume/biocgpu2/biocbuild/bbs-3.22-bioc-gpu/R/site-library 0.13 4.5.1
miniUI /media/volume/biocgpu2/biocbuild/bbs-3.22-bioc-gpu/R/site-library 0.1.2 4.5.1
minqa /media/volume/biocgpu2/biocbuild/bbs-3.22-bioc-gpu/R/site-library 1.2.8 4.5.1
modelr /media/volume/biocgpu2/biocbuild/bbs-3.22-bioc-gpu/R/site-library 0.1.11 4.5.1
nloptr /media/volume/biocgpu2/biocbuild/bbs-3.22-bioc-gpu/R/site-library 2.2.1 4.5.1
numDeriv /media/volume/biocgpu2/biocbuild/bbs-3.22-bioc-gpu/R/site-library 2016.8-1.1 4.5.1
openssl /media/volume/biocgpu2/biocbuild/bbs-3.22-bioc-gpu/R/site-library 2.3.4 4.5.1
orthos /media/volume/biocgpu2/biocbuild/bbs-3.22-bioc-gpu/R/site-library 1.7.4 4.5.1
orthosData /media/volume/biocgpu2/biocbuild/bbs-3.22-bioc-gpu/R/site-library 1.7.0 4.5.1
otel /media/volume/biocgpu2/biocbuild/bbs-3.22-bioc-gpu/R/site-library 0.2.0 4.5.1
pbkrtest /media/volume/biocgpu2/biocbuild/bbs-3.22-bioc-gpu/R/site-library 0.5.5 4.5.1
pheatmap /media/volume/biocgpu2/biocbuild/bbs-3.22-bioc-gpu/R/site-library 1.0.13 4.5.1
pillar /media/volume/biocgpu2/biocbuild/bbs-3.22-bioc-gpu/R/site-library 1.11.1 4.5.1
pkgbuild /media/volume/biocgpu2/biocbuild/bbs-3.22-bioc-gpu/R/site-library 1.4.8 4.5.1
pkgconfig /media/volume/biocgpu2/biocbuild/bbs-3.22-bioc-gpu/R/site-library 2.0.3 4.5.1
pkgdown /media/volume/biocgpu2/biocbuild/bbs-3.22-bioc-gpu/R/site-library 2.1.3 4.5.1
pkgload /media/volume/biocgpu2/biocbuild/bbs-3.22-bioc-gpu/R/site-library 1.4.1 4.5.1
plogr /media/volume/biocgpu2/biocbuild/bbs-3.22-bioc-gpu/R/site-library 0.2.0 4.5.1
plyr /media/volume/biocgpu2/biocbuild/bbs-3.22-bioc-gpu/R/site-library 1.8.9 4.5.1
png /media/volume/biocgpu2/biocbuild/bbs-3.22-bioc-gpu/R/site-library 0.1-8 4.5.1
polynom /media/volume/biocgpu2/biocbuild/bbs-3.22-bioc-gpu/R/site-library 1.4-1 4.5.1
praise /media/volume/biocgpu2/biocbuild/bbs-3.22-bioc-gpu/R/site-library 1.0.0 4.5.1
prettyunits /media/volume/biocgpu2/biocbuild/bbs-3.22-bioc-gpu/R/site-library 1.2.0 4.5.1
processx /media/volume/biocgpu2/biocbuild/bbs-3.22-bioc-gpu/R/site-library 3.8.6 4.5.1
profvis /media/volume/biocgpu2/biocbuild/bbs-3.22-bioc-gpu/R/site-library 0.4.0 4.5.1
promises /media/volume/biocgpu2/biocbuild/bbs-3.22-bioc-gpu/R/site-library 1.4.0 4.5.1
ps /media/volume/biocgpu2/biocbuild/bbs-3.22-bioc-gpu/R/site-library 1.9.1 4.5.1
purrr /media/volume/biocgpu2/biocbuild/bbs-3.22-bioc-gpu/R/site-library 1.1.0 4.5.1
quantreg /media/volume/biocgpu2/biocbuild/bbs-3.22-bioc-gpu/R/site-library 6.1 4.5.1
R6 /media/volume/biocgpu2/biocbuild/bbs-3.22-bioc-gpu/R/site-library 2.6.1 4.5.1
ragg /media/volume/biocgpu2/biocbuild/bbs-3.22-bioc-gpu/R/site-library 1.5.0 4.5.1
rappdirs /media/volume/biocgpu2/biocbuild/bbs-3.22-bioc-gpu/R/site-library 0.3.3 4.5.1
RBGL /media/volume/biocgpu2/biocbuild/bbs-3.22-bioc-gpu/R/site-library 1.85.0 4.5.1
rbibutils /media/volume/biocgpu2/biocbuild/bbs-3.22-bioc-gpu/R/site-library 2.3 4.5.1
RbowtieCuda /media/volume/biocgpu2/biocbuild/bbs-3.22-bioc-gpu/R/site-library 1.1.10 4.5.1
rcmdcheck /media/volume/biocgpu2/biocbuild/bbs-3.22-bioc-gpu/R/site-library 1.4.0 4.5.1
RColorBrewer /media/volume/biocgpu2/biocbuild/bbs-3.22-bioc-gpu/R/site-library 1.1-3 4.5.1
Rcpp /media/volume/biocgpu2/biocbuild/bbs-3.22-bioc-gpu/R/site-library 1.1.0 4.5.1
RcppAnnoy /media/volume/biocgpu2/biocbuild/bbs-3.22-bioc-gpu/R/site-library 0.0.22 4.5.1
RcppEigen /media/volume/biocgpu2/biocbuild/bbs-3.22-bioc-gpu/R/site-library 0.3.4.0.2 4.5.1
RcppML /media/volume/biocgpu2/biocbuild/bbs-3.22-bioc-gpu/R/site-library 0.3.7 4.5.1
RcppProgress /media/volume/biocgpu2/biocbuild/bbs-3.22-bioc-gpu/R/site-library 0.4.2 4.5.1
RcppTOML /media/volume/biocgpu2/biocbuild/bbs-3.22-bioc-gpu/R/site-library 0.2.3 4.5.1
RCurl /media/volume/biocgpu2/biocbuild/bbs-3.22-bioc-gpu/R/site-library 1.98-1.17 4.5.1
Rdpack /media/volume/biocgpu2/biocbuild/bbs-3.22-bioc-gpu/R/site-library 2.6.4 4.5.1
reformulas /media/volume/biocgpu2/biocbuild/bbs-3.22-bioc-gpu/R/site-library 0.4.1 4.5.1
remotes /media/volume/biocgpu2/biocbuild/bbs-3.22-bioc-gpu/R/site-library 2.5.0 4.5.1
reshape2 /media/volume/biocgpu2/biocbuild/bbs-3.22-bioc-gpu/R/site-library 1.4.4 4.5.1
restfulr /media/volume/biocgpu2/biocbuild/bbs-3.22-bioc-gpu/R/site-library 0.0.16 4.5.1
reticulate /media/volume/biocgpu2/biocbuild/bbs-3.22-bioc-gpu/R/site-library 1.43.0 4.5.1
rhdf5 /media/volume/biocgpu2/biocbuild/bbs-3.22-bioc-gpu/R/site-library 2.53.6 4.5.1
rhdf5filters /media/volume/biocgpu2/biocbuild/bbs-3.22-bioc-gpu/R/site-library 1.21.4 4.5.1
Rhdf5lib /media/volume/biocgpu2/biocbuild/bbs-3.22-bioc-gpu/R/site-library 1.31.1 4.5.1
Rhtslib /media/volume/biocgpu2/biocbuild/bbs-3.22-bioc-gpu/R/site-library 3.5.1 4.5.1
rJava /media/volume/biocgpu2/biocbuild/bbs-3.22-bioc-gpu/R/site-library 1.0-11 4.5.1
rjson /media/volume/biocgpu2/biocbuild/bbs-3.22-bioc-gpu/R/site-library 0.2.23 4.5.1
rlang /media/volume/biocgpu2/biocbuild/bbs-3.22-bioc-gpu/R/site-library 1.1.6 4.5.1
rmarkdown /media/volume/biocgpu2/biocbuild/bbs-3.22-bioc-gpu/R/site-library 2.30 4.5.1
roxygen2 /media/volume/biocgpu2/biocbuild/bbs-3.22-bioc-gpu/R/site-library 7.3.3 4.5.1
rprojroot /media/volume/biocgpu2/biocbuild/bbs-3.22-bioc-gpu/R/site-library 2.1.1 4.5.1
Rsamtools /media/volume/biocgpu2/biocbuild/bbs-3.22-bioc-gpu/R/site-library 2.25.3 4.5.1
RSpectra /media/volume/biocgpu2/biocbuild/bbs-3.22-bioc-gpu/R/site-library 0.16-2 4.5.1
RSQLite /media/volume/biocgpu2/biocbuild/bbs-3.22-bioc-gpu/R/site-library 2.4.3 4.5.1
rstatix /media/volume/biocgpu2/biocbuild/bbs-3.22-bioc-gpu/R/site-library 0.7.3 4.5.1
rstudioapi /media/volume/biocgpu2/biocbuild/bbs-3.22-bioc-gpu/R/site-library 0.17.1 4.5.1
rsvd /media/volume/biocgpu2/biocbuild/bbs-3.22-bioc-gpu/R/site-library 1.0.5 4.5.1
rtracklayer /media/volume/biocgpu2/biocbuild/bbs-3.22-bioc-gpu/R/site-library 1.69.1 4.5.1
Rtsne /media/volume/biocgpu2/biocbuild/bbs-3.22-bioc-gpu/R/site-library 0.17 4.5.1
RUnit /media/volume/biocgpu2/biocbuild/bbs-3.22-bioc-gpu/R/site-library 0.4.33.1 4.5.1
rversions /media/volume/biocgpu2/biocbuild/bbs-3.22-bioc-gpu/R/site-library 3.0.0 4.5.1
rvest /media/volume/biocgpu2/biocbuild/bbs-3.22-bioc-gpu/R/site-library 1.0.5 4.5.1
S4Arrays /media/volume/biocgpu2/biocbuild/bbs-3.22-bioc-gpu/R/site-library 1.9.1 4.5.1
S4Vectors /media/volume/biocgpu2/biocbuild/bbs-3.22-bioc-gpu/R/site-library 0.47.4 4.5.1
S7 /media/volume/biocgpu2/biocbuild/bbs-3.22-bioc-gpu/R/site-library 0.2.0 4.5.1
sass /media/volume/biocgpu2/biocbuild/bbs-3.22-bioc-gpu/R/site-library 0.4.10 4.5.1
ScaledMatrix /media/volume/biocgpu2/biocbuild/bbs-3.22-bioc-gpu/R/site-library 1.17.0 4.5.1
scales /media/volume/biocgpu2/biocbuild/bbs-3.22-bioc-gpu/R/site-library 1.4.0 4.5.1
scater /media/volume/biocgpu2/biocbuild/bbs-3.22-bioc-gpu/R/site-library 1.37.0 4.5.1
scuttle /media/volume/biocgpu2/biocbuild/bbs-3.22-bioc-gpu/R/site-library 1.19.0 4.5.1
scviR /media/volume/biocgpu2/biocbuild/bbs-3.22-bioc-gpu/R/site-library 1.9.14 4.5.1
selectr /media/volume/biocgpu2/biocbuild/bbs-3.22-bioc-gpu/R/site-library 0.4-2 4.5.1
Seqinfo /media/volume/biocgpu2/biocbuild/bbs-3.22-bioc-gpu/R/site-library 0.99.3 4.5.1
sessioninfo /media/volume/biocgpu2/biocbuild/bbs-3.22-bioc-gpu/R/site-library 1.2.3 4.5.1
shiny /media/volume/biocgpu2/biocbuild/bbs-3.22-bioc-gpu/R/site-library 1.11.1 4.5.1
SingleCellExperiment /media/volume/biocgpu2/biocbuild/bbs-3.22-bioc-gpu/R/site-library 1.31.1 4.5.1
sitmo /media/volume/biocgpu2/biocbuild/bbs-3.22-bioc-gpu/R/site-library 2.0.2 4.5.1
snow /media/volume/biocgpu2/biocbuild/bbs-3.22-bioc-gpu/R/site-library 0.4-4 4.5.1
sourcetools /media/volume/biocgpu2/biocbuild/bbs-3.22-bioc-gpu/R/site-library 0.1.7-1 4.5.1
SparseArray /media/volume/biocgpu2/biocbuild/bbs-3.22-bioc-gpu/R/site-library 1.9.1 4.5.1
SparseM /media/volume/biocgpu2/biocbuild/bbs-3.22-bioc-gpu/R/site-library 1.84-2 4.5.1
statmod /media/volume/biocgpu2/biocbuild/bbs-3.22-bioc-gpu/R/site-library 1.5.1 4.5.1
stringdist /media/volume/biocgpu2/biocbuild/bbs-3.22-bioc-gpu/R/site-library 0.9.15 4.5.1
stringi /media/volume/biocgpu2/biocbuild/bbs-3.22-bioc-gpu/R/site-library 1.8.7 4.5.1
stringr /media/volume/biocgpu2/biocbuild/bbs-3.22-bioc-gpu/R/site-library 1.5.2 4.5.1
SummarizedExperiment /media/volume/biocgpu2/biocbuild/bbs-3.22-bioc-gpu/R/site-library 1.39.2 4.5.1
sys /media/volume/biocgpu2/biocbuild/bbs-3.22-bioc-gpu/R/site-library 3.4.3 4.5.1
systemfonts /media/volume/biocgpu2/biocbuild/bbs-3.22-bioc-gpu/R/site-library 1.3.1 4.5.1
tensorflow /media/volume/biocgpu2/biocbuild/bbs-3.22-bioc-gpu/R/site-library 2.20.0 4.5.1
testthat /media/volume/biocgpu2/biocbuild/bbs-3.22-bioc-gpu/R/site-library 3.2.3 4.5.1
textshaping /media/volume/biocgpu2/biocbuild/bbs-3.22-bioc-gpu/R/site-library 1.0.4 4.5.1
tfautograph /media/volume/biocgpu2/biocbuild/bbs-3.22-bioc-gpu/R/site-library 0.3.2 4.5.1
tfruns /media/volume/biocgpu2/biocbuild/bbs-3.22-bioc-gpu/R/site-library 1.5.4 4.5.1
tibble /media/volume/biocgpu2/biocbuild/bbs-3.22-bioc-gpu/R/site-library 3.3.0 4.5.1
tidyr /media/volume/biocgpu2/biocbuild/bbs-3.22-bioc-gpu/R/site-library 1.3.1 4.5.1
tidyselect /media/volume/biocgpu2/biocbuild/bbs-3.22-bioc-gpu/R/site-library 1.2.1 4.5.1
tinytex /media/volume/biocgpu2/biocbuild/bbs-3.22-bioc-gpu/R/site-library 0.57 4.5.1
urlchecker /media/volume/biocgpu2/biocbuild/bbs-3.22-bioc-gpu/R/site-library 1.0.1 4.5.1
usethis /media/volume/biocgpu2/biocbuild/bbs-3.22-bioc-gpu/R/site-library 3.2.1 4.5.1
utf8 /media/volume/biocgpu2/biocbuild/bbs-3.22-bioc-gpu/R/site-library 1.2.6 4.5.1
uwot /media/volume/biocgpu2/biocbuild/bbs-3.22-bioc-gpu/R/site-library 0.2.3 4.5.1
VariantAnnotation /media/volume/biocgpu2/biocbuild/bbs-3.22-bioc-gpu/R/site-library 1.55.2 4.5.1
vctrs /media/volume/biocgpu2/biocbuild/bbs-3.22-bioc-gpu/R/site-library 0.6.5 4.5.1
vipor /media/volume/biocgpu2/biocbuild/bbs-3.22-bioc-gpu/R/site-library 0.4.7 4.5.1
viridis /media/volume/biocgpu2/biocbuild/bbs-3.22-bioc-gpu/R/site-library 0.6.5 4.5.1
viridisLite /media/volume/biocgpu2/biocbuild/bbs-3.22-bioc-gpu/R/site-library 0.4.2 4.5.1
waldo /media/volume/biocgpu2/biocbuild/bbs-3.22-bioc-gpu/R/site-library 0.6.2 4.5.1
whisker /media/volume/biocgpu2/biocbuild/bbs-3.22-bioc-gpu/R/site-library 0.4.1 4.5.1
withr /media/volume/biocgpu2/biocbuild/bbs-3.22-bioc-gpu/R/site-library 3.0.2 4.5.1
xfun /media/volume/biocgpu2/biocbuild/bbs-3.22-bioc-gpu/R/site-library 0.53 4.5.1
XML /media/volume/biocgpu2/biocbuild/bbs-3.22-bioc-gpu/R/site-library 3.99-0.19 4.5.1
xml2 /media/volume/biocgpu2/biocbuild/bbs-3.22-bioc-gpu/R/site-library 1.4.0 4.5.1
xopen /media/volume/biocgpu2/biocbuild/bbs-3.22-bioc-gpu/R/site-library 1.0.1 4.5.1
xtable /media/volume/biocgpu2/biocbuild/bbs-3.22-bioc-gpu/R/site-library 1.8-4 4.5.1
XVector /media/volume/biocgpu2/biocbuild/bbs-3.22-bioc-gpu/R/site-library 0.49.1 4.5.1
yaml /media/volume/biocgpu2/biocbuild/bbs-3.22-bioc-gpu/R/site-library 2.3.10 4.5.1
zeallot /media/volume/biocgpu2/biocbuild/bbs-3.22-bioc-gpu/R/site-library 0.2.0 4.5.1
zip /media/volume/biocgpu2/biocbuild/bbs-3.22-bioc-gpu/R/site-library 2.3.3 4.5.1
base /media/volume/biocgpu2/biocbuild/bbs-3.22-bioc-gpu/R/library 4.5.1 4.5.1
boot /media/volume/biocgpu2/biocbuild/bbs-3.22-bioc-gpu/R/library 1.3-32 4.5.1
class /media/volume/biocgpu2/biocbuild/bbs-3.22-bioc-gpu/R/library 7.3-23 4.5.1
cluster /media/volume/biocgpu2/biocbuild/bbs-3.22-bioc-gpu/R/library 2.1.8.1 4.5.1
codetools /media/volume/biocgpu2/biocbuild/bbs-3.22-bioc-gpu/R/library 0.2-20 4.5.1
compiler /media/volume/biocgpu2/biocbuild/bbs-3.22-bioc-gpu/R/library 4.5.1 4.5.1
datasets /media/volume/biocgpu2/biocbuild/bbs-3.22-bioc-gpu/R/library 4.5.1 4.5.1
foreign /media/volume/biocgpu2/biocbuild/bbs-3.22-bioc-gpu/R/library 0.8-90 4.5.1
graphics /media/volume/biocgpu2/biocbuild/bbs-3.22-bioc-gpu/R/library 4.5.1 4.5.1
grDevices /media/volume/biocgpu2/biocbuild/bbs-3.22-bioc-gpu/R/library 4.5.1 4.5.1
grid /media/volume/biocgpu2/biocbuild/bbs-3.22-bioc-gpu/R/library 4.5.1 4.5.1
KernSmooth /media/volume/biocgpu2/biocbuild/bbs-3.22-bioc-gpu/R/library 2.23-26 4.5.1
lattice /media/volume/biocgpu2/biocbuild/bbs-3.22-bioc-gpu/R/library 0.22-7 4.5.1
MASS /media/volume/biocgpu2/biocbuild/bbs-3.22-bioc-gpu/R/library 7.3-65 4.5.1
Matrix /media/volume/biocgpu2/biocbuild/bbs-3.22-bioc-gpu/R/library 1.7-4 4.5.1
methods /media/volume/biocgpu2/biocbuild/bbs-3.22-bioc-gpu/R/library 4.5.1 4.5.1
mgcv /media/volume/biocgpu2/biocbuild/bbs-3.22-bioc-gpu/R/library 1.9-3 4.5.1
nlme /media/volume/biocgpu2/biocbuild/bbs-3.22-bioc-gpu/R/library 3.1-168 4.5.1
nnet /media/volume/biocgpu2/biocbuild/bbs-3.22-bioc-gpu/R/library 7.3-20 4.5.1
parallel /media/volume/biocgpu2/biocbuild/bbs-3.22-bioc-gpu/R/library 4.5.1 4.5.1
rpart /media/volume/biocgpu2/biocbuild/bbs-3.22-bioc-gpu/R/library 4.1.24 4.5.1
spatial /media/volume/biocgpu2/biocbuild/bbs-3.22-bioc-gpu/R/library 7.3-18 4.5.1
splines /media/volume/biocgpu2/biocbuild/bbs-3.22-bioc-gpu/R/library 4.5.1 4.5.1
stats /media/volume/biocgpu2/biocbuild/bbs-3.22-bioc-gpu/R/library 4.5.1 4.5.1
stats4 /media/volume/biocgpu2/biocbuild/bbs-3.22-bioc-gpu/R/library 4.5.1 4.5.1
survival /media/volume/biocgpu2/biocbuild/bbs-3.22-bioc-gpu/R/library 3.8-3 4.5.1
tcltk /media/volume/biocgpu2/biocbuild/bbs-3.22-bioc-gpu/R/library 4.5.1 4.5.1
tools /media/volume/biocgpu2/biocbuild/bbs-3.22-bioc-gpu/R/library 4.5.1 4.5.1
utils /media/volume/biocgpu2/biocbuild/bbs-3.22-bioc-gpu/R/library 4.5.1 4.5.1