Back to Multiple platform build/check report for BioC 3.23:   simplified   long
ABCDEFGHIJKLMNOPQRSTUV[W]XYZ

This page was generated on 2025-11-17 11:40 -0500 (Mon, 17 Nov 2025).

HostnameOSArch (*)R versionInstalled pkgs
nebbiolo1Linux (Ubuntu 24.04.3 LTS)x86_64R Under development (unstable) (2025-10-20 r88955) -- "Unsuffered Consequences" 4826
lconwaymacOS 12.7.6 Montereyx86_64R Under development (unstable) (2025-10-21 r88958) -- "Unsuffered Consequences" 4491
kjohnson3macOS 13.7.7 Venturaarm64R Under development (unstable) (2025-11-04 r88984) -- "Unsuffered Consequences" 4562
Click on any hostname to see more info about the system (e.g. compilers)      (*) as reported by 'uname -p', except on Windows and Mac OS X

Package 2297/2325HostnameOS / ArchINSTALLBUILDCHECKBUILD BIN
wavClusteR 2.45.0  (landing page)
Federico Comoglio
Snapshot Date: 2025-11-16 13:40 -0500 (Sun, 16 Nov 2025)
git_url: https://git.bioconductor.org/packages/wavClusteR
git_branch: devel
git_last_commit: f078fce
git_last_commit_date: 2025-10-29 10:19:50 -0500 (Wed, 29 Oct 2025)
nebbiolo1Linux (Ubuntu 24.04.3 LTS) / x86_64  ERROR    ERROR  skipped
lconwaymacOS 12.7.6 Monterey / x86_64  ERROR    ERROR  skippedskipped
kjohnson3macOS 13.7.7 Ventura / arm64  ERROR    ERROR  skippedskipped


BUILD results for wavClusteR on lconway

To the developers/maintainers of the wavClusteR package:
- Allow up to 24 hours (and sometimes 48 hours) for your latest push to git@git.bioconductor.org:packages/wavClusteR.git to reflect on this report. See Troubleshooting Build Report for more information.
- Use the following Renviron settings to reproduce errors and warnings.
- If 'R CMD check' started to fail recently on the Linux builder(s) over a missing dependency, add the missing dependency to 'Suggests:' in your DESCRIPTION file. See Renviron.bioc for more information.

raw results


Summary

Package: wavClusteR
Version: 2.45.0
Command: /Library/Frameworks/R.framework/Resources/bin/R CMD build --keep-empty-dirs --no-resave-data wavClusteR
StartedAt: 2025-11-17 00:08:10 -0500 (Mon, 17 Nov 2025)
EndedAt: 2025-11-17 00:08:22 -0500 (Mon, 17 Nov 2025)
EllapsedTime: 12.1 seconds
RetCode: 1
Status:   ERROR  
PackageFile: None
PackageFileSize: NA

Command output

##############################################################################
##############################################################################
###
### Running command:
###
###   /Library/Frameworks/R.framework/Resources/bin/R CMD build --keep-empty-dirs --no-resave-data wavClusteR
###
##############################################################################
##############################################################################


* checking for file ‘wavClusteR/DESCRIPTION’ ... OK
* preparing ‘wavClusteR’:
* checking DESCRIPTION meta-information ... OK
* installing the package (it is needed to build vignettes)
      -----------------------------------
* installing *source* package ‘wavClusteR’ ...
** this is package ‘wavClusteR’ version ‘2.45.0’
** using staged installation
** R
** data
** inst
** byte-compile and prepare package for lazy loading
Error: object ‘supportedUCSCtables’ is not exported by 'namespace:GenomicFeatures'
Execution halted
ERROR: lazy loading failed for package ‘wavClusteR’
* removing ‘/private/var/folders/db/4tvgx8jx4z3fm1gzlnlzw9rc0000gq/T/Rtmp3og1rp/Rinstfd8b66b39d71/wavClusteR’
      -----------------------------------
ERROR: package installation failed