Back to Multiple platform build/check report for BioC 3.21:   simplified   long
ABCDEFGHIJKLMNOPQRSTUV[W]XYZ

This page was generated on 2025-02-03 12:37 -0500 (Mon, 03 Feb 2025).

HostnameOSArch (*)R versionInstalled pkgs
nebbiolo1Linux (Ubuntu 24.04.1 LTS)x86_64R Under development (unstable) (2025-01-20 r87609) -- "Unsuffered Consequences" 4704
palomino7Windows Server 2022 Datacenterx64R Under development (unstable) (2025-01-21 r87610 ucrt) -- "Unsuffered Consequences" 4467
lconwaymacOS 12.7.1 Montereyx86_64R Under development (unstable) (2025-01-22 r87618) -- "Unsuffered Consequences" 4478
Click on any hostname to see more info about the system (e.g. compilers)      (*) as reported by 'uname -p', except on Windows and Mac OS X

Package 2259/2289HostnameOS / ArchINSTALLBUILDCHECKBUILD BIN
waddR 1.21.0  (landing page)
Julian Flesch
Snapshot Date: 2025-02-02 13:40 -0500 (Sun, 02 Feb 2025)
git_url: https://git.bioconductor.org/packages/waddR
git_branch: devel
git_last_commit: fc50998
git_last_commit_date: 2024-10-29 10:41:03 -0500 (Tue, 29 Oct 2024)
nebbiolo1Linux (Ubuntu 24.04.1 LTS) / x86_64  OK    OK    OK  UNNEEDED, same version is already published
palomino7Windows Server 2022 Datacenter / x64  OK    ERROR  skippedskipped
lconwaymacOS 12.7.1 Monterey / x86_64  OK    ERROR  skippedskipped


CHECK results for waddR on nebbiolo1

To the developers/maintainers of the waddR package:
- Allow up to 24 hours (and sometimes 48 hours) for your latest push to git@git.bioconductor.org:packages/waddR.git to reflect on this report. See Troubleshooting Build Report for more information.
- Use the following Renviron settings to reproduce errors and warnings.
- If 'R CMD check' started to fail recently on the Linux builder(s) over a missing dependency, add the missing dependency to 'Suggests:' in your DESCRIPTION file. See Renviron.bioc for more information.

raw results


Summary

Package: waddR
Version: 1.21.0
Command: /home/biocbuild/bbs-3.21-bioc/R/bin/R CMD check --install=check:waddR.install-out.txt --library=/home/biocbuild/bbs-3.21-bioc/R/site-library --timings waddR_1.21.0.tar.gz
StartedAt: 2025-02-03 03:34:31 -0500 (Mon, 03 Feb 2025)
EndedAt: 2025-02-03 03:49:03 -0500 (Mon, 03 Feb 2025)
EllapsedTime: 872.0 seconds
RetCode: 0
Status:   OK  
CheckDir: waddR.Rcheck
Warnings: 0

Command output

##############################################################################
##############################################################################
###
### Running command:
###
###   /home/biocbuild/bbs-3.21-bioc/R/bin/R CMD check --install=check:waddR.install-out.txt --library=/home/biocbuild/bbs-3.21-bioc/R/site-library --timings waddR_1.21.0.tar.gz
###
##############################################################################
##############################################################################


* using log directory ‘/home/biocbuild/bbs-3.21-bioc/meat/waddR.Rcheck’
* using R Under development (unstable) (2025-01-20 r87609)
* using platform: x86_64-pc-linux-gnu
* R was compiled by
    gcc (Ubuntu 13.3.0-6ubuntu2~24.04) 13.3.0
    GNU Fortran (Ubuntu 13.3.0-6ubuntu2~24.04) 13.3.0
* running under: Ubuntu 24.04.1 LTS
* using session charset: UTF-8
* checking for file ‘waddR/DESCRIPTION’ ... OK
* checking extension type ... Package
* this is package ‘waddR’ version ‘1.21.0’
* package encoding: UTF-8
* checking package namespace information ... OK
* checking package dependencies ... OK
* checking if this is a source package ... OK
* checking if there is a namespace ... OK
* checking for hidden files and directories ... OK
* checking for portable file names ... OK
* checking for sufficient/correct file permissions ... OK
* checking whether package ‘waddR’ can be installed ... OK
* used C++ compiler: ‘g++ (Ubuntu 13.3.0-6ubuntu2~24.04) 13.3.0’
* checking C++ specification ... NOTE
  Specified C++11: please drop specification unless essential
* checking installed package size ... OK
* checking package directory ... OK
* checking ‘build’ directory ... OK
* checking DESCRIPTION meta-information ... NOTE
License stub is invalid DCF.
* checking top-level files ... OK
* checking for left-over files ... OK
* checking index information ... OK
* checking package subdirectories ... OK
* checking code files for non-ASCII characters ... OK
* checking R files for syntax errors ... OK
* checking whether the package can be loaded ... OK
* checking whether the package can be loaded with stated dependencies ... OK
* checking whether the package can be unloaded cleanly ... OK
* checking whether the namespace can be loaded with stated dependencies ... OK
* checking whether the namespace can be unloaded cleanly ... OK
* checking loading without being on the library search path ... OK
* checking whether startup messages can be suppressed ... OK
* checking dependencies in R code ... OK
* checking S3 generic/method consistency ... OK
* checking replacement functions ... OK
* checking foreign function calls ... OK
* checking R code for possible problems ... OK
* checking Rd files ... OK
* checking Rd metadata ... OK
* checking Rd cross-references ... OK
* checking for missing documentation entries ... OK
* checking for code/documentation mismatches ... OK
* checking Rd \usage sections ... OK
* checking Rd contents ... OK
* checking for unstated dependencies in examples ... OK
* checking line endings in C/C++/Fortran sources/headers ... OK
* checking line endings in Makefiles ... OK
* checking compilation flags in Makevars ... OK
* checking for GNU extensions in Makefiles ... OK
* checking for portable use of $(BLAS_LIBS) and $(LAPACK_LIBS) ... OK
* checking use of PKG_*FLAGS in Makefiles ... OK
* checking compiled code ... NOTE
Note: information on .o files is not available
* checking files in ‘vignettes’ ... OK
* checking examples ... OK
Examples with CPU (user + system) or elapsed time > 5s
                          user system elapsed
wasserstein.sc-method 2064.980  38.16 533.806
testZeroes-method       19.772   2.68   8.727
* checking for unstated dependencies in ‘tests’ ... OK
* checking tests ...
  Running ‘testthat.R’
 OK
* checking for unstated dependencies in vignettes ... OK
* checking package vignettes ... OK
* checking re-building of vignette outputs ... OK
* checking PDF version of manual ... OK
* DONE

Status: 3 NOTEs
See
  ‘/home/biocbuild/bbs-3.21-bioc/meat/waddR.Rcheck/00check.log’
for details.


Installation output

waddR.Rcheck/00install.out

##############################################################################
##############################################################################
###
### Running command:
###
###   /home/biocbuild/bbs-3.21-bioc/R/bin/R CMD INSTALL waddR
###
##############################################################################
##############################################################################


* installing to library ‘/home/biocbuild/bbs-3.21-bioc/R/site-library’
* installing *source* package ‘waddR’ ...
** this is package ‘waddR’ version ‘1.21.0’
** using staged installation
** libs
using C++ compiler: ‘g++ (Ubuntu 13.3.0-6ubuntu2~24.04) 13.3.0’
using C++11
g++ -std=gnu++11 -I"/home/biocbuild/bbs-3.21-bioc/R/include" -DNDEBUG  -I'/home/biocbuild/bbs-3.21-bioc/R/site-library/Rcpp/include' -I'/home/biocbuild/bbs-3.21-bioc/R/site-library/RcppArmadillo/include' -I/usr/local/include    -fpic  -g -O2  -DR_NO_REMAP -c RcppExports.cpp -o RcppExports.o
g++ -std=gnu++11 -I"/home/biocbuild/bbs-3.21-bioc/R/include" -DNDEBUG  -I'/home/biocbuild/bbs-3.21-bioc/R/site-library/Rcpp/include' -I'/home/biocbuild/bbs-3.21-bioc/R/site-library/RcppArmadillo/include' -I/usr/local/include    -fpic  -g -O2  -DR_NO_REMAP -c wasserstein.cpp -o wasserstein.o
g++ -std=gnu++11 -shared -L/home/biocbuild/bbs-3.21-bioc/R/lib -L/usr/local/lib -o waddR.so RcppExports.o wasserstein.o -L/home/biocbuild/bbs-3.21-bioc/R/lib -lR
installing to /home/biocbuild/bbs-3.21-bioc/R/site-library/00LOCK-waddR/00new/waddR/libs
** R
** inst
** byte-compile and prepare package for lazy loading
** help
*** installing help indices
** building package indices
** installing vignettes
** testing if installed package can be loaded from temporary location
** checking absolute paths in shared objects and dynamic libraries
** testing if installed package can be loaded from final location
** testing if installed package keeps a record of temporary installation path
* DONE (waddR)

Tests output

waddR.Rcheck/tests/testthat.Rout


R Under development (unstable) (2025-01-20 r87609) -- "Unsuffered Consequences"
Copyright (C) 2025 The R Foundation for Statistical Computing
Platform: x86_64-pc-linux-gnu

R is free software and comes with ABSOLUTELY NO WARRANTY.
You are welcome to redistribute it under certain conditions.
Type 'license()' or 'licence()' for distribution details.

R is a collaborative project with many contributors.
Type 'contributors()' for more information and
'citation()' on how to cite R or R packages in publications.

Type 'demo()' for some demos, 'help()' for on-line help, or
'help.start()' for an HTML browser interface to help.
Type 'q()' to quit R.

> # setting R_TESTS to empty string because of
> # https://github.com/hadley/testthat/issues/144
> # revert this when that issue in R is fixed.
> Sys.setenv("R_TESTS" = "")
> 
> library(testthat)
> library(waddR)
> library(devtools)
Loading required package: usethis

Attaching package: 'devtools'

The following object is masked from 'package:testthat':

    test_file

> library(rprojroot)
> 
> # Workaround for issue on build systems, where package directory can't be found
> # and tests for non-exported functions throw errors.
> tryCatch({
+ 
+   dir.start <- "."
+   if ("waddR" %in% dir(".."))
+     dir.start <- "../waddR/"
+   crit <- has_dir("DESCRIPTION")
+   abspath <- find_root(dir.start, criterion=crit)
+   #load the non-exported functions defined in waddR
+   load_all(abspath)
+       
+ }, error = function(err){
+ 
+   # Workaround of finding the package dir has not worked => catch 
+   # rprojroot::find_root() error. Redefine all non-exported functions that are
+   # tested as a dummy function to avaid "not defined" errors and have them 
+   # skipped
+   dummy <- function(...) {return(1)}
+   abs_test_export <- dummy
+   sum_test_export <- dummy
+   mean_test_export <- dummy
+   sd_test_export <- dummy
+   subtract_test_export <- dummy
+   add_test_export <- dummy
+   add_test_export_sv <- dummy
+   divide_test_export_vectors <- dummy
+   divide_test_export_sv <- dummy
+   multiply_test_export_sv <- dummy
+   multiply_test_export <- dummy
+   pow_test_export <- dummy
+   cumSum_test_export <- dummy
+   interval_table_test_export <- dummy
+   rep_weighted_test_export <- dummy
+   concat_test_export <- dummy
+   cor_test_export <- dummy
+   equidist_quantile_test_export <- dummy
+   quantile_test_export <- dummy
+ 
+ }, finally = {
+ 
+   # run tests:
+   #   A) on all functions, both exported and non-exported
+   #   B) just on exported, skip all non-exported
+   test_check("waddR")
+ 
+ })
[ FAIL 0 | WARN 3 | SKIP 0 | PASS 92 ]

[ FAIL 0 | WARN 3 | SKIP 0 | PASS 92 ]
> 
> 
> 
> proc.time()
   user  system elapsed 
 19.881   3.066  22.416 

Example timings

waddR.Rcheck/waddR-Ex.timings

nameusersystemelapsed
permutations0.0010.0000.001
squared_wass_approx0.0010.0010.001
squared_wass_decomp0.0000.0010.001
testZeroes-method19.772 2.680 8.727
wasserstein.sc-method2064.980 38.160 533.806
wasserstein.test3.0680.3873.468
wasserstein_metric0.0000.0010.001