Back to Build/check report for BioC 3.23:   simplified   long
ABCDEFGHIJKLMNOPQRST[U]VWXYZ

This page was generated on 2025-11-01 11:33 -0400 (Sat, 01 Nov 2025).

HostnameOSArch (*)R versionInstalled pkgs
nebbiolo1Linux (Ubuntu 24.04.3 LTS)x86_64R Under development (unstable) (2025-10-20 r88955) -- "Unsuffered Consequences" 4774
Click on any hostname to see more info about the system (e.g. compilers)      (*) as reported by 'uname -p', except on Windows and Mac OS X

Package 2252/2321HostnameOS / ArchINSTALLBUILDCHECKBUILD BIN
uncoverappLib 1.21.0  (landing page)
Emanuela Iovino
Snapshot Date: 2025-10-31 13:40 -0400 (Fri, 31 Oct 2025)
git_url: https://git.bioconductor.org/packages/uncoverappLib
git_branch: devel
git_last_commit: 99c7088
git_last_commit_date: 2025-10-29 11:01:16 -0400 (Wed, 29 Oct 2025)
nebbiolo1Linux (Ubuntu 24.04.3 LTS) / x86_64  OK    OK    OK  NO, package depends on 'Gviz' which is not available


BUILD results for uncoverappLib on nebbiolo1

To the developers/maintainers of the uncoverappLib package:
- Allow up to 24 hours (and sometimes 48 hours) for your latest push to git@git.bioconductor.org:packages/uncoverappLib.git to reflect on this report. See Troubleshooting Build Report for more information.
- Use the following Renviron settings to reproduce errors and warnings.
- If 'R CMD check' started to fail recently on the Linux builder(s) over a missing dependency, add the missing dependency to 'Suggests:' in your DESCRIPTION file. See Renviron.bioc for more information.

raw results


Summary

Package: uncoverappLib
Version: 1.21.0
Command: /home/biocbuild/bbs-3.23-bioc/R/bin/R CMD build --keep-empty-dirs --no-resave-data uncoverappLib
StartedAt: 2025-10-31 20:45:32 -0400 (Fri, 31 Oct 2025)
EndedAt: 2025-10-31 20:46:49 -0400 (Fri, 31 Oct 2025)
EllapsedTime: 77.1 seconds
RetCode: 0
Status:   OK  
PackageFile: uncoverappLib_1.21.0.tar.gz
PackageFileSize: 3.43 MiB

Command output

##############################################################################
##############################################################################
###
### Running command:
###
###   /home/biocbuild/bbs-3.23-bioc/R/bin/R CMD build --keep-empty-dirs --no-resave-data uncoverappLib
###
##############################################################################
##############################################################################


* checking for file ‘uncoverappLib/DESCRIPTION’ ... OK
* preparing ‘uncoverappLib’:
* checking DESCRIPTION meta-information ... OK
* installing the package (it is needed to build vignettes)
* creating vignettes ... OK
* checking for LF line-endings in source and make files and shell scripts
* checking for empty or unneeded directories
Omitted ‘LazyData’ from DESCRIPTION
* building ‘uncoverappLib_1.21.0.tar.gz’