Back to Multiple platform build/check report for BioC 3.21: simplified long |
|
This page was generated on 2025-02-18 11:43 -0500 (Tue, 18 Feb 2025).
Hostname | OS | Arch (*) | R version | Installed pkgs |
---|---|---|---|---|
nebbiolo1 | Linux (Ubuntu 24.04.1 LTS) | x86_64 | R Under development (unstable) (2025-01-20 r87609) -- "Unsuffered Consequences" | 4720 |
palomino7 | Windows Server 2022 Datacenter | x64 | R Under development (unstable) (2025-01-21 r87610 ucrt) -- "Unsuffered Consequences" | 4482 |
lconway | macOS 12.7.1 Monterey | x86_64 | R Under development (unstable) (2025-01-22 r87618) -- "Unsuffered Consequences" | 4493 |
kjohnson3 | macOS 13.7.1 Ventura | arm64 | R Under development (unstable) (2025-01-20 r87609) -- "Unsuffered Consequences" | 4446 |
Click on any hostname to see more info about the system (e.g. compilers) (*) as reported by 'uname -p', except on Windows and Mac OS X |
Package 2217/2295 | Hostname | OS / Arch | INSTALL | BUILD | CHECK | BUILD BIN | ||||||||
twoddpcr 1.31.0 (landing page) Anthony Chiu
| nebbiolo1 | Linux (Ubuntu 24.04.1 LTS) / x86_64 | OK | OK | OK | ![]() | ||||||||
palomino7 | Windows Server 2022 Datacenter / x64 | OK | OK | OK | OK | ![]() | ||||||||
lconway | macOS 12.7.1 Monterey / x86_64 | OK | OK | OK | OK | ![]() | ||||||||
kjohnson3 | macOS 13.7.1 Ventura / arm64 | OK | OK | OK | OK | ![]() | ||||||||
To the developers/maintainers of the twoddpcr package: - Allow up to 24 hours (and sometimes 48 hours) for your latest push to git@git.bioconductor.org:packages/twoddpcr.git to reflect on this report. See Troubleshooting Build Report for more information. - Use the following Renviron settings to reproduce errors and warnings. - If 'R CMD check' started to fail recently on the Linux builder(s) over a missing dependency, add the missing dependency to 'Suggests:' in your DESCRIPTION file. See Renviron.bioc for more information. |
Package: twoddpcr |
Version: 1.31.0 |
Command: /Library/Frameworks/R.framework/Resources/bin/R CMD check --install=check:twoddpcr.install-out.txt --library=/Library/Frameworks/R.framework/Resources/library --no-vignettes --timings twoddpcr_1.31.0.tar.gz |
StartedAt: 2025-02-17 23:48:52 -0500 (Mon, 17 Feb 2025) |
EndedAt: 2025-02-17 23:51:03 -0500 (Mon, 17 Feb 2025) |
EllapsedTime: 131.2 seconds |
RetCode: 0 |
Status: OK |
CheckDir: twoddpcr.Rcheck |
Warnings: 0 |
############################################################################## ############################################################################## ### ### Running command: ### ### /Library/Frameworks/R.framework/Resources/bin/R CMD check --install=check:twoddpcr.install-out.txt --library=/Library/Frameworks/R.framework/Resources/library --no-vignettes --timings twoddpcr_1.31.0.tar.gz ### ############################################################################## ############################################################################## * using log directory ‘/Users/biocbuild/bbs-3.21-bioc/meat/twoddpcr.Rcheck’ * using R Under development (unstable) (2025-01-22 r87618) * using platform: x86_64-apple-darwin20 * R was compiled by Apple clang version 14.0.0 (clang-1400.0.29.202) GNU Fortran (GCC) 14.2.0 * running under: macOS Monterey 12.7.6 * using session charset: UTF-8 * using option ‘--no-vignettes’ * checking for file ‘twoddpcr/DESCRIPTION’ ... OK * this is package ‘twoddpcr’ version ‘1.31.0’ * checking package namespace information ... OK * checking package dependencies ... OK * checking if this is a source package ... OK * checking if there is a namespace ... OK * checking for hidden files and directories ... OK * checking for portable file names ... OK * checking for sufficient/correct file permissions ... OK * checking whether package ‘twoddpcr’ can be installed ... OK * checking installed package size ... OK * checking package directory ... OK * checking ‘build’ directory ... OK * checking DESCRIPTION meta-information ... OK * checking top-level files ... OK * checking for left-over files ... OK * checking index information ... OK * checking package subdirectories ... OK * checking code files for non-ASCII characters ... OK * checking R files for syntax errors ... OK * checking whether the package can be loaded ... OK * checking whether the package can be loaded with stated dependencies ... OK * checking whether the package can be unloaded cleanly ... OK * checking whether the namespace can be loaded with stated dependencies ... OK * checking whether the namespace can be unloaded cleanly ... OK * checking dependencies in R code ... OK * checking S3 generic/method consistency ... OK * checking replacement functions ... OK * checking foreign function calls ... OK * checking R code for possible problems ... OK * checking Rd files ... OK * checking Rd metadata ... OK * checking Rd cross-references ... OK * checking for missing documentation entries ... OK * checking for code/documentation mismatches ... OK * checking Rd \usage sections ... NOTE S3 methods shown with full name in Rd file 'ggplot.well.Rd': ‘ggplot.well’ ‘ggplot.plate’ The \usage entries for S3 methods should use the \method markup and not their full name. See chapter ‘Writing R documentation files’ in the ‘Writing R Extensions’ manual. * checking Rd contents ... OK * checking for unstated dependencies in examples ... OK * checking contents of ‘data’ directory ... OK * checking data for non-ASCII characters ... OK * checking LazyData ... OK * checking data for ASCII and uncompressed saves ... OK * checking files in ‘vignettes’ ... OK * checking examples ... OK Examples with CPU (user + system) or elapsed time > 5s user system elapsed knnClassify 7.415 0.197 7.678 ggplot.well 6.146 0.252 6.431 gridClassify 4.995 0.133 5.159 * checking for unstated dependencies in ‘tests’ ... OK * checking tests ... Running ‘testthat.R’ OK * checking for unstated dependencies in vignettes ... OK * checking package vignettes ... OK * checking running R code from vignettes ... SKIPPED * checking re-building of vignette outputs ... SKIPPED * checking PDF version of manual ... OK * DONE Status: 1 NOTE See ‘/Users/biocbuild/bbs-3.21-bioc/meat/twoddpcr.Rcheck/00check.log’ for details.
twoddpcr.Rcheck/00install.out
############################################################################## ############################################################################## ### ### Running command: ### ### /Library/Frameworks/R.framework/Resources/bin/R CMD INSTALL twoddpcr ### ############################################################################## ############################################################################## * installing to library ‘/Library/Frameworks/R.framework/Versions/4.5-x86_64/Resources/library’ * installing *source* package ‘twoddpcr’ ... ** this is package ‘twoddpcr’ version ‘1.31.0’ ** using staged installation ** R ** data *** moving datasets to lazyload DB ** inst ** byte-compile and prepare package for lazy loading ** help *** installing help indices ** building package indices ** installing vignettes ** testing if installed package can be loaded from temporary location ** testing if installed package can be loaded from final location ** testing if installed package keeps a record of temporary installation path * DONE (twoddpcr)
twoddpcr.Rcheck/tests/testthat.Rout
R Under development (unstable) (2025-01-22 r87618) -- "Unsuffered Consequences" Copyright (C) 2025 The R Foundation for Statistical Computing Platform: x86_64-apple-darwin20 R is free software and comes with ABSOLUTELY NO WARRANTY. You are welcome to redistribute it under certain conditions. Type 'license()' or 'licence()' for distribution details. R is a collaborative project with many contributors. Type 'contributors()' for more information and 'citation()' on how to cite R or R packages in publications. Type 'demo()' for some demos, 'help()' for on-line help, or 'help.start()' for an HTML browser interface to help. Type 'q()' to quit R. > library(testthat) > library(twoddpcr) > > test_check("twoddpcr") [ FAIL 0 | WARN 3 | SKIP 0 | PASS 155 ] [ FAIL 0 | WARN 3 | SKIP 0 | PASS 155 ] > > proc.time() user system elapsed 6.496 0.521 7.075
twoddpcr.Rcheck/twoddpcr-Ex.timings
name | user | system | elapsed | |
amplitudes | 0.333 | 0.025 | 0.364 | |
basicsSummary | 0.004 | 0.001 | 0.005 | |
castSummary | 0.022 | 0.005 | 0.027 | |
classCov | 0.055 | 0.005 | 0.061 | |
classMeans | 0.077 | 0.011 | 0.088 | |
classStats | 0.078 | 0.010 | 0.088 | |
clusterCentres | 0.848 | 0.059 | 0.912 | |
copiesSummary | 0.005 | 0.001 | 0.006 | |
ddpcrPlate-class | 0.298 | 0.008 | 0.308 | |
ddpcrWell-class | 0.026 | 0.002 | 0.027 | |
ddpcrWell-methods | 0.302 | 0.005 | 0.309 | |
dropletPlot | 4.068 | 0.197 | 4.329 | |
exportTable | 0.144 | 0.030 | 0.187 | |
extractPlateName | 0.000 | 0.000 | 0.001 | |
extractWellNames | 0.001 | 0.001 | 0.001 | |
facetPlot | 2.193 | 0.104 | 2.308 | |
flatPlot | 3.682 | 0.205 | 3.921 | |
fullCopiesSummary | 0.006 | 0.002 | 0.007 | |
fullCountsSummary | 0.024 | 0.006 | 0.030 | |
ggplot.well | 6.146 | 0.252 | 6.431 | |
gridClassify | 4.995 | 0.133 | 5.159 | |
heatPlot | 1.729 | 0.080 | 1.821 | |
kmeansClassify | 1.183 | 0.059 | 1.248 | |
knnClassify | 7.415 | 0.197 | 7.678 | |
mahalanobisRain | 0.651 | 0.038 | 0.693 | |
mutantCopiesSummary | 0.005 | 0.001 | 0.006 | |
numDroplets | 0.239 | 0.009 | 0.251 | |
parseClusterCounts | 0.009 | 0.003 | 0.013 | |
plateClassification | 0.916 | 0.029 | 0.951 | |
plateClassificationMethod | 0.387 | 0.006 | 0.395 | |
plateSummary | 1.601 | 0.033 | 1.645 | |
positiveCounts | 0.024 | 0.001 | 0.025 | |
readCSVDataFrame | 0.014 | 0.005 | 0.019 | |
relabelClasses | 0.038 | 0.001 | 0.039 | |
removeDropletClasses | 0.616 | 0.045 | 0.666 | |
renormalisePlate | 3.330 | 0.158 | 3.522 | |
sdRain | 2.241 | 0.053 | 2.307 | |
setChannelNames | 0.002 | 0.001 | 0.002 | |
setDropletVolume | 0.000 | 0.001 | 0.001 | |
sortDataFrame | 0.002 | 0.002 | 0.005 | |
sortWells | 0.254 | 0.002 | 0.257 | |
thresholdClassify | 1.597 | 0.048 | 1.657 | |
wellClassification | 0.019 | 0.002 | 0.022 | |
wellClassificationMethod | 0.024 | 0.001 | 0.026 | |
whiteTheme | 1.430 | 0.048 | 1.491 | |
wildTypeCopiesSummary | 0.004 | 0.002 | 0.006 | |