| Back to Build/check report for BioC 3.23: simplified long | 
  | 
This page was generated on 2025-11-03 11:33 -0500 (Mon, 03 Nov 2025).
| Hostname | OS | Arch (*) | R version | Installed pkgs | 
|---|---|---|---|---|
| nebbiolo1 | Linux (Ubuntu 24.04.3 LTS) | x86_64 | R Under development (unstable) (2025-10-20 r88955) -- "Unsuffered Consequences" | 4775 | 
| Click on any hostname to see more info about the system (e.g. compilers) (*) as reported by 'uname -p', except on Windows and Mac OS X | ||||
| Package 2221/2321 | Hostname | OS / Arch | INSTALL | BUILD | CHECK | BUILD BIN | ||||||||
| treekoR 1.19.0  (landing page) Adam Chan 
  | nebbiolo1 | Linux (Ubuntu 24.04.3 LTS) / x86_64 | OK | OK | OK | |||||||||
| 
To the developers/maintainers of the treekoR package: - Allow up to 24 hours (and sometimes 48 hours) for your latest push to git@git.bioconductor.org:packages/treekoR.git to reflect on this report. See Troubleshooting Build Report for more information. - Use the following Renviron settings to reproduce errors and warnings. - If 'R CMD check' started to fail recently on the Linux builder(s) over a missing dependency, add the missing dependency to 'Suggests:' in your DESCRIPTION file. See Renviron.bioc for more information.  | 
| Package: treekoR | 
| Version: 1.19.0 | 
| Command: /home/biocbuild/bbs-3.23-bioc/R/bin/R CMD check --install=check:treekoR.install-out.txt --library=/home/biocbuild/bbs-3.23-bioc/R/site-library --timings treekoR_1.19.0.tar.gz | 
| StartedAt: 2025-11-03 04:21:40 -0500 (Mon, 03 Nov 2025) | 
| EndedAt: 2025-11-03 04:27:13 -0500 (Mon, 03 Nov 2025) | 
| EllapsedTime: 332.5 seconds | 
| RetCode: 0 | 
| Status: OK | 
| CheckDir: treekoR.Rcheck | 
| Warnings: 0 | 
##############################################################################
##############################################################################
###
### Running command:
###
###   /home/biocbuild/bbs-3.23-bioc/R/bin/R CMD check --install=check:treekoR.install-out.txt --library=/home/biocbuild/bbs-3.23-bioc/R/site-library --timings treekoR_1.19.0.tar.gz
###
##############################################################################
##############################################################################
* using log directory ‘/home/biocbuild/bbs-3.23-bioc/meat/treekoR.Rcheck’
* using R Under development (unstable) (2025-10-20 r88955)
* using platform: x86_64-pc-linux-gnu
* R was compiled by
    gcc (Ubuntu 13.3.0-6ubuntu2~24.04) 13.3.0
    GNU Fortran (Ubuntu 13.3.0-6ubuntu2~24.04) 13.3.0
* running under: Ubuntu 24.04.3 LTS
* using session charset: UTF-8
* checking for file ‘treekoR/DESCRIPTION’ ... OK
* checking extension type ... Package
* this is package ‘treekoR’ version ‘1.19.0’
* package encoding: UTF-8
* checking package namespace information ... OK
* checking package dependencies ... OK
* checking if this is a source package ... OK
* checking if there is a namespace ... OK
* checking for hidden files and directories ... OK
* checking for portable file names ... OK
* checking for sufficient/correct file permissions ... OK
* checking whether package ‘treekoR’ can be installed ... OK
* checking installed package size ... OK
* checking package directory ... OK
* checking ‘build’ directory ... OK
* checking DESCRIPTION meta-information ... OK
* checking top-level files ... OK
* checking for left-over files ... OK
* checking index information ... OK
* checking package subdirectories ... OK
* checking code files for non-ASCII characters ... OK
* checking R files for syntax errors ... OK
* checking whether the package can be loaded ... OK
* checking whether the package can be loaded with stated dependencies ... OK
* checking whether the package can be unloaded cleanly ... OK
* checking whether the namespace can be loaded with stated dependencies ... OK
* checking whether the namespace can be unloaded cleanly ... OK
* checking loading without being on the library search path ... OK
* checking dependencies in R code ... OK
* checking S3 generic/method consistency ... OK
* checking replacement functions ... OK
* checking foreign function calls ... OK
* checking R code for possible problems ... NOTE
addFreqBars: no visible binding for global variable ‘freq’
addFreqBars: no visible binding for global variable ‘xmax’
addFreqBars: no visible binding for global variable ‘y’
addFreqBars: no visible binding for global variable ‘xmin’
addFreqBars: no visible binding for global variable ‘ymin’
addFreqBars: no visible binding for global variable ‘ymax’
addFreqBars: no visible binding for global variable ‘x_label’
addFreqBars: no visible binding for global variable ‘freq_label’
addHeatMap: no visible binding for global variable ‘variable’
addHeatMap: no visible binding for global variable ‘value’
addHeatMap: no visible binding for global variable ‘y’
addHeatMap: no visible binding for global variable ‘label’
addHeatMap: no visible binding for global variable ‘.’
addHeatMap: no visible binding for global variable ‘x’
colourTree: no visible binding for global variable ‘stat_parent’
colourTree: no visible binding for global variable ‘x’
colourTree: no visible binding for global variable ‘y’
colourTree: no visible binding for global variable ‘stat_total’
colourTree: no visible binding for global variable ‘label’
getCellGMeans: no visible binding for global variable ‘cluster_id’
getCellGMeans: no visible binding for global variable ‘sample_id’
getCellProp: no visible binding for global variable ‘cluster_id’
getCellProp: no visible binding for global variable ‘sample_id’
getCellProp: no visible binding for global variable ‘.’
getClusterTree: no visible binding for global variable ‘cluster_id’
plotInteractiveHeatmap: no visible binding for global variable ‘label’
plotInteractiveHeatmap: no visible binding for global variable ‘node’
plotSigScatter: no visible binding for global variable ‘stat_total’
plotSigScatter: no visible binding for global variable ‘stat_parent’
plotSigScatter: no visible binding for global variable ‘isTip’
plotSigScatter: no visible binding for global variable ‘label’
runEdgeRTests: no visible binding for global variable ‘PValue’
runEdgeRTests: no visible binding for global variable ‘logFC’
runEdgeRTests: no visible binding for global variable ‘node’
runEdgeRTests: no visible binding for global variable ‘stat_parent’
runEdgeRTests: no visible binding for global variable ‘pval_parent’
runEdgeRTests: no visible binding for global variable ‘FDR_parent’
runEdgeRTests: no visible binding for global variable ‘PValue_total’
runEdgeRTests: no visible binding for global variable ‘logFC_total’
runEdgeRTests: no visible binding for global variable ‘stat_total’
runEdgeRTests: no visible binding for global variable ‘pval_total’
runEdgeRTests: no visible binding for global variable ‘FDR_total’
runGLMMTests: no visible binding for global variable ‘isTip’
runGLMMTests: no visible binding for global variable ‘node’
Undefined global functions or variables:
  . FDR_parent FDR_total PValue PValue_total cluster_id freq freq_label
  isTip label logFC logFC_total node pval_parent pval_total sample_id
  stat_parent stat_total value variable x x_label xmax xmin y ymax ymin
* checking Rd files ... OK
* checking Rd metadata ... OK
* checking Rd cross-references ... OK
* checking for missing documentation entries ... OK
* checking for code/documentation mismatches ... OK
* checking Rd \usage sections ... OK
* checking Rd contents ... OK
* checking for unstated dependencies in examples ... OK
* checking contents of ‘data’ directory ... OK
* checking data for non-ASCII characters ... OK
* checking data for ASCII and uncompressed saves ... OK
* checking files in ‘vignettes’ ... OK
* checking examples ... OK
* checking for unstated dependencies in ‘tests’ ... OK
* checking tests ...
  Running ‘testthat.R’
 OK
* checking for unstated dependencies in vignettes ... OK
* checking package vignettes ... OK
* checking re-building of vignette outputs ... OK
* checking PDF version of manual ... OK
* DONE
Status: 1 NOTE
See
  ‘/home/biocbuild/bbs-3.23-bioc/meat/treekoR.Rcheck/00check.log’
for details.
treekoR.Rcheck/00install.out
############################################################################## ############################################################################## ### ### Running command: ### ### /home/biocbuild/bbs-3.23-bioc/R/bin/R CMD INSTALL treekoR ### ############################################################################## ############################################################################## * installing to library ‘/home/biocbuild/bbs-3.23-bioc/R/site-library’ * installing *source* package ‘treekoR’ ... ** this is package ‘treekoR’ version ‘1.19.0’ ** using staged installation ** R ** data ** inst ** byte-compile and prepare package for lazy loading ** help *** installing help indices ** building package indices ** installing vignettes ** testing if installed package can be loaded from temporary location ** testing if installed package can be loaded from final location ** testing if installed package keeps a record of temporary installation path * DONE (treekoR)
treekoR.Rcheck/tests/testthat.Rout
R Under development (unstable) (2025-10-20 r88955) -- "Unsuffered Consequences"
Copyright (C) 2025 The R Foundation for Statistical Computing
Platform: x86_64-pc-linux-gnu
R is free software and comes with ABSOLUTELY NO WARRANTY.
You are welcome to redistribute it under certain conditions.
Type 'license()' or 'licence()' for distribution details.
R is a collaborative project with many contributors.
Type 'contributors()' for more information and
'citation()' on how to cite R or R packages in publications.
Type 'demo()' for some demos, 'help()' for on-line help, or
'help.start()' for an HTML browser interface to help.
Type 'q()' to quit R.
> library(testthat)
> library(treekoR)
> 
> test_check("treekoR")
[ FAIL 0 | WARN 0 | SKIP 0 | PASS 40 ]
> 
> proc.time()
   user  system elapsed 
 23.339   1.167  24.474 
treekoR.Rcheck/treekoR-Ex.timings
| name | user | system | elapsed | |
| DeBiasi_COVID_CD8_samp | 0.757 | 0.039 | 0.795 | |
| colourTree | 3.399 | 0.249 | 3.641 | |
| getCellGMeans | 2.682 | 0.096 | 2.776 | |
| getCellProp | 1.477 | 0.017 | 1.485 | |
| getClusterTree | 1.024 | 0.012 | 1.030 | |
| getTreeResults | 2.113 | 0.021 | 2.121 | |
| hopachToPhylo | 1.049 | 0.007 | 1.049 | |
| plotInteractiveHeatmap | 4.428 | 0.123 | 4.547 | |
| runHOPACH | 0.968 | 0.008 | 0.970 | |
| testTree | 2.193 | 0.067 | 2.254 | |