Back to Multiple platform build/check report for BioC 3.22:   simplified   long
ABCDEFGHIJKLMNOPQRS[T]UVWXYZ

This page was generated on 2025-05-28 12:12 -0400 (Wed, 28 May 2025).

HostnameOSArch (*)R versionInstalled pkgs
nebbiolo2Linux (Ubuntu 24.04.1 LTS)x86_644.5.0 (2025-04-11) -- "How About a Twenty-Six" 4756
palomino8Windows Server 2022 Datacenterx644.5.0 (2025-04-11 ucrt) -- "How About a Twenty-Six" 4531
lconwaymacOS 12.7.1 Montereyx86_644.5.0 Patched (2025-04-21 r88169) -- "How About a Twenty-Six" 4568
kjohnson3macOS 13.7.1 Venturaarm644.5.0 Patched (2025-04-21 r88169) -- "How About a Twenty-Six" 4508
taishanLinux (openEuler 24.03 LTS)aarch644.5.0 (2025-04-11) -- "How About a Twenty-Six" 4464
Click on any hostname to see more info about the system (e.g. compilers)      (*) as reported by 'uname -p', except on Windows and Mac OS X

Package 2154/2306HostnameOS / ArchINSTALLBUILDCHECKBUILD BIN
tidyCoverage 1.5.0  (landing page)
Jacques Serizay
Snapshot Date: 2025-05-27 13:25 -0400 (Tue, 27 May 2025)
git_url: https://git.bioconductor.org/packages/tidyCoverage
git_branch: devel
git_last_commit: 7130a9e
git_last_commit_date: 2025-04-15 13:27:07 -0400 (Tue, 15 Apr 2025)
nebbiolo2Linux (Ubuntu 24.04.1 LTS) / x86_64  OK    OK    OK  UNNEEDED, same version is already published
palomino8Windows Server 2022 Datacenter / x64  OK    OK    OK    OK  UNNEEDED, same version is already published
lconwaymacOS 12.7.1 Monterey / x86_64  OK    OK    OK    OK  UNNEEDED, same version is already published
kjohnson3macOS 13.7.1 Ventura / arm64  OK    OK    OK    OK  UNNEEDED, same version is already published
taishanLinux (openEuler 24.03 LTS) / aarch64  OK    TIMEOUT  skipped


BUILD results for tidyCoverage on taishan

To the developers/maintainers of the tidyCoverage package:
- Allow up to 24 hours (and sometimes 48 hours) for your latest push to git@git.bioconductor.org:packages/tidyCoverage.git to reflect on this report. See Troubleshooting Build Report for more information.
- Use the following Renviron settings to reproduce errors and warnings.
- If 'R CMD check' started to fail recently on the Linux builder(s) over a missing dependency, add the missing dependency to 'Suggests:' in your DESCRIPTION file. See Renviron.bioc for more information.
- See Martin Grigorov's blog post for how to debug Linux ARM64 related issues on a x86_64 host.

raw results


Summary

Package: tidyCoverage
Version: 1.5.0
Command: /home/biocbuild/R/R/bin/R CMD build --keep-empty-dirs --no-resave-data tidyCoverage
StartedAt: 2025-05-27 04:17:10 -0000 (Tue, 27 May 2025)
EndedAt: 2025-05-27 04:57:10 -0000 (Tue, 27 May 2025)
EllapsedTime: 2400.0 seconds
RetCode: None
Status:   TIMEOUT  
PackageFile: None
PackageFileSize: NA

Command output

##############################################################################
##############################################################################
###
### Running command:
###
###   /home/biocbuild/R/R/bin/R CMD build --keep-empty-dirs --no-resave-data tidyCoverage
###
##############################################################################
##############################################################################


* checking for file ‘tidyCoverage/DESCRIPTION’ ... OK
* preparing ‘tidyCoverage’:
* checking DESCRIPTION meta-information ... OK
* installing the package to build vignettes
* creating vignettes ...