Back to Multiple platform build/check report for BioC 3.23:   simplified   long
ABCDEFGHIJKLMNOPQRS[T]UVWXYZ

This page was generated on 2025-11-24 11:39 -0500 (Mon, 24 Nov 2025).

HostnameOSArch (*)R versionInstalled pkgs
nebbiolo1Linux (Ubuntu 24.04.3 LTS)x86_64R Under development (unstable) (2025-10-20 r88955) -- "Unsuffered Consequences" 4829
lconwaymacOS 12.7.6 Montereyx86_64R Under development (unstable) (2025-10-21 r88958) -- "Unsuffered Consequences" 4605
kjohnson3macOS 13.7.7 Venturaarm64R Under development (unstable) (2025-11-04 r88984) -- "Unsuffered Consequences" 4568
Click on any hostname to see more info about the system (e.g. compilers)      (*) as reported by 'uname -p', except on Windows and Mac OS X

Package 2196/2327HostnameOS / ArchINSTALLBUILDCHECKBUILD BIN
tLOH 1.19.0  (landing page)
Michelle Webb
Snapshot Date: 2025-11-23 13:40 -0500 (Sun, 23 Nov 2025)
git_url: https://git.bioconductor.org/packages/tLOH
git_branch: devel
git_last_commit: 7e311df
git_last_commit_date: 2025-10-29 11:08:42 -0500 (Wed, 29 Oct 2025)
nebbiolo1Linux (Ubuntu 24.04.3 LTS) / x86_64  OK    OK    OK  UNNEEDED, same version is already published
lconwaymacOS 12.7.6 Monterey / x86_64  OK    OK    OK    OK  NO, package depends on 'VariantAnnotation' which is only available as a source package that needs compilation
kjohnson3macOS 13.7.7 Ventura / arm64  OK    OK    OK    OK  NO, package depends on 'VariantAnnotation' which is only available as a source package that needs compilation


CHECK results for tLOH on lconway

To the developers/maintainers of the tLOH package:
- Allow up to 24 hours (and sometimes 48 hours) for your latest push to git@git.bioconductor.org:packages/tLOH.git to reflect on this report. See Troubleshooting Build Report for more information.
- Use the following Renviron settings to reproduce errors and warnings.
- If 'R CMD check' started to fail recently on the Linux builder(s) over a missing dependency, add the missing dependency to 'Suggests:' in your DESCRIPTION file. See Renviron.bioc for more information.

raw results


Summary

Package: tLOH
Version: 1.19.0
Command: /Library/Frameworks/R.framework/Resources/bin/R CMD check --install=check:tLOH.install-out.txt --library=/Library/Frameworks/R.framework/Resources/library --no-vignettes --timings tLOH_1.19.0.tar.gz
StartedAt: 2025-11-24 00:47:59 -0500 (Mon, 24 Nov 2025)
EndedAt: 2025-11-24 00:59:49 -0500 (Mon, 24 Nov 2025)
EllapsedTime: 710.3 seconds
RetCode: 0
Status:   OK  
CheckDir: tLOH.Rcheck
Warnings: 0

Command output

##############################################################################
##############################################################################
###
### Running command:
###
###   /Library/Frameworks/R.framework/Resources/bin/R CMD check --install=check:tLOH.install-out.txt --library=/Library/Frameworks/R.framework/Resources/library --no-vignettes --timings tLOH_1.19.0.tar.gz
###
##############################################################################
##############################################################################


* using log directory ‘/Users/biocbuild/bbs-3.23-bioc/meat/tLOH.Rcheck’
* using R Under development (unstable) (2025-10-21 r88958)
* using platform: x86_64-apple-darwin20
* R was compiled by
    Apple clang version 14.0.0 (clang-1400.0.29.202)
    GNU Fortran (GCC) 14.2.0
* running under: macOS Ventura 13.7.8
* using session charset: UTF-8
* using option ‘--no-vignettes’
* checking for file ‘tLOH/DESCRIPTION’ ... OK
* checking extension type ... Package
* this is package ‘tLOH’ version ‘1.19.0’
* package encoding: UTF-8
* checking package namespace information ... OK
* checking package dependencies ... OK
* checking if this is a source package ... OK
* checking if there is a namespace ... OK
* checking for hidden files and directories ... OK
* checking for portable file names ... OK
* checking for sufficient/correct file permissions ... OK
* checking whether package ‘tLOH’ can be installed ... OK
* checking installed package size ... OK
* checking package directory ... OK
* checking ‘build’ directory ... OK
* checking DESCRIPTION meta-information ... NOTE
License stub is invalid DCF.
* checking top-level files ... OK
* checking for left-over files ... OK
* checking index information ... OK
* checking package subdirectories ... NOTE
Problems with news in ‘NEWS.md’:
No news entries found.
* checking code files for non-ASCII characters ... OK
* checking R files for syntax errors ... OK
* checking whether the package can be loaded ... OK
* checking whether the package can be loaded with stated dependencies ... OK
* checking whether the package can be unloaded cleanly ... OK
* checking whether the namespace can be loaded with stated dependencies ... OK
* checking whether the namespace can be unloaded cleanly ... OK
* checking dependencies in R code ... OK
* checking S3 generic/method consistency ... OK
* checking replacement functions ... OK
* checking foreign function calls ... OK
* checking R code for possible problems ... OK
* checking Rd files ... OK
* checking Rd metadata ... OK
* checking Rd cross-references ... OK
* checking for missing documentation entries ... OK
* checking for code/documentation mismatches ... OK
* checking Rd \usage sections ... OK
* checking Rd contents ... OK
* checking for unstated dependencies in examples ... OK
* checking contents of ‘data’ directory ... OK
* checking data for non-ASCII characters ... OK
* checking data for ASCII and uncompressed saves ... OK
* checking files in ‘vignettes’ ... OK
* checking examples ... OK
Examples with CPU (user + system) or elapsed time > 5s
                       user system elapsed
hiddenMarkovAnalysis 76.174  2.135  92.073
regionAnalysis       51.422  1.003  52.806
runHMM_3             49.450  1.135  51.077
runHMM_2             47.452  0.926  48.771
prepareHMMdataframes 29.253  0.697  37.496
runHMM_1             28.401  0.479  29.072
splitByChromosome    25.179  0.490  25.816
tLOHCalcUpdate       24.874  0.466  25.508
alleleFrequencyPlot   7.756  0.175   7.980
aggregateCHRPlot      7.015  0.253   7.314
* checking for unstated dependencies in vignettes ... OK
* checking package vignettes ... OK
* checking running R code from vignettes ... SKIPPED
* checking re-building of vignette outputs ... SKIPPED
* checking PDF version of manual ... OK
* DONE

Status: 2 NOTEs
See
  ‘/Users/biocbuild/bbs-3.23-bioc/meat/tLOH.Rcheck/00check.log’
for details.


Installation output

tLOH.Rcheck/00install.out

##############################################################################
##############################################################################
###
### Running command:
###
###   /Library/Frameworks/R.framework/Resources/bin/R CMD INSTALL tLOH
###
##############################################################################
##############################################################################


* installing to library ‘/Library/Frameworks/R.framework/Versions/4.6-x86_64/Resources/library’
* installing *source* package ‘tLOH’ ...
** this is package ‘tLOH’ version ‘1.19.0’
** using staged installation
** R
** data
** inst
** byte-compile and prepare package for lazy loading
** help
*** installing help indices
** building package indices
** installing vignettes
** testing if installed package can be loaded from temporary location
** testing if installed package can be loaded from final location
** testing if installed package keeps a record of temporary installation path
* DONE (tLOH)

Tests output


Example timings

tLOH.Rcheck/tLOH-Ex.timings

nameusersystemelapsed
aggregateCHRPlot7.0150.2537.314
alleleFrequencyPlot7.7560.1757.980
documentErrorRegions0.0020.0000.002
hiddenMarkovAnalysis76.174 2.13592.073
humanGBMsampleAC0.0370.0020.039
initialStartProbabilities0.0010.0010.002
marginalLikelihoodM10.0020.0010.002
marginalLikelihoodM20.0010.0000.002
marginalM1Calc0.0000.0010.000
marginalM2CalcBHET0.0010.0000.002
marginalM2CalcBLOH0.0010.0000.002
modePeakCalc0.0010.0000.001
prepareHMMdataframes29.253 0.69737.496
regionAnalysis51.422 1.00352.806
regionFinalize0.0000.0010.000
removeOutlierFromCalc0.0010.0000.001
runHMM_128.401 0.47929.072
runHMM_247.452 0.92648.771
runHMM_349.450 1.13551.077
splitByChromosome25.179 0.49025.816
summarizeRegions1000
summarizeRegions20.0000.0010.000
tLOHCalc4.5160.0644.606
tLOHCalcUpdate24.874 0.46625.508
tLOHDataImport000