Back to Multiple platform build/check report for BioC 3.21:   simplified   long
ABCDEFGHIJKLMNOPQR[S]TUVWXYZ

This page was generated on 2025-02-17 11:44 -0500 (Mon, 17 Feb 2025).

HostnameOSArch (*)R versionInstalled pkgs
nebbiolo1Linux (Ubuntu 24.04.1 LTS)x86_64R Under development (unstable) (2025-01-20 r87609) -- "Unsuffered Consequences" 4720
palomino7Windows Server 2022 Datacenterx64R Under development (unstable) (2025-01-21 r87610 ucrt) -- "Unsuffered Consequences" 4482
lconwaymacOS 12.7.1 Montereyx86_64R Under development (unstable) (2025-01-22 r87618) -- "Unsuffered Consequences" 4493
kjohnson3macOS 13.7.1 Venturaarm64R Under development (unstable) (2025-01-20 r87609) -- "Unsuffered Consequences" 4446
Click on any hostname to see more info about the system (e.g. compilers)      (*) as reported by 'uname -p', except on Windows and Mac OS X

Package 2113/2295HostnameOS / ArchINSTALLBUILDCHECKBUILD BIN
systemPipeR 2.13.0  (landing page)
Thomas Girke
Snapshot Date: 2025-02-16 13:40 -0500 (Sun, 16 Feb 2025)
git_url: https://git.bioconductor.org/packages/systemPipeR
git_branch: devel
git_last_commit: 94357f2
git_last_commit_date: 2024-10-29 09:54:41 -0500 (Tue, 29 Oct 2024)
nebbiolo1Linux (Ubuntu 24.04.1 LTS) / x86_64  OK    OK    OK  UNNEEDED, same version is already published
palomino7Windows Server 2022 Datacenter / x64  OK    OK    OK    OK  UNNEEDED, same version is already published
lconwaymacOS 12.7.1 Monterey / x86_64  OK    OK    OK    OK  UNNEEDED, same version is already published
kjohnson3macOS 13.7.1 Ventura / arm64  OK    OK    OK    OK  UNNEEDED, same version is already published


CHECK results for systemPipeR on lconway

To the developers/maintainers of the systemPipeR package:
- Allow up to 24 hours (and sometimes 48 hours) for your latest push to git@git.bioconductor.org:packages/systemPipeR.git to reflect on this report. See Troubleshooting Build Report for more information.
- Use the following Renviron settings to reproduce errors and warnings.
- If 'R CMD check' started to fail recently on the Linux builder(s) over a missing dependency, add the missing dependency to 'Suggests:' in your DESCRIPTION file. See Renviron.bioc for more information.

raw results


Summary

Package: systemPipeR
Version: 2.13.0
Command: /Library/Frameworks/R.framework/Resources/bin/R CMD check --install=check:systemPipeR.install-out.txt --library=/Library/Frameworks/R.framework/Resources/library --no-vignettes --timings systemPipeR_2.13.0.tar.gz
StartedAt: 2025-02-16 23:31:35 -0500 (Sun, 16 Feb 2025)
EndedAt: 2025-02-16 23:37:48 -0500 (Sun, 16 Feb 2025)
EllapsedTime: 373.2 seconds
RetCode: 0
Status:   OK  
CheckDir: systemPipeR.Rcheck
Warnings: 0

Command output

##############################################################################
##############################################################################
###
### Running command:
###
###   /Library/Frameworks/R.framework/Resources/bin/R CMD check --install=check:systemPipeR.install-out.txt --library=/Library/Frameworks/R.framework/Resources/library --no-vignettes --timings systemPipeR_2.13.0.tar.gz
###
##############################################################################
##############################################################################


* using log directory ‘/Users/biocbuild/bbs-3.21-bioc/meat/systemPipeR.Rcheck’
* using R Under development (unstable) (2025-01-22 r87618)
* using platform: x86_64-apple-darwin20
* R was compiled by
    Apple clang version 14.0.0 (clang-1400.0.29.202)
    GNU Fortran (GCC) 14.2.0
* running under: macOS Monterey 12.7.6
* using session charset: UTF-8
* using option ‘--no-vignettes’
* checking for file ‘systemPipeR/DESCRIPTION’ ... OK
* checking extension type ... Package
* this is package ‘systemPipeR’ version ‘2.13.0’
* checking package namespace information ... OK
* checking package dependencies ... OK
* checking if this is a source package ... OK
* checking if there is a namespace ... OK
* checking for hidden files and directories ... NOTE
Found the following hidden files and directories:
  inst/extdata/.batchtools.conf.R
  inst/extdata/.batchtools.conf.R.sge
  inst/extdata/.batchtools.conf.R.torque
These were most likely included in error. See section ‘Package
structure’ in the ‘Writing R Extensions’ manual.
* checking for portable file names ... OK
* checking for sufficient/correct file permissions ... OK
* checking whether package ‘systemPipeR’ can be installed ... OK
* checking installed package size ... INFO
  installed size is  6.7Mb
  sub-directories of 1Mb or more:
    R             1.6Mb
    extdata       2.7Mb
    htmlwidgets   2.0Mb
* checking package directory ... OK
* checking ‘build’ directory ... OK
* checking DESCRIPTION meta-information ... OK
* checking top-level files ... OK
* checking for left-over files ... OK
* checking index information ... OK
* checking package subdirectories ... NOTE
Problems with news in ‘NEWS’:
  Cannot process chunk/lines:
    OVERVIEW
* checking code files for non-ASCII characters ... OK
* checking R files for syntax errors ... OK
* checking whether the package can be loaded ... OK
* checking whether the package can be loaded with stated dependencies ... OK
* checking whether the package can be unloaded cleanly ... OK
* checking whether the namespace can be loaded with stated dependencies ... OK
* checking whether the namespace can be unloaded cleanly ... OK
* checking dependencies in R code ... OK
* checking S3 generic/method consistency ... OK
* checking replacement functions ... OK
* checking foreign function calls ... OK
* checking R code for possible problems ... NOTE
.cmd2cwl2: no visible global function definition for ‘ave’
.getPreprotext: no visible binding for global variable ‘.’
Undefined global functions or variables:
  . ave
Consider adding
  importFrom("stats", "ave")
to your NAMESPACE file.
* checking Rd files ... OK
* checking Rd metadata ... OK
* checking Rd cross-references ... OK
* checking for missing documentation entries ... OK
* checking for code/documentation mismatches ... OK
* checking Rd \usage sections ... OK
* checking Rd contents ... OK
* checking for unstated dependencies in examples ... OK
* checking line endings in Makefiles ... OK
* checking for GNU extensions in Makefiles ... OK
* checking include directives in Makefiles ... OK
* checking files in ‘vignettes’ ... OK
* checking examples ... OK
Examples with CPU (user + system) or elapsed time > 5s
              user system elapsed
genFeatures 28.286  0.686  29.183
run_DESeq2  10.849  0.208  11.133
renderLogs   4.358  1.038   5.685
* checking for unstated dependencies in ‘tests’ ... OK
* checking tests ...
  Running ‘testthat.R’
 OK
* checking for unstated dependencies in vignettes ... OK
* checking package vignettes ... OK
* checking running R code from vignettes ... SKIPPED
* checking re-building of vignette outputs ... SKIPPED
* checking PDF version of manual ... OK
* DONE

Status: 3 NOTEs
See
  ‘/Users/biocbuild/bbs-3.21-bioc/meat/systemPipeR.Rcheck/00check.log’
for details.


Installation output

systemPipeR.Rcheck/00install.out

##############################################################################
##############################################################################
###
### Running command:
###
###   /Library/Frameworks/R.framework/Resources/bin/R CMD INSTALL systemPipeR
###
##############################################################################
##############################################################################


* installing to library ‘/Library/Frameworks/R.framework/Versions/4.5-x86_64/Resources/library’
* installing *source* package ‘systemPipeR’ ...
** this is package ‘systemPipeR’ version ‘2.13.0’
** using staged installation
** R
** inst
** byte-compile and prepare package for lazy loading
** help
*** installing help indices
** building package indices
** installing vignettes
** testing if installed package can be loaded from temporary location
** testing if installed package can be loaded from final location
** testing if installed package keeps a record of temporary installation path
* DONE (systemPipeR)

Tests output

systemPipeR.Rcheck/tests/testthat.Rout


R Under development (unstable) (2025-01-22 r87618) -- "Unsuffered Consequences"
Copyright (C) 2025 The R Foundation for Statistical Computing
Platform: x86_64-apple-darwin20

R is free software and comes with ABSOLUTELY NO WARRANTY.
You are welcome to redistribute it under certain conditions.
Type 'license()' or 'licence()' for distribution details.

R is a collaborative project with many contributors.
Type 'contributors()' for more information and
'citation()' on how to cite R or R packages in publications.

Type 'demo()' for some demos, 'help()' for on-line help, or
'help.start()' for an HTML browser interface to help.
Type 'q()' to quit R.

> library(testthat)
> library(systemPipeR)
Loading required package: Rsamtools
Loading required package: GenomeInfoDb
Loading required package: BiocGenerics
Loading required package: generics

Attaching package: 'generics'

The following objects are masked from 'package:base':

    as.difftime, as.factor, as.ordered, intersect, is.element, setdiff,
    setequal, union


Attaching package: 'BiocGenerics'

The following objects are masked from 'package:stats':

    IQR, mad, sd, var, xtabs

The following objects are masked from 'package:base':

    Filter, Find, Map, Position, Reduce, anyDuplicated, aperm, append,
    as.data.frame, basename, cbind, colnames, dirname, do.call,
    duplicated, eval, evalq, get, grep, grepl, is.unsorted, lapply,
    mapply, match, mget, order, paste, pmax, pmax.int, pmin, pmin.int,
    rank, rbind, rownames, sapply, saveRDS, table, tapply, unique,
    unsplit, which.max, which.min

Loading required package: S4Vectors
Loading required package: stats4

Attaching package: 'S4Vectors'

The following object is masked from 'package:utils':

    findMatches

The following objects are masked from 'package:base':

    I, expand.grid, unname

Loading required package: IRanges
Loading required package: GenomicRanges
Loading required package: Biostrings
Loading required package: XVector

Attaching package: 'Biostrings'

The following object is masked from 'package:base':

    strsplit

Loading required package: ShortRead
Loading required package: BiocParallel
Loading required package: GenomicAlignments
Loading required package: SummarizedExperiment
Loading required package: MatrixGenerics
Loading required package: matrixStats

Attaching package: 'MatrixGenerics'

The following objects are masked from 'package:matrixStats':

    colAlls, colAnyNAs, colAnys, colAvgsPerRowSet, colCollapse,
    colCounts, colCummaxs, colCummins, colCumprods, colCumsums,
    colDiffs, colIQRDiffs, colIQRs, colLogSumExps, colMadDiffs,
    colMads, colMaxs, colMeans2, colMedians, colMins, colOrderStats,
    colProds, colQuantiles, colRanges, colRanks, colSdDiffs, colSds,
    colSums2, colTabulates, colVarDiffs, colVars, colWeightedMads,
    colWeightedMeans, colWeightedMedians, colWeightedSds,
    colWeightedVars, rowAlls, rowAnyNAs, rowAnys, rowAvgsPerColSet,
    rowCollapse, rowCounts, rowCummaxs, rowCummins, rowCumprods,
    rowCumsums, rowDiffs, rowIQRDiffs, rowIQRs, rowLogSumExps,
    rowMadDiffs, rowMads, rowMaxs, rowMeans2, rowMedians, rowMins,
    rowOrderStats, rowProds, rowQuantiles, rowRanges, rowRanks,
    rowSdDiffs, rowSds, rowSums2, rowTabulates, rowVarDiffs, rowVars,
    rowWeightedMads, rowWeightedMeans, rowWeightedMedians,
    rowWeightedSds, rowWeightedVars

Loading required package: Biobase
Welcome to Bioconductor

    Vignettes contain introductory material; view with
    'browseVignettes()'. To cite Bioconductor, see
    'citation("Biobase")', and for packages 'citation("pkgname")'.


Attaching package: 'Biobase'

The following object is masked from 'package:MatrixGenerics':

    rowMedians

The following objects are masked from 'package:matrixStats':

    anyMissing, rowMedians

> 
> test_check("systemPipeR")
[1] "Generated /tmp/RtmpRzTOO7/rnaseq directory. Next run in rnaseq directory, the R code from *.Rmd template interactively. Alternatively, workflows can be exectued with a single command as instructed in the vignette."
[1] "Generated /tmp/RtmpRzTOO7/rnaseq2 directory. Next run in rnaseq directory, the R code from *.Rmd template interactively. Alternatively, workflows can be exectued with a single command as instructed in the vignette."
Creating directory '/private/tmp/RtmpRzTOO7/rnaseq2/.SPRproject'
Creating file '/private/tmp/RtmpRzTOO7/rnaseq2/.SPRproject/SYSargsList.yml'
Running Step:  example 
Running Session: Management 

  |                                                                            
  |                                                                      |   0%
  |                                                                            
  |=======================                                               |  33%
  |                                                                            
  |===============================================                       |  67%
  |                                                                            
  |======================================================================| 100%
---- Summary ---- 
   Targets Total_Files Existing_Files Missing_Files example
M1      M1           1              1             0 Success
M2      M2           1              1             0 Success
M3      M3           1              1             0 Success

Step Status:  Success 
Done with workflow running, now consider rendering logs & reports
To render logs, run:    sal <- renderLogs(sal)
From command-line:      Rscript -e "sal = systemPipeR::SPRproject(resume = TRUE); sal = systemPipeR::renderLogs(sal)"
To render reports, run: sal <- renderReport(sal)
From command-line:      Rscript -e "sal= s ystemPipeR::SPRproject(resume = TRUE); sal = systemPipeR::renderReport(sal)"
This message is displayed once per R session
Running Step:  newStep 
Running Session: Management 

  |                                                                            
  |                                                                      |   0%
  |                                                                            
  |=======================                                               |  33%
  |                                                                            
  |===============================================                       |  67%
  |                                                                            
  |======================================================================| 100%
---- Summary ---- 
   Targets Total_Files Existing_Files Missing_Files example
M1      M1           1              1             0 Success
M2      M2           1              1             0 Success
M3      M3           1              1             0 Success

Step Status:  Success 
Running Step:  R_code 
Running Session: Management 

  |                                                                            
  |                                                                      |   0%
  |                                                                            
  |======================================================================| 100%
Step Status:  Warning 
[1] "Generated /tmp/RtmpRzTOO7/newtest directory. Next run in new directory, the R code from *.Rmd template interactively. Alternatively, workflows can be exectued with a single command as instructed in the vignette."
Creating directory '/private/tmp/RtmpRzTOO7/newtest/.SPRproject'
Creating file '/private/tmp/RtmpRzTOO7/newtest/.SPRproject/SYSargsList.yml'
Reading Rmd file
Now importing step 'load_library' 
Now importing step 'export_iris' 
Now importing step 'gzip' 
Now importing step 'gunzip' 
Now importing step 'stats' 
Now back up current Rmd file as template for `renderReport`
Template for renderReport is stored at 
 /private/tmp/RtmpRzTOO7/newtest/.SPRproject/workflow_template.Rmd 
 Edit this file manually is not recommended 
Now check if required tools are installed 
Check if they are in path:
Checking path for gzip
PASS
Checking path for gunzip
PASS
  step_name   tool in_path
1      gzip   gzip    TRUE
2    gunzip gunzip    TRUE
All required tools in PATH, skip module check. If you want to check modules use `listCmdModules`Import  done
Instance of 'LineWise'
    Code Chunk length: 1
mapply(function(x, y) write.csv(x, y), split(iris, factor(iris$Species)), file.path("results", paste0(names(split(iris, factor(iris$Species))), ".csv")))
load_library
    5 + 5
load_library
    5 + 5
    66 + 55
Running Step:  load_library 
Running Session: Management 

  |                                                                            
  |                                                                      |   0%
  |                                                                            
  |======================================================================| 100%
Step Status:  Success 
Running Step:  export_iris 
Running Session: Management 

  |                                                                            
  |                                                                      |   0%
  |                                                                            
  |======================================================================| 100%
Step Status:  Success 
Skipping Step:  gzip 
Skipping Step:  gunzip 
Skipping Step:  stats 
[ FAIL 0 | WARN 0 | SKIP 10 | PASS 47 ]

══ Skipped tests (10) ══════════════════════════════════════════════════════════
• On Bioconductor (10): 'test-01-SYSargs.R:2:1', 'test-02-SYSargs2.R:9:5',
  'test-02-SYSargs2.R:55:5', 'test-03-SYSargsList.R:63:5',
  'test-05-catDB.R:3:1', 'test-06-VENNset.R:3:1', 'test-07-features.R:3:1',
  'test-08-cmd2cwl.R:2:1', 'test-10-chipSeq.R:4:1', 'test-utilities.R:2:1'

[ FAIL 0 | WARN 0 | SKIP 10 | PASS 47 ]
> 
> proc.time()
   user  system elapsed 
 14.763   3.558  18.662 

Example timings

systemPipeR.Rcheck/systemPipeR-Ex.timings

nameusersystemelapsed
EnvModules-class0.0010.0000.002
GOHyperGAll0.0000.0010.001
INTERSECTset-class0.0080.0080.015
LineWise-class0.9880.0311.026
ParamFiles0.0900.0030.094
ParamFiles20.1170.0040.122
SPRproject0.0030.0020.004
SYSargs-class0.0210.0090.030
SYSargs2-class0.0650.0070.074
SYSargsList-class0.4890.0570.553
SYSargsList0.1030.0180.124
VENNset-class0.0190.0060.025
alignStats1.0910.0171.116
catDB-class000
catmap0.0000.0000.001
check.output1.2520.0181.278
clusterRun1.2370.0191.268
config.param0.0000.0010.001
configWF0.0000.0010.000
countRangeset0.0500.0040.055
createParamFiles0.1360.0020.138
cwlFilesUpdate0.0000.0000.001
evalCode0.0300.0050.035
featureCoverage1.1570.0091.174
featuretypeCounts1.1340.0071.146
filterDEGs1.5410.0401.589
filterVars0.0100.0050.014
genFeatures28.286 0.68629.183
importWF0.0400.0070.048
listCmdTools000
loadWorkflow3.7630.0823.863
mergeBamByFactor0.0090.0040.013
moduleload0.0000.0000.001
olBarplot0.4820.0410.527
olRanges0.1260.0030.129
output_update1.3990.0121.419
overLapper0.3940.0290.429
plotfeatureCoverage1.1600.0091.176
plotfeaturetypeCounts1.3720.0091.388
predORF0.2060.0040.214
preprocessReads0.4200.0070.430
readComp1.3020.0111.321
renderLogs4.3581.0385.685
renderReport1.9380.5092.575
returnRPKM0.0000.0010.000
runCommandline1.3220.1281.462
runDiff0.0280.0050.033
runWF0.0950.0150.112
run_DESeq210.849 0.20811.133
run_edgeR1.2670.0331.311
sal2bash0.5500.1670.751
sal2rmd0.5760.2790.907
scaleRanges0.2110.0580.271
seeFastq0.0000.0010.000
showDF0.3280.0680.402
subsetWF1.2950.1341.437
symLink2bam1.2950.0541.360
sysargs0.0080.0040.013
systemArgs0.0100.0060.016
targets.as.df0.0040.0020.006
trimbatch0.2420.0050.249
tryCMD000
tryPath0.0010.0010.002
variantReport0.0080.0050.013
vennPlot0.3710.0370.413
writeTargets0.0980.0100.111
writeTargetsRef0.0010.0010.001
writeTargetsout1.4090.0201.437
write_SYSargsList0.1130.0090.124