Back to Build/check report for BioC 3.23:   simplified   long
ABCDEFGHIJKLMNOPQR[S]TUVWXYZ

This page was generated on 2025-11-05 11:32 -0500 (Wed, 05 Nov 2025).

HostnameOSArch (*)R versionInstalled pkgs
nebbiolo1Linux (Ubuntu 24.04.3 LTS)x86_64R Under development (unstable) (2025-10-20 r88955) -- "Unsuffered Consequences" 4818
Click on any hostname to see more info about the system (e.g. compilers)      (*) as reported by 'uname -p', except on Windows and Mac OS X

All results for package sva


To the developers/maintainers of the sva package:
- Allow up to 24 hours (and sometimes 48 hours) for your latest push to git@git.bioconductor.org:packages/sva.git to reflect on this report. See Troubleshooting Build Report for more information.
- Use the following Renviron settings to reproduce errors and warnings.
- If 'R CMD check' started to fail recently on the Linux builder(s) over a missing dependency, add the missing dependency to 'Suggests:' in your DESCRIPTION file. See Renviron.bioc for more information.

raw results

Package 2126/2323HostnameOS / ArchINSTALLBUILDCHECKBUILD BIN
sva 3.59.0  (landing page)
Jeffrey T. Leek , John D. Storey
Snapshot Date: 2025-11-04 13:40 -0500 (Tue, 04 Nov 2025)
git_url: https://git.bioconductor.org/packages/sva
git_branch: devel
git_last_commit: fefe806
git_last_commit_date: 2025-10-29 10:09:21 -0500 (Wed, 29 Oct 2025)
nebbiolo1Linux (Ubuntu 24.04.3 LTS) / x86_64  OK    OK    OK  UNNEEDED, same version is already published



Results for Bioconductor software packages that depend directly on package sva

QUICK STATSOS / ArchINSTALLBUILDCHECKBUILD BIN
nebbiolo1Linux (Ubuntu 24.04.3 LTS) / x86_64
0031
0031
02326
Package 1/31HostnameOS / ArchINSTALLBUILDCHECKBUILD BIN
ASSIGN 1.47.0  (landing page)
Ying Shen , W. Evan Johnson
git_last_commit: 37395b4
git_last_commit_date: 2025-10-29 10:18:49 -0500
nebbiolo1Linux (Ubuntu 24.04.3 LTS) / x86_64  OK    OK    OK  UNNEEDED, same version is already published
Package 2/31HostnameOS / ArchINSTALLBUILDCHECKBUILD BIN
ballgown 2.43.0  (landing page)
Jack Fu
git_last_commit: dae077a
git_last_commit_date: 2025-10-29 10:20:34 -0500
nebbiolo1Linux (Ubuntu 24.04.3 LTS) / x86_64  OK    OK    OK  YES
Package 3/31HostnameOS / ArchINSTALLBUILDCHECKBUILD BIN
BatchQC 2.7.0  (landing page)
Jessica Anderson
git_last_commit: bfa8664
git_last_commit_date: 2025-10-29 10:31:36 -0500
nebbiolo1Linux (Ubuntu 24.04.3 LTS) / x86_64  OK    OK    OK  UNNEEDED, same version is already published
Package 4/31HostnameOS / ArchINSTALLBUILDCHECKBUILD BIN
BERT 1.7.0  (landing page)
Yannis Schumann
git_last_commit: 2e49878
git_last_commit_date: 2025-10-29 11:26:54 -0500
nebbiolo1Linux (Ubuntu 24.04.3 LTS) / x86_64  OK    OK    OK  UNNEEDED, same version is already published
Package 5/31HostnameOS / ArchINSTALLBUILDCHECKBUILD BIN
BioNERO 1.19.0  (landing page)
Fabricio Almeida-Silva
git_last_commit: 632a85b
git_last_commit_date: 2025-10-29 11:07:25 -0500
nebbiolo1Linux (Ubuntu 24.04.3 LTS) / x86_64  OK    OK    OK  UNNEEDED, same version is already published
Package 6/31HostnameOS / ArchINSTALLBUILDCHECKBUILD BIN
bnbc 1.33.0  (landing page)
Kipper Fletez-Brant
git_last_commit: dc2adb8
git_last_commit_date: 2025-10-29 10:41:29 -0500
nebbiolo1Linux (Ubuntu 24.04.3 LTS) / x86_64  OK    OK    OK  UNNEEDED, same version is already published
Package 7/31HostnameOS / ArchINSTALLBUILDCHECKBUILD BIN
bnem 1.19.0  (landing page)
Martin Pirkl
git_last_commit: c656bcb
git_last_commit_date: 2025-10-29 11:04:57 -0500
nebbiolo1Linux (Ubuntu 24.04.3 LTS) / x86_64  OK    OK    OK  UNNEEDED, same version is already published
Package 8/31HostnameOS / ArchINSTALLBUILDCHECKBUILD BIN
ChAMP 2.41.0  (landing page)
Yuan Tian
git_last_commit: 8bc9b68
git_last_commit_date: 2025-10-29 10:17:05 -0500
nebbiolo1Linux (Ubuntu 24.04.3 LTS) / x86_64  OK    OK    WARNINGS  YES
Package 9/31HostnameOS / ArchINSTALLBUILDCHECKBUILD BIN
DaMiRseq 2.23.0  (landing page)
Mattia Chiesa
git_last_commit: 48f9b25
git_last_commit_date: 2025-10-29 10:37:23 -0500
nebbiolo1Linux (Ubuntu 24.04.3 LTS) / x86_64  OK    OK    OK  YES
Package 10/31HostnameOS / ArchINSTALLBUILDCHECKBUILD BIN
debrowser 1.39.0  (landing page)
Alper Kucukural
git_last_commit: 17795bc
git_last_commit_date: 2025-10-29 10:30:54 -0500
nebbiolo1Linux (Ubuntu 24.04.3 LTS) / x86_64  OK    OK    OK  YES
Package 11/31HostnameOS / ArchINSTALLBUILDCHECKBUILD BIN
DeMixT 1.27.0  (landing page)
Ruonan Li
git_last_commit: 438eef5
git_last_commit_date: 2025-10-29 10:50:59 -0500
nebbiolo1Linux (Ubuntu 24.04.3 LTS) / x86_64  OK    OK    WARNINGS  YES
Package 12/31HostnameOS / ArchINSTALLBUILDCHECKBUILD BIN
DExMA 1.19.0  (landing page)
Juan Antonio Villatoro-García
git_last_commit: f2e6f45
git_last_commit_date: 2025-10-29 11:09:00 -0500
nebbiolo1Linux (Ubuntu 24.04.3 LTS) / x86_64  OK    OK    OK  UNNEEDED, same version is already published
Package 13/31HostnameOS / ArchINSTALLBUILDCHECKBUILD BIN
doppelgangR 1.39.0  (landing page)
Levi Waldron
git_last_commit: c1614da
git_last_commit_date: 2025-10-29 10:30:40 -0500
nebbiolo1Linux (Ubuntu 24.04.3 LTS) / x86_64  OK    OK    OK  UNNEEDED, same version is already published
Package 14/31HostnameOS / ArchINSTALLBUILDCHECKBUILD BIN
edge 2.43.0  (landing page)
John D. Storey , Andrew J. Bass
git_last_commit: a6a6076
git_last_commit_date: 2025-10-29 10:25:58 -0500
nebbiolo1Linux (Ubuntu 24.04.3 LTS) / x86_64  OK    OK    OK  UNNEEDED, same version is already published
Package 15/31HostnameOS / ArchINSTALLBUILDCHECKBUILD BIN
GEOexplorer 1.17.0  (landing page)
Guy Hunt
git_last_commit: d50a784
git_last_commit_date: 2025-10-29 11:11:17 -0500
nebbiolo1Linux (Ubuntu 24.04.3 LTS) / x86_64  OK    OK    ERROR  
Package 16/31HostnameOS / ArchINSTALLBUILDCHECKBUILD BIN
HarmonizR 1.9.0  (landing page)
Simon Schlumbohm
git_last_commit: 17b1b32
git_last_commit_date: 2025-10-29 11:24:28 -0500
nebbiolo1Linux (Ubuntu 24.04.3 LTS) / x86_64  OK    OK    OK  UNNEEDED, same version is already published
Package 17/31HostnameOS / ArchINSTALLBUILDCHECKBUILD BIN
IsoformSwitchAnalyzeR 2.11.0  (landing page)
Kristoffer Vitting-Seerup
git_last_commit: dc055b6
git_last_commit_date: 2025-10-29 10:38:58 -0500
nebbiolo1Linux (Ubuntu 24.04.3 LTS) / x86_64  OK    OK    OK  YES
Package 18/31HostnameOS / ArchINSTALLBUILDCHECKBUILD BIN
KnowSeq 1.25.0  (landing page)
Daniel Castillo-Secilla
git_last_commit: dda9488
git_last_commit_date: 2025-10-29 10:52:51 -0500
nebbiolo1Linux (Ubuntu 24.04.3 LTS) / x86_64  OK    OK    OK  UNNEEDED, same version is already published
Package 19/31HostnameOS / ArchINSTALLBUILDCHECKBUILD BIN
MatrixQCvis 1.19.0  (landing page)
Thomas Naake
git_last_commit: 0b99d49
git_last_commit_date: 2025-10-29 11:09:24 -0500
nebbiolo1Linux (Ubuntu 24.04.3 LTS) / x86_64  OK    OK    OK  NO, package depends on 'proDA' which is not available
Package 20/31HostnameOS / ArchINSTALLBUILDCHECKBUILD BIN
MBECS 1.15.0  (landing page)
Michael Olbrich
git_last_commit: 796859e
git_last_commit_date: 2025-10-29 11:15:19 -0500
nebbiolo1Linux (Ubuntu 24.04.3 LTS) / x86_64  OK    OK    OK  UNNEEDED, same version is already published
Package 21/31HostnameOS / ArchINSTALLBUILDCHECKBUILD BIN
MSPrep 1.21.0  (landing page)
Max McGrath
git_last_commit: e2ae0eb
git_last_commit_date: 2025-10-29 11:02:54 -0500
nebbiolo1Linux (Ubuntu 24.04.3 LTS) / x86_64  OK    OK    ERROR  
Package 22/31HostnameOS / ArchINSTALLBUILDCHECKBUILD BIN
omicRexposome 1.33.0  (landing page)
Xavier Escribà Montagut
git_last_commit: 72cf7a2
git_last_commit_date: 2025-10-29 10:41:13 -0500
nebbiolo1Linux (Ubuntu 24.04.3 LTS) / x86_64  OK    OK    OK  YES
Package 23/31HostnameOS / ArchINSTALLBUILDCHECKBUILD BIN
PAA 1.45.0  (landing page)
Michael Turewicz , Martin Eisenacher
git_last_commit: dfb636c
git_last_commit_date: 2025-10-29 10:22:06 -0500
nebbiolo1Linux (Ubuntu 24.04.3 LTS) / x86_64  OK    OK    OK  UNNEEDED, same version is already published
Package 24/31HostnameOS / ArchINSTALLBUILDCHECKBUILD BIN
pairedGSEA 1.11.0  (landing page)
Søren Helweg Dam
git_last_commit: dcfda05
git_last_commit_date: 2025-10-29 11:22:53 -0500
nebbiolo1Linux (Ubuntu 24.04.3 LTS) / x86_64  OK    OK    OK  UNNEEDED, same version is already published
Package 25/31HostnameOS / ArchINSTALLBUILDCHECKBUILD BIN
POMA 1.21.0  (landing page)
Pol Castellano-Escuder
git_last_commit: e8ab1e6
git_last_commit_date: 2025-10-29 11:01:06 -0500
nebbiolo1Linux (Ubuntu 24.04.3 LTS) / x86_64  OK    OK    OK  UNNEEDED, same version is already published
Package 26/31HostnameOS / ArchINSTALLBUILDCHECKBUILD BIN
PROPS 1.33.0  (landing page)
Lichy Han
git_last_commit: d01cb52
git_last_commit_date: 2025-10-29 10:41:57 -0500
nebbiolo1Linux (Ubuntu 24.04.3 LTS) / x86_64  OK    OK    OK  UNNEEDED, same version is already published
Package 27/31HostnameOS / ArchINSTALLBUILDCHECKBUILD BIN
qsmooth 1.27.0  (landing page)
Stephanie C. Hicks
git_last_commit: 427ec51
git_last_commit_date: 2025-10-29 10:50:55 -0500
nebbiolo1Linux (Ubuntu 24.04.3 LTS) / x86_64  OK    OK    WARNINGS  UNNEEDED, same version is already published
Package 28/31HostnameOS / ArchINSTALLBUILDCHECKBUILD BIN
qsvaR 1.15.0  (landing page)
Nicholas J. Eagles
git_last_commit: 834d31e
git_last_commit_date: 2025-10-29 11:15:51 -0500
nebbiolo1Linux (Ubuntu 24.04.3 LTS) / x86_64  OK    OK    OK  UNNEEDED, same version is already published
Package 29/31HostnameOS / ArchINSTALLBUILDCHECKBUILD BIN
SCAN.UPC 2.53.0  (landing page)
Stephen R. Piccolo
git_last_commit: 89643cf
git_last_commit_date: 2025-10-29 10:12:17 -0500
nebbiolo1Linux (Ubuntu 24.04.3 LTS) / x86_64  OK    OK    OK  UNNEEDED, same version is already published
Package 30/31HostnameOS / ArchINSTALLBUILDCHECKBUILD BIN
SEtools 1.25.0  (landing page)
Pierre-Luc Germain
git_last_commit: beb739e
git_last_commit_date: 2025-10-29 10:54:13 -0500
nebbiolo1Linux (Ubuntu 24.04.3 LTS) / x86_64  OK    OK    OK  UNNEEDED, same version is already published
Package 31/31HostnameOS / ArchINSTALLBUILDCHECKBUILD BIN
singleCellTK 2.21.0  (landing page)
Joshua David Campbell
git_last_commit: 4895b66
git_last_commit_date: 2025-10-29 11:29:49 -0500
nebbiolo1Linux (Ubuntu 24.04.3 LTS) / x86_64  OK    OK    OK  YES