| Back to Build/check report for BioC 3.23: simplified long |
|
This page was generated on 2025-11-05 11:32 -0500 (Wed, 05 Nov 2025).
| Hostname | OS | Arch (*) | R version | Installed pkgs |
|---|---|---|---|---|
| nebbiolo1 | Linux (Ubuntu 24.04.3 LTS) | x86_64 | R Under development (unstable) (2025-10-20 r88955) -- "Unsuffered Consequences" | 4818 |
| Click on any hostname to see more info about the system (e.g. compilers) (*) as reported by 'uname -p', except on Windows and Mac OS X | ||||
| Package 2055/2323 | Hostname | OS / Arch | INSTALL | BUILD | CHECK | BUILD BIN | ||||||||
| specL 1.45.0 (landing page) Christian Panse
| nebbiolo1 | Linux (Ubuntu 24.04.3 LTS) / x86_64 | OK | OK | OK | |||||||||
|
To the developers/maintainers of the specL package: - Allow up to 24 hours (and sometimes 48 hours) for your latest push to git@git.bioconductor.org:packages/specL.git to reflect on this report. See Troubleshooting Build Report for more information. - Use the following Renviron settings to reproduce errors and warnings. - If 'R CMD check' started to fail recently on the Linux builder(s) over a missing dependency, add the missing dependency to 'Suggests:' in your DESCRIPTION file. See Renviron.bioc for more information. |
| Package: specL |
| Version: 1.45.0 |
| Command: /home/biocbuild/bbs-3.23-bioc/R/bin/R CMD check --install=check:specL.install-out.txt --library=/home/biocbuild/bbs-3.23-bioc/R/site-library --timings specL_1.45.0.tar.gz |
| StartedAt: 2025-11-05 04:06:18 -0500 (Wed, 05 Nov 2025) |
| EndedAt: 2025-11-05 04:07:12 -0500 (Wed, 05 Nov 2025) |
| EllapsedTime: 54.0 seconds |
| RetCode: 0 |
| Status: OK |
| CheckDir: specL.Rcheck |
| Warnings: 0 |
##############################################################################
##############################################################################
###
### Running command:
###
### /home/biocbuild/bbs-3.23-bioc/R/bin/R CMD check --install=check:specL.install-out.txt --library=/home/biocbuild/bbs-3.23-bioc/R/site-library --timings specL_1.45.0.tar.gz
###
##############################################################################
##############################################################################
* using log directory ‘/home/biocbuild/bbs-3.23-bioc/meat/specL.Rcheck’
* using R Under development (unstable) (2025-10-20 r88955)
* using platform: x86_64-pc-linux-gnu
* R was compiled by
gcc (Ubuntu 13.3.0-6ubuntu2~24.04) 13.3.0
GNU Fortran (Ubuntu 13.3.0-6ubuntu2~24.04) 13.3.0
* running under: Ubuntu 24.04.3 LTS
* using session charset: UTF-8
* checking for file ‘specL/DESCRIPTION’ ... OK
* checking extension type ... Package
* this is package ‘specL’ version ‘1.45.0’
* checking package namespace information ... OK
* checking package dependencies ... OK
* checking if this is a source package ... OK
* checking if there is a namespace ... OK
* checking for hidden files and directories ... OK
* checking for portable file names ... OK
* checking for sufficient/correct file permissions ... OK
* checking whether package ‘specL’ can be installed ... OK
* checking installed package size ... OK
* checking package directory ... OK
* checking ‘build’ directory ... OK
* checking DESCRIPTION meta-information ... OK
* checking top-level files ... OK
* checking for left-over files ... OK
* checking index information ... OK
* checking package subdirectories ... OK
* checking code files for non-ASCII characters ... OK
* checking R files for syntax errors ... OK
* checking whether the package can be loaded ... OK
* checking whether the package can be loaded with stated dependencies ... OK
* checking whether the package can be unloaded cleanly ... OK
* checking whether the namespace can be loaded with stated dependencies ... OK
* checking whether the namespace can be unloaded cleanly ... OK
* checking loading without being on the library search path ... OK
* checking whether startup messages can be suppressed ... OK
* checking dependencies in R code ... OK
* checking S3 generic/method consistency ... OK
* checking replacement functions ... OK
* checking foreign function calls ... OK
* checking R code for possible problems ... NOTE
.retentiontimePlotFile : <anonymous>: no visible global function
definition for ‘head’
summary,specLSet : <anonymous>: no visible binding for global variable
‘iRTpeptides’
Undefined global functions or variables:
head iRTpeptides
Consider adding
importFrom("utils", "head")
to your NAMESPACE file.
* checking Rd files ... OK
* checking Rd metadata ... OK
* checking Rd cross-references ... OK
* checking for missing documentation entries ... OK
* checking for code/documentation mismatches ... OK
* checking Rd \usage sections ... OK
* checking Rd contents ... OK
* checking for unstated dependencies in examples ... OK
* checking contents of ‘data’ directory ... OK
* checking data for non-ASCII characters ... OK
* checking LazyData ... OK
* checking data for ASCII and uncompressed saves ... OK
* checking files in ‘vignettes’ ... OK
* checking examples ... OK
* checking for unstated dependencies in ‘tests’ ... OK
* checking tests ...
Running ‘runTests.R’
OK
* checking for unstated dependencies in vignettes ... OK
* checking package vignettes ... OK
* checking re-building of vignette outputs ... OK
* checking PDF version of manual ... OK
* DONE
Status: 1 NOTE
See
‘/home/biocbuild/bbs-3.23-bioc/meat/specL.Rcheck/00check.log’
for details.
specL.Rcheck/00install.out
############################################################################## ############################################################################## ### ### Running command: ### ### /home/biocbuild/bbs-3.23-bioc/R/bin/R CMD INSTALL specL ### ############################################################################## ############################################################################## * installing to library ‘/home/biocbuild/bbs-3.23-bioc/R/site-library’ * installing *source* package ‘specL’ ... ** this is package ‘specL’ version ‘1.45.0’ ** using staged installation ** R ** data *** moving datasets to lazyload DB ** inst ** byte-compile and prepare package for lazy loading ** help *** installing help indices ** building package indices ** installing vignettes ** testing if installed package can be loaded from temporary location ** testing if installed package can be loaded from final location ** testing if installed package keeps a record of temporary installation path * DONE (specL)
specL.Rcheck/tests/runTests.Rout
R Under development (unstable) (2025-10-20 r88955) -- "Unsuffered Consequences"
Copyright (C) 2025 The R Foundation for Statistical Computing
Platform: x86_64-pc-linux-gnu
R is free software and comes with ABSOLUTELY NO WARRANTY.
You are welcome to redistribute it under certain conditions.
Type 'license()' or 'licence()' for distribution details.
R is a collaborative project with many contributors.
Type 'contributors()' for more information and
'citation()' on how to cite R or R packages in publications.
Type 'demo()' for some demos, 'help()' for on-line help, or
'help.start()' for an HTML browser interface to help.
Type 'q()' to quit R.
> BiocGenerics:::testPackage("specL")
Attaching package: 'specL'
The following objects are masked from 'package:protViz':
plot.psm, plot.psmSet, summary.psmSet
start protein annotation ...
time taken: 0.000373470783233643 minutes
start protein annotation ...
time taken: 0.00018241008122762 minutes
normalizing RT ...
found 7 iRT peptide(s) in s:\p1239\Proteomics\QEXACTIVE_3\ctrachse_20140910_Nuclei_diff_extraction_methods\20140910_01_fetuin_400amol_1.raw
found 7 iRT peptide(s) in s:\p1239\Proteomics\QEXACTIVE_3\ctrachse_20140910_Nuclei_diff_extraction_methods\20140910_07_fetuin_400amol_2.raw
building model ...
generating ion library ...
start generating specLSet object ...
length of findNN idx 137
length of genSwathIonLibSpecL 137
time taken: 0.237173080444336 secs
length of genSwathIonLibSpecL after fragmentIonRange filtering 137
normalizing RT ...
found 7 iRT peptide(s) in s:\p1239\Proteomics\QEXACTIVE_3\ctrachse_20140910_Nuclei_diff_extraction_methods\20140910_01_fetuin_400amol_1.raw
found 7 iRT peptide(s) in s:\p1239\Proteomics\QEXACTIVE_3\ctrachse_20140910_Nuclei_diff_extraction_methods\20140910_07_fetuin_400amol_2.raw
building model ...
generating ion library ...
start generating specLSet object ...
length of findNN idx 137
length of genSwathIonLibSpecL 137
time taken: 0.215102910995483 secs
length of genSwathIonLibSpecL after fragmentIonRange filtering 137
normalizing RT ...
found 7 iRT peptide(s) in s:\p1239\Proteomics\QEXACTIVE_3\ctrachse_20140910_Nuclei_diff_extraction_methods\20140910_01_fetuin_400amol_1.raw
found 7 iRT peptide(s) in s:\p1239\Proteomics\QEXACTIVE_3\ctrachse_20140910_Nuclei_diff_extraction_methods\20140910_07_fetuin_400amol_2.raw
building model ...
generating ion library ...
start generating specLSet object ...
length of findNN idx 137
length of genSwathIonLibSpecL 137
time taken: 0.198326110839844 secs
length of genSwathIonLibSpecL after fragmentIonRange filtering 137
normalizing RT ...
no iRT peptides found for building the model.
=> no iRT regression applied, using orgiginal rt instead!
generating ion library ...
start generating specLSet object ...
length of findNN idx 137
length of genSwathIonLibSpecL 137
time taken: 0.22961950302124 secs
length of genSwathIonLibSpecL after fragmentIonRange filtering 137
normalizing RT ...
found 7 iRT peptide(s) in s:\p1239\Proteomics\QEXACTIVE_3\ctrachse_20140910_Nuclei_diff_extraction_methods\20140910_01_fetuin_400amol_1.raw
found 7 iRT peptide(s) in s:\p1239\Proteomics\QEXACTIVE_3\ctrachse_20140910_Nuclei_diff_extraction_methods\20140910_07_fetuin_400amol_2.raw
building model ...
model with only one file.
generating ion library ...
start generating specLSet object ...
length of findNN idx 1
length of genSwathIonLibSpecL 1
time taken: 0.00686764717102051 secs
length of genSwathIonLibSpecL after fragmentIonRange filtering 1
normalizing RT ...
found 7 iRT peptide(s) in s:\p1239\Proteomics\QEXACTIVE_3\ctrachse_20140910_Nuclei_diff_extraction_methods\20140910_01_fetuin_400amol_1.raw
found 7 iRT peptide(s) in s:\p1239\Proteomics\QEXACTIVE_3\ctrachse_20140910_Nuclei_diff_extraction_methods\20140910_07_fetuin_400amol_2.raw
building model ...
model with only one file.
generating ion library ...
start generating specLSet object ...
length of findNN idx 1
length of genSwathIonLibSpecL 1
time taken: 0.00673413276672363 secs
length of genSwathIonLibSpecL after fragmentIonRange filtering 1
normalizing RT ...
found 7 iRT peptide(s) in s:\p1239\Proteomics\QEXACTIVE_3\ctrachse_20140910_Nuclei_diff_extraction_methods\20140910_01_fetuin_400amol_1.raw
found 7 iRT peptide(s) in s:\p1239\Proteomics\QEXACTIVE_3\ctrachse_20140910_Nuclei_diff_extraction_methods\20140910_07_fetuin_400amol_2.raw
building model ...
generating ion library ...
start generating specLSet object ...
length of findNN idx 137
length of genSwathIonLibSpecL 137
time taken: 0.190119981765747 secs
length of genSwathIonLibSpecL after fragmentIonRange filtering 137
normalizing RT ...
no iRT peptides found for building the model.
=> no iRT regression applied, using orgiginal rt instead!
generating ion library ...
start generating specLSet object ...
length of findNN idx 137
length of genSwathIonLibSpecL 137
time taken: 0.219290494918823 secs
length of genSwathIonLibSpecL after fragmentIonRange filtering 137
normalizing RT ...
found 7 iRT peptide(s) in s:\p1239\Proteomics\QEXACTIVE_3\ctrachse_20140910_Nuclei_diff_extraction_methods\20140910_01_fetuin_400amol_1.raw
found 7 iRT peptide(s) in s:\p1239\Proteomics\QEXACTIVE_3\ctrachse_20140910_Nuclei_diff_extraction_methods\20140910_07_fetuin_400amol_2.raw
building model ...
model with only one file.
generating ion library ...
start generating specLSet object ...
length of findNN idx 1
length of genSwathIonLibSpecL 1
time taken: 0.00755906105041504 secs
length of genSwathIonLibSpecL after fragmentIonRange filtering 1
normalizing RT ...
found 7 iRT peptide(s) in s:\p1239\Proteomics\QEXACTIVE_3\ctrachse_20140910_Nuclei_diff_extraction_methods\20140910_01_fetuin_400amol_1.raw
found 7 iRT peptide(s) in s:\p1239\Proteomics\QEXACTIVE_3\ctrachse_20140910_Nuclei_diff_extraction_methods\20140910_07_fetuin_400amol_2.raw
building model ...
model with only one file.
generating ion library ...
start generating specLSet object ...
length of findNN idx 1
length of genSwathIonLibSpecL 1
time taken: 0.00691390037536621 secs
length of genSwathIonLibSpecL after fragmentIonRange filtering 1
normalizing RT ...
found 7 iRT peptide(s) in s:\p1239\Proteomics\QEXACTIVE_3\ctrachse_20140910_Nuclei_diff_extraction_methods\20140910_01_fetuin_400amol_1.raw
found 7 iRT peptide(s) in s:\p1239\Proteomics\QEXACTIVE_3\ctrachse_20140910_Nuclei_diff_extraction_methods\20140910_07_fetuin_400amol_2.raw
building model ...
generating ion library ...
start generating specLSet object ...
length of findNN idx 69
length of genSwathIonLibSpecL 69
time taken: 0.10948657989502 secs
length of genSwathIonLibSpecL after fragmentIonRange filtering 69
normalizing RT ...
found 7 iRT peptide(s) in s:\p1239\Proteomics\QEXACTIVE_3\ctrachse_20140910_Nuclei_diff_extraction_methods\20140910_01_fetuin_400amol_1.raw
found 7 iRT peptide(s) in s:\p1239\Proteomics\QEXACTIVE_3\ctrachse_20140910_Nuclei_diff_extraction_methods\20140910_07_fetuin_400amol_2.raw
building model ...
generating ion library ...
start generating specLSet object ...
length of findNN idx 68
length of genSwathIonLibSpecL 68
time taken: 0.117759466171265 secs
length of genSwathIonLibSpecL after fragmentIonRange filtering 68
normalizing RT ...
found 7 iRT peptide(s) in s:\p1239\Proteomics\QEXACTIVE_3\ctrachse_20140910_Nuclei_diff_extraction_methods\20140910_01_fetuin_400amol_1.raw
found 7 iRT peptide(s) in s:\p1239\Proteomics\QEXACTIVE_3\ctrachse_20140910_Nuclei_diff_extraction_methods\20140910_07_fetuin_400amol_2.raw
building model ...
generating ion library ...
start generating specLSet object ...
length of findNN idx 137
length of genSwathIonLibSpecL 137
time taken: 0.227898359298706 secs
length of genSwathIonLibSpecL after fragmentIonRange filtering 137
normalizing RT ...
found 7 iRT peptide(s) in s:\p1239\Proteomics\QEXACTIVE_3\ctrachse_20140910_Nuclei_diff_extraction_methods\20140910_01_fetuin_400amol_1.raw
found 7 iRT peptide(s) in s:\p1239\Proteomics\QEXACTIVE_3\ctrachse_20140910_Nuclei_diff_extraction_methods\20140910_07_fetuin_400amol_2.raw
building model ...
generating ion library ...
start generating specLSet object ...
length of findNN idx 69
length of genSwathIonLibSpecL 69
time taken: 0.123715877532959 secs
length of genSwathIonLibSpecL after fragmentIonRange filtering 69
normalizing RT ...
found 7 iRT peptide(s) in s:\p1239\Proteomics\QEXACTIVE_3\ctrachse_20140910_Nuclei_diff_extraction_methods\20140910_01_fetuin_400amol_1.raw
found 7 iRT peptide(s) in s:\p1239\Proteomics\QEXACTIVE_3\ctrachse_20140910_Nuclei_diff_extraction_methods\20140910_07_fetuin_400amol_2.raw
building model ...
generating ion library ...
start generating specLSet object ...
length of findNN idx 68
length of genSwathIonLibSpecL 68
time taken: 0.119394302368164 secs
length of genSwathIonLibSpecL after fragmentIonRange filtering 68
normalizing RT ...
found 7 iRT peptide(s) in s:\p1239\Proteomics\QEXACTIVE_3\ctrachse_20140910_Nuclei_diff_extraction_methods\20140910_01_fetuin_400amol_1.raw
found 7 iRT peptide(s) in s:\p1239\Proteomics\QEXACTIVE_3\ctrachse_20140910_Nuclei_diff_extraction_methods\20140910_07_fetuin_400amol_2.raw
building model ...
generating ion library ...
start generating specLSet object ...
length of findNN idx 137
length of genSwathIonLibSpecL 137
time taken: 0.228755950927734 secs
length of genSwathIonLibSpecL after fragmentIonRange filtering 137
fetched 137 rows.
assigning 28 modifications ...
fetched 184 rows.
assigning 37 modifications ...
normalizing RT ...
found 7 iRT peptide(s) in s:\p1239\Proteomics\QEXACTIVE_3\ctrachse_20140910_Nuclei_diff_extraction_methods\20140910_01_fetuin_400amol_1.raw
found 7 iRT peptide(s) in s:\p1239\Proteomics\QEXACTIVE_3\ctrachse_20140910_Nuclei_diff_extraction_methods\20140910_07_fetuin_400amol_2.raw
building model ...
generating ion library ...
start generating specLSet object ...
length of findNN idx 137
length of genSwathIonLibSpecL 137
time taken: 0.224169731140137 secs
length of genSwathIonLibSpecL after fragmentIonRange filtering 137
fetched 137 rows.
assigning 28 modifications ...
fetched 184 rows.
assigning 37 modifications ...
normalizing RT ...
found 7 iRT peptide(s) in s:\p1239\Proteomics\QEXACTIVE_3\ctrachse_20140910_Nuclei_diff_extraction_methods\20140910_01_fetuin_400amol_1.raw
found 7 iRT peptide(s) in s:\p1239\Proteomics\QEXACTIVE_3\ctrachse_20140910_Nuclei_diff_extraction_methods\20140910_07_fetuin_400amol_2.raw
building model ...
generating ion library ...
start generating specLSet object ...
length of findNN idx 137
length of genSwathIonLibSpecL 137
time taken: 0.18644380569458 secs
length of genSwathIonLibSpecL after fragmentIonRange filtering 137
RUNIT TEST PROTOCOL -- Wed Nov 5 04:06:55 2025
***********************************************
Number of test functions: 9
Number of errors: 0
Number of failures: 0
1 Test Suite :
specL RUnit Tests - 9 test functions, 0 errors, 0 failures
Number of test functions: 9
Number of errors: 0
Number of failures: 0
There were 13 warnings (use warnings() to see them)
>
>
> proc.time()
user system elapsed
4.958 0.249 5.161
specL.Rcheck/specL-Ex.timings
| name | user | system | elapsed | |
| annotate.protein_id | 0.015 | 0.008 | 0.022 | |
| cdsw | 0.012 | 0.002 | 0.014 | |
| genSwathIonLib | 0.323 | 0.010 | 0.330 | |
| iRTpeptides | 0.004 | 0.000 | 0.004 | |
| peptideStd | 0.006 | 0.000 | 0.008 | |
| read.bibliospec | 0.001 | 0.000 | 0.000 | |
| specL-class | 0.000 | 0.000 | 0.001 | |
| specLSet-class | 0.000 | 0.001 | 0.001 | |