Back to Multiple platform build/check report for BioC 3.22:   simplified   long
ABCDEFGHIJKLMNOPQR[S]TUVWXYZ

This page was generated on 2025-07-15 12:05 -0400 (Tue, 15 Jul 2025).

HostnameOSArch (*)R versionInstalled pkgs
nebbiolo2Linux (Ubuntu 24.04.2 LTS)x86_644.5.1 (2025-06-13) -- "Great Square Root" 4785
palomino8Windows Server 2022 Datacenterx644.5.1 (2025-06-13 ucrt) -- "Great Square Root" 4524
lconwaymacOS 12.7.1 Montereyx86_644.5.1 (2025-06-13) -- "Great Square Root" 4565
kjohnson3macOS 13.7.1 Venturaarm644.5.1 Patched (2025-06-14 r88325) -- "Great Square Root" 4508
taishanLinux (openEuler 24.03 LTS)aarch644.5.0 (2025-04-11) -- "How About a Twenty-Six" 4509
Click on any hostname to see more info about the system (e.g. compilers)      (*) as reported by 'uname -p', except on Windows and Mac OS X

Package 2036/2311HostnameOS / ArchINSTALLBUILDCHECKBUILD BIN
spatialFDA 1.1.0  (landing page)
Martin Emons
Snapshot Date: 2025-07-14 13:25 -0400 (Mon, 14 Jul 2025)
git_url: https://git.bioconductor.org/packages/spatialFDA
git_branch: devel
git_last_commit: 0b1da5c
git_last_commit_date: 2025-04-15 13:46:04 -0400 (Tue, 15 Apr 2025)
nebbiolo2Linux (Ubuntu 24.04.2 LTS) / x86_64  OK    OK    OK  UNNEEDED, same version is already published
palomino8Windows Server 2022 Datacenter / x64  OK    OK    OK    OK  UNNEEDED, same version is already published
lconwaymacOS 12.7.1 Monterey / x86_64  OK    OK    OK    OK  UNNEEDED, same version is already published
kjohnson3macOS 13.7.1 Ventura / arm64  OK    OK    OK    OK  UNNEEDED, same version is already published
taishanLinux (openEuler 24.03 LTS) / aarch64  OK    OK    OK  


CHECK results for spatialFDA on nebbiolo2

To the developers/maintainers of the spatialFDA package:
- Allow up to 24 hours (and sometimes 48 hours) for your latest push to git@git.bioconductor.org:packages/spatialFDA.git to reflect on this report. See Troubleshooting Build Report for more information.
- Use the following Renviron settings to reproduce errors and warnings.
- If 'R CMD check' started to fail recently on the Linux builder(s) over a missing dependency, add the missing dependency to 'Suggests:' in your DESCRIPTION file. See Renviron.bioc for more information.

raw results


Summary

Package: spatialFDA
Version: 1.1.0
Command: /home/biocbuild/bbs-3.22-bioc/R/bin/R CMD check --install=check:spatialFDA.install-out.txt --library=/home/biocbuild/bbs-3.22-bioc/R/site-library --timings spatialFDA_1.1.0.tar.gz
StartedAt: 2025-07-15 02:50:13 -0400 (Tue, 15 Jul 2025)
EndedAt: 2025-07-15 03:00:24 -0400 (Tue, 15 Jul 2025)
EllapsedTime: 610.5 seconds
RetCode: 0
Status:   OK  
CheckDir: spatialFDA.Rcheck
Warnings: 0

Command output

##############################################################################
##############################################################################
###
### Running command:
###
###   /home/biocbuild/bbs-3.22-bioc/R/bin/R CMD check --install=check:spatialFDA.install-out.txt --library=/home/biocbuild/bbs-3.22-bioc/R/site-library --timings spatialFDA_1.1.0.tar.gz
###
##############################################################################
##############################################################################


* using log directory ‘/home/biocbuild/bbs-3.22-bioc/meat/spatialFDA.Rcheck’
* using R version 4.5.1 (2025-06-13)
* using platform: x86_64-pc-linux-gnu
* R was compiled by
    gcc (Ubuntu 13.3.0-6ubuntu2~24.04) 13.3.0
    GNU Fortran (Ubuntu 13.3.0-6ubuntu2~24.04) 13.3.0
* running under: Ubuntu 24.04.2 LTS
* using session charset: UTF-8
* checking for file ‘spatialFDA/DESCRIPTION’ ... OK
* this is package ‘spatialFDA’ version ‘1.1.0’
* package encoding: UTF-8
* checking package namespace information ... OK
* checking package dependencies ... OK
* checking if this is a source package ... OK
* checking if there is a namespace ... OK
* checking for hidden files and directories ... OK
* checking for portable file names ... OK
* checking for sufficient/correct file permissions ... OK
* checking whether package ‘spatialFDA’ can be installed ... OK
* checking installed package size ... OK
* checking package directory ... OK
* checking ‘build’ directory ... OK
* checking DESCRIPTION meta-information ... OK
* checking top-level files ... OK
* checking for left-over files ... OK
* checking index information ... OK
* checking package subdirectories ... OK
* checking code files for non-ASCII characters ... OK
* checking R files for syntax errors ... OK
* checking whether the package can be loaded ... OK
* checking whether the package can be loaded with stated dependencies ... OK
* checking whether the package can be unloaded cleanly ... OK
* checking whether the namespace can be loaded with stated dependencies ... OK
* checking whether the namespace can be unloaded cleanly ... OK
* checking loading without being on the library search path ... OK
* checking dependencies in R code ... OK
* checking S3 generic/method consistency ... OK
* checking replacement functions ... OK
* checking foreign function calls ... OK
* checking R code for possible problems ... OK
* checking Rd files ... OK
* checking Rd metadata ... OK
* checking Rd cross-references ... OK
* checking for missing documentation entries ... OK
* checking for code/documentation mismatches ... OK
* checking Rd \usage sections ... OK
* checking Rd contents ... OK
* checking for unstated dependencies in examples ... OK
* checking files in ‘vignettes’ ... OK
* checking examples ... OK
Examples with CPU (user + system) or elapsed time > 5s
                        user system elapsed
calcCrossMetricPerFov 17.288  1.606  19.180
plotCrossMetricPerFov 14.906  1.032  16.176
functionalGam         13.206  0.553  14.000
plotMdl               12.038  0.361  12.637
functionalPCA          7.736  0.708   8.681
plotFbPlot             7.533  0.884   8.656
plotMetricPerFov       7.545  0.706   8.612
print.fpca             7.522  0.587   8.345
calcMetricPerFov       7.315  0.751   8.369
plotFpca               7.501  0.403   8.142
prepData               7.215  0.653   8.200
dot-speToDf            6.661  1.178   8.057
dot-dfToppp            6.636  0.715   7.624
dot-extractMetric      6.321  0.406   6.967
dot-loadExample        5.000  0.940   6.175
* checking for unstated dependencies in ‘tests’ ... OK
* checking tests ...
  Running ‘testthat.R’
 OK
* checking for unstated dependencies in vignettes ... OK
* checking package vignettes ... OK
* checking re-building of vignette outputs ... OK
* checking PDF version of manual ... OK
* DONE

Status: OK


Installation output

spatialFDA.Rcheck/00install.out

##############################################################################
##############################################################################
###
### Running command:
###
###   /home/biocbuild/bbs-3.22-bioc/R/bin/R CMD INSTALL spatialFDA
###
##############################################################################
##############################################################################


* installing to library ‘/home/biocbuild/bbs-3.22-bioc/R/site-library’
* installing *source* package ‘spatialFDA’ ...
** this is package ‘spatialFDA’ version ‘1.1.0’
** using staged installation
** R
** byte-compile and prepare package for lazy loading
** help
*** installing help indices
** building package indices
** installing vignettes
** testing if installed package can be loaded from temporary location
** testing if installed package can be loaded from final location
** testing if installed package keeps a record of temporary installation path
* DONE (spatialFDA)

Tests output

spatialFDA.Rcheck/tests/testthat.Rout


R version 4.5.1 (2025-06-13) -- "Great Square Root"
Copyright (C) 2025 The R Foundation for Statistical Computing
Platform: x86_64-pc-linux-gnu

R is free software and comes with ABSOLUTELY NO WARRANTY.
You are welcome to redistribute it under certain conditions.
Type 'license()' or 'licence()' for distribution details.

R is a collaborative project with many contributors.
Type 'contributors()' for more information and
'citation()' on how to cite R or R packages in publications.

Type 'demo()' for some demos, 'help()' for on-line help, or
'help.start()' for an HTML browser interface to help.
Type 'q()' to quit R.

> # This file is part of the standard setup for testthat.
> # It is recommended that you do not modify it.
> #
> # Where should you do additional test configuration?
> # Learn more about the roles of various files in:
> # * https://r-pkgs.org/testing-design.html#sec-tests-files-overview
> # * https://testthat.r-lib.org/articles/special-files.html
> 
> library(testthat)
> library(spatialFDA)
> 
> test_check("spatialFDA")
imcdatasets not installed.
  Full functionality, documentation, and loading of data might not be possible without installing
loading from cache
require("SingleCellExperiment")
[1] "Calculating Gest of alpha"
[1] "Calculating markcorr of alpha"
[1] "Calculating Gcross from alpha to beta"
[1] "Calculating Gest of alpha"
[1] "Calculating Gcross from alpha to alpha"
[1] "Calculating Gcross from beta to alpha"
[1] "Calculating Gcross from delta to alpha"
[1] "Calculating Gcross from alpha to beta"
[1] "Calculating Gcross from beta to beta"
[1] "Calculating Gcross from delta to beta"
[1] "Calculating Gcross from alpha to delta"
[1] "Calculating Gcross from beta to delta"
[1] "Calculating Gcross from delta to delta"
[1] "alpha"
[1] "Calculating Kdot of alpha"
[1] "beta"
[1] "Calculating Kdot of beta"
[1] "delta"
[1] "Calculating Kdot of delta"
[1] "Calculating Lcross from alpha to Tc"
[1] "Calculating Gcross from alpha to Tc"

Attaching package: 'tidyr'

The following object is masked from 'package:S4Vectors':

    expand

The following object is masked from 'package:testthat':

    matches


Attaching package: 'dplyr'

The following object is masked from 'package:Biobase':

    combine

The following objects are masked from 'package:GenomicRanges':

    intersect, setdiff, union

The following object is masked from 'package:Seqinfo':

    intersect

The following objects are masked from 'package:IRanges':

    collapse, desc, intersect, setdiff, slice, union

The following objects are masked from 'package:S4Vectors':

    first, intersect, rename, setdiff, setequal, union

The following objects are masked from 'package:BiocGenerics':

    combine, intersect, setdiff, setequal, union

The following object is masked from 'package:generics':

    explain

The following object is masked from 'package:matrixStats':

    count

The following object is masked from 'package:testthat':

    matches

The following objects are masked from 'package:stats':

    filter, lag

The following objects are masked from 'package:base':

    intersect, setdiff, setequal, union

imcdatasets not installed.
  Full functionality, documentation, and loading of data might not be possible without installing
loading from cache
[1] "Calculating Gcross from alpha to beta"
imcdatasets not installed.
  Full functionality, documentation, and loading of data might not be possible without installing
loading from cache
[1] "Calculating Gcross from alpha to beta"
[ FAIL 0 | WARN 2 | SKIP 0 | PASS 42 ]

[ FAIL 0 | WARN 2 | SKIP 0 | PASS 42 ]
> 
> proc.time()
   user  system elapsed 
 88.204   4.722  93.667 

Example timings

spatialFDA.Rcheck/spatialFDA-Ex.timings

nameusersystemelapsed
calcCrossMetricPerFov17.288 1.60619.180
calcMetricPerFov7.3150.7518.369
dot-dfToppp6.6360.7157.624
dot-extractMetric6.3210.4066.967
dot-loadExample5.0000.9406.175
dot-speToDf6.6611.1788.057
functionalGam13.206 0.55314.000
functionalPCA7.7360.7088.681
plotCrossMetricPerFov14.906 1.03216.176
plotFbPlot7.5330.8848.656
plotFpca7.5010.4038.142
plotMdl12.038 0.36112.637
plotMetricPerFov7.5450.7068.612
prepData7.2150.6538.200
print.fpca7.5220.5878.345