Back to Multiple platform build/check report for BioC 3.22:   simplified   long
ABCDEFGHIJKLMNOPQR[S]TUVWXYZ

This page was generated on 2025-05-05 12:11 -0400 (Mon, 05 May 2025).

HostnameOSArch (*)R versionInstalled pkgs
nebbiolo2Linux (Ubuntu 24.04.1 LTS)x86_644.5.0 (2025-04-11) -- "How About a Twenty-Six" 4745
palomino8Windows Server 2022 Datacenterx644.5.0 (2025-04-11 ucrt) -- "How About a Twenty-Six" 4507
lconwaymacOS 12.7.1 Montereyx86_644.5.0 Patched (2025-04-21 r88169) -- "How About a Twenty-Six" 4546
kjohnson3macOS 13.7.1 Venturaarm644.5.0 Patched (2025-04-21 r88169) -- "How About a Twenty-Six" 4487
taishanLinux (openEuler 24.03 LTS)aarch644.5.0 (2025-04-11) -- "How About a Twenty-Six" 4434
Click on any hostname to see more info about the system (e.g. compilers)      (*) as reported by 'uname -p', except on Windows and Mac OS X

Package 2005/2304HostnameOS / ArchINSTALLBUILDCHECKBUILD BIN
snifter 1.19.0  (landing page)
Alan O'Callaghan
Snapshot Date: 2025-05-04 13:00 -0400 (Sun, 04 May 2025)
git_url: https://git.bioconductor.org/packages/snifter
git_branch: devel
git_last_commit: 04bdacf
git_last_commit_date: 2025-04-15 12:06:36 -0400 (Tue, 15 Apr 2025)
nebbiolo2Linux (Ubuntu 24.04.1 LTS) / x86_64  OK    OK    OK  UNNEEDED, same version is already published
palomino8Windows Server 2022 Datacenter / x64  OK    OK    OK    OK  UNNEEDED, same version is already published
lconwaymacOS 12.7.1 Monterey / x86_64  OK    OK    OK    OK  UNNEEDED, same version is already published
kjohnson3macOS 13.7.1 Ventura / arm64  OK    OK    OK    OK  UNNEEDED, same version is already published
taishanLinux (openEuler 24.03 LTS) / aarch64  OK    OK    OK  


BUILD BIN results for snifter on kjohnson3

To the developers/maintainers of the snifter package:
- Allow up to 24 hours (and sometimes 48 hours) for your latest push to git@git.bioconductor.org:packages/snifter.git to reflect on this report. See Troubleshooting Build Report for more information.
- Use the following Renviron settings to reproduce errors and warnings.
- If 'R CMD check' started to fail recently on the Linux builder(s) over a missing dependency, add the missing dependency to 'Suggests:' in your DESCRIPTION file. See Renviron.bioc for more information.

raw results


Summary

Package: snifter
Version: 1.19.0
Command: rm -rf snifter.buildbin-libdir && mkdir snifter.buildbin-libdir && /Users/biocbuild/BBS/utils/build-universal.sh snifter_1.19.0.tar.gz /Library/Frameworks/R.framework/Resources/bin/R snifter.buildbin-libdir
StartedAt: 2025-05-04 22:52:32 -0400 (Sun, 04 May 2025)
EndedAt: 2025-05-04 22:52:36 -0400 (Sun, 04 May 2025)
EllapsedTime: 4.1 seconds
RetCode: 0
Status:   OK  
PackageFile: snifter_1.19.0.tgz
PackageFileSize: 896.8 KiB

Command output

##############################################################################
##############################################################################
###
### Running command:
###
###   rm -rf snifter.buildbin-libdir && mkdir snifter.buildbin-libdir && /Users/biocbuild/BBS/utils/build-universal.sh snifter_1.19.0.tar.gz /Library/Frameworks/R.framework/Resources/bin/R snifter.buildbin-libdir
###
##############################################################################
##############################################################################


>>>>>>> 
>>>>>>> INSTALLATION WITH 'R CMD INSTALL --preclean --no-multiarch --library=snifter.buildbin-libdir snifter_1.19.0.tar.gz'
>>>>>>> 

* installing *source* package ‘snifter’ ...
** this is package ‘snifter’ version ‘1.19.0’
** using non-staged installation via StagedInstall field
** R
** inst
** byte-compile and prepare package for lazy loading
** help
*** installing help indices
*** copying figures
** building package indices
** installing vignettes
** testing if installed package can be loaded
* DONE (snifter)