Back to Multiple platform build/check report for BioC 3.21:   simplified   long
ABCDEFGHIJKLMNOPQR[S]TUVWXYZ

This page was generated on 2025-02-03 12:38 -0500 (Mon, 03 Feb 2025).

HostnameOSArch (*)R versionInstalled pkgs
nebbiolo1Linux (Ubuntu 24.04.1 LTS)x86_64R Under development (unstable) (2025-01-20 r87609) -- "Unsuffered Consequences" 4704
palomino7Windows Server 2022 Datacenterx64R Under development (unstable) (2025-01-21 r87610 ucrt) -- "Unsuffered Consequences" 4467
lconwaymacOS 12.7.1 Montereyx86_64R Under development (unstable) (2025-01-22 r87618) -- "Unsuffered Consequences" 4478
Click on any hostname to see more info about the system (e.g. compilers)      (*) as reported by 'uname -p', except on Windows and Mac OS X

Package 1978/2289HostnameOS / ArchINSTALLBUILDCHECKBUILD BIN
sketchR 1.3.0  (landing page)
Charlotte Soneson
Snapshot Date: 2025-02-02 13:40 -0500 (Sun, 02 Feb 2025)
git_url: https://git.bioconductor.org/packages/sketchR
git_branch: devel
git_last_commit: e11ec9e
git_last_commit_date: 2024-12-21 13:09:26 -0500 (Sat, 21 Dec 2024)
nebbiolo1Linux (Ubuntu 24.04.1 LTS) / x86_64  OK    OK    OK  UNNEEDED, same version is already published
palomino7Windows Server 2022 Datacenter / x64  OK    OK    OK    OK  UNNEEDED, same version is already published
lconwaymacOS 12.7.1 Monterey / x86_64  OK    OK    OK    OK  UNNEEDED, same version is already published


BUILD BIN results for sketchR on palomino7

To the developers/maintainers of the sketchR package:
- Allow up to 24 hours (and sometimes 48 hours) for your latest push to git@git.bioconductor.org:packages/sketchR.git to reflect on this report. See Troubleshooting Build Report for more information.
- Use the following Renviron settings to reproduce errors and warnings.
- If 'R CMD check' started to fail recently on the Linux builder(s) over a missing dependency, add the missing dependency to 'Suggests:' in your DESCRIPTION file. See Renviron.bioc for more information.

raw results


Summary

Package: sketchR
Version: 1.3.0
Command: rm -rf sketchR.buildbin-libdir && mkdir sketchR.buildbin-libdir && E:\biocbuild\bbs-3.21-bioc\R\bin\R.exe CMD INSTALL --build --library=sketchR.buildbin-libdir sketchR_1.3.0.tar.gz
StartedAt: 2025-02-03 08:18:15 -0500 (Mon, 03 Feb 2025)
EndedAt: 2025-02-03 08:18:38 -0500 (Mon, 03 Feb 2025)
EllapsedTime: 23.1 seconds
RetCode: 0
Status:   OK  
PackageFile: sketchR_1.3.0.zip
PackageFileSize: 637.7 KiB

Command output

##############################################################################
##############################################################################
###
### Running command:
###
###   rm -rf sketchR.buildbin-libdir && mkdir sketchR.buildbin-libdir && E:\biocbuild\bbs-3.21-bioc\R\bin\R.exe CMD INSTALL --build --library=sketchR.buildbin-libdir sketchR_1.3.0.tar.gz
###
##############################################################################
##############################################################################


* installing *source* package 'sketchR' ...
** this is package 'sketchR' version '1.3.0'
** using non-staged installation via StagedInstall field
** R
** inst
** byte-compile and prepare package for lazy loading
** help
*** installing help indices
*** copying figures
** building package indices
** installing vignettes
** testing if installed package can be loaded
* MD5 sums
packaged installation of 'sketchR' as sketchR_1.3.0.zip
* DONE (sketchR)