Back to Multiple platform build/check report for BioC 3.21: simplified long |
|
This page was generated on 2025-02-19 11:40 -0500 (Wed, 19 Feb 2025).
Hostname | OS | Arch (*) | R version | Installed pkgs |
---|---|---|---|---|
nebbiolo1 | Linux (Ubuntu 24.04.1 LTS) | x86_64 | R Under development (unstable) (2025-01-20 r87609) -- "Unsuffered Consequences" | 4720 |
palomino7 | Windows Server 2022 Datacenter | x64 | R Under development (unstable) (2025-01-21 r87610 ucrt) -- "Unsuffered Consequences" | 4482 |
lconway | macOS 12.7.1 Monterey | x86_64 | R Under development (unstable) (2025-01-22 r87618) -- "Unsuffered Consequences" | 4493 |
kjohnson3 | macOS 13.7.1 Ventura | arm64 | R Under development (unstable) (2025-01-20 r87609) -- "Unsuffered Consequences" | 4446 |
Click on any hostname to see more info about the system (e.g. compilers) (*) as reported by 'uname -p', except on Windows and Mac OS X |
Package 1968/2295 | Hostname | OS / Arch | INSTALL | BUILD | CHECK | BUILD BIN | ||||||||
simona 1.5.0 (landing page) Zuguang Gu
| nebbiolo1 | Linux (Ubuntu 24.04.1 LTS) / x86_64 | OK | OK | OK | ![]() | ||||||||
palomino7 | Windows Server 2022 Datacenter / x64 | OK | OK | OK | OK | ![]() | ||||||||
lconway | macOS 12.7.1 Monterey / x86_64 | OK | OK | OK | OK | ![]() | ||||||||
kjohnson3 | macOS 13.7.1 Ventura / arm64 | OK | OK | OK | OK | ![]() | ||||||||
To the developers/maintainers of the simona package: - Allow up to 24 hours (and sometimes 48 hours) for your latest push to git@git.bioconductor.org:packages/simona.git to reflect on this report. See Troubleshooting Build Report for more information. - Use the following Renviron settings to reproduce errors and warnings. - If 'R CMD check' started to fail recently on the Linux builder(s) over a missing dependency, add the missing dependency to 'Suggests:' in your DESCRIPTION file. See Renviron.bioc for more information. |
Package: simona |
Version: 1.5.0 |
Command: /home/biocbuild/bbs-3.21-bioc/R/bin/R CMD INSTALL simona |
StartedAt: 2025-02-18 15:13:01 -0500 (Tue, 18 Feb 2025) |
EndedAt: 2025-02-18 15:14:14 -0500 (Tue, 18 Feb 2025) |
EllapsedTime: 73.0 seconds |
RetCode: 0 |
Status: OK |
############################################################################## ############################################################################## ### ### Running command: ### ### /home/biocbuild/bbs-3.21-bioc/R/bin/R CMD INSTALL simona ### ############################################################################## ############################################################################## * installing to library ‘/home/biocbuild/bbs-3.21-bioc/R/site-library’ * installing *source* package ‘simona’ ... ** this is package ‘simona’ version ‘1.5.0’ ** using staged installation ** libs using C++ compiler: ‘g++ (Ubuntu 13.3.0-6ubuntu2~24.04) 13.3.0’ using C++11 g++ -std=gnu++11 -I"/home/biocbuild/bbs-3.21-bioc/R/include" -DNDEBUG -I'/home/biocbuild/bbs-3.21-bioc/R/site-library/Rcpp/include' -I/usr/local/include -fpic -g -O2 -DR_NO_REMAP -c RcppExports.cpp -o RcppExports.o g++ -std=gnu++11 -I"/home/biocbuild/bbs-3.21-bioc/R/include" -DNDEBUG -I'/home/biocbuild/bbs-3.21-bioc/R/site-library/Rcpp/include' -I/usr/local/include -fpic -g -O2 -DR_NO_REMAP -c annotation.cpp -o annotation.o g++ -std=gnu++11 -I"/home/biocbuild/bbs-3.21-bioc/R/include" -DNDEBUG -I'/home/biocbuild/bbs-3.21-bioc/R/site-library/Rcpp/include' -I/usr/local/include -fpic -g -O2 -DR_NO_REMAP -c common_ancestor.cpp -o common_ancestor.o g++ -std=gnu++11 -I"/home/biocbuild/bbs-3.21-bioc/R/include" -DNDEBUG -I'/home/biocbuild/bbs-3.21-bioc/R/site-library/Rcpp/include' -I/usr/local/include -fpic -g -O2 -DR_NO_REMAP -c dist.cpp -o dist.o g++ -std=gnu++11 -I"/home/biocbuild/bbs-3.21-bioc/R/include" -DNDEBUG -I'/home/biocbuild/bbs-3.21-bioc/R/site-library/Rcpp/include' -I/usr/local/include -fpic -g -O2 -DR_NO_REMAP -c intersectToList_logical.cpp -o intersectToList_logical.o g++ -std=gnu++11 -I"/home/biocbuild/bbs-3.21-bioc/R/include" -DNDEBUG -I'/home/biocbuild/bbs-3.21-bioc/R/site-library/Rcpp/include' -I/usr/local/include -fpic -g -O2 -DR_NO_REMAP -c partition.cpp -o partition.o g++ -std=gnu++11 -I"/home/biocbuild/bbs-3.21-bioc/R/include" -DNDEBUG -I'/home/biocbuild/bbs-3.21-bioc/R/site-library/Rcpp/include' -I/usr/local/include -fpic -g -O2 -DR_NO_REMAP -c permutation.cpp -o permutation.o g++ -std=gnu++11 -I"/home/biocbuild/bbs-3.21-bioc/R/include" -DNDEBUG -I'/home/biocbuild/bbs-3.21-bioc/R/site-library/Rcpp/include' -I/usr/local/include -fpic -g -O2 -DR_NO_REMAP -c plot.cpp -o plot.o g++ -std=gnu++11 -I"/home/biocbuild/bbs-3.21-bioc/R/include" -DNDEBUG -I'/home/biocbuild/bbs-3.21-bioc/R/site-library/Rcpp/include' -I/usr/local/include -fpic -g -O2 -DR_NO_REMAP -c reorder.cpp -o reorder.o g++ -std=gnu++11 -I"/home/biocbuild/bbs-3.21-bioc/R/include" -DNDEBUG -I'/home/biocbuild/bbs-3.21-bioc/R/site-library/Rcpp/include' -I/usr/local/include -fpic -g -O2 -DR_NO_REMAP -c sim.cpp -o sim.o g++ -std=gnu++11 -I"/home/biocbuild/bbs-3.21-bioc/R/include" -DNDEBUG -I'/home/biocbuild/bbs-3.21-bioc/R/site-library/Rcpp/include' -I/usr/local/include -fpic -g -O2 -DR_NO_REMAP -c term.cpp -o term.o g++ -std=gnu++11 -I"/home/biocbuild/bbs-3.21-bioc/R/include" -DNDEBUG -I'/home/biocbuild/bbs-3.21-bioc/R/site-library/Rcpp/include' -I/usr/local/include -fpic -g -O2 -DR_NO_REMAP -c traverse.cpp -o traverse.o g++ -std=gnu++11 -I"/home/biocbuild/bbs-3.21-bioc/R/include" -DNDEBUG -I'/home/biocbuild/bbs-3.21-bioc/R/site-library/Rcpp/include' -I/usr/local/include -fpic -g -O2 -DR_NO_REMAP -c tree.cpp -o tree.o g++ -std=gnu++11 -I"/home/biocbuild/bbs-3.21-bioc/R/include" -DNDEBUG -I'/home/biocbuild/bbs-3.21-bioc/R/site-library/Rcpp/include' -I/usr/local/include -fpic -g -O2 -DR_NO_REMAP -c utils.cpp -o utils.o g++ -std=gnu++11 -shared -L/home/biocbuild/bbs-3.21-bioc/R/lib -L/usr/local/lib -o simona.so RcppExports.o annotation.o common_ancestor.o dist.o intersectToList_logical.o partition.o permutation.o plot.o reorder.o sim.o term.o traverse.o tree.o utils.o -L/home/biocbuild/bbs-3.21-bioc/R/lib -lR installing to /home/biocbuild/bbs-3.21-bioc/R/site-library/00LOCK-simona/00new/simona/libs ** R ** inst ** byte-compile and prepare package for lazy loading ** help *** installing help indices ** building package indices ** installing vignettes ** testing if installed package can be loaded from temporary location ** checking absolute paths in shared objects and dynamic libraries ** testing if installed package can be loaded from final location ** testing if installed package keeps a record of temporary installation path * DONE (simona)