| Back to Multiple platform build/check report for BioC 3.22: simplified long |
|
This page was generated on 2025-10-02 12:07 -0400 (Thu, 02 Oct 2025).
| Hostname | OS | Arch (*) | R version | Installed pkgs |
|---|---|---|---|---|
| nebbiolo2 | Linux (Ubuntu 24.04.3 LTS) | x86_64 | 4.5.1 Patched (2025-08-23 r88802) -- "Great Square Root" | 4844 |
| lconway | macOS 12.7.1 Monterey | x86_64 | 4.5.1 Patched (2025-09-10 r88807) -- "Great Square Root" | 4631 |
| kjohnson3 | macOS 13.7.7 Ventura | arm64 | 4.5.1 Patched (2025-09-10 r88807) -- "Great Square Root" | 4576 |
| taishan | Linux (openEuler 24.03 LTS) | aarch64 | 4.5.0 (2025-04-11) -- "How About a Twenty-Six" | 4576 |
| Click on any hostname to see more info about the system (e.g. compilers) (*) as reported by 'uname -p', except on Windows and Mac OS X | ||||
| Package 1978/2337 | Hostname | OS / Arch | INSTALL | BUILD | CHECK | BUILD BIN | ||||||||
| shiny.gosling 1.5.0 (landing page) Appsilon
| nebbiolo2 | Linux (Ubuntu 24.04.3 LTS) / x86_64 | OK | ERROR | skipped | |||||||||
| lconway | macOS 12.7.1 Monterey / x86_64 | OK | ERROR | skipped | skipped | |||||||||
| kjohnson3 | macOS 13.7.7 Ventura / arm64 | OK | ERROR | skipped | skipped | |||||||||
| taishan | Linux (openEuler 24.03 LTS) / aarch64 | OK | OK | OK | ||||||||||
|
To the developers/maintainers of the shiny.gosling package: - Allow up to 24 hours (and sometimes 48 hours) for your latest push to git@git.bioconductor.org:packages/shiny.gosling.git to reflect on this report. See Troubleshooting Build Report for more information. - Use the following Renviron settings to reproduce errors and warnings. - If 'R CMD check' started to fail recently on the Linux builder(s) over a missing dependency, add the missing dependency to 'Suggests:' in your DESCRIPTION file. See Renviron.bioc for more information. - See Martin Grigorov's blog post for how to debug Linux ARM64 related issues on a x86_64 host. |
| Package: shiny.gosling |
| Version: 1.5.0 |
| Command: /home/biocbuild/R/R/bin/R CMD check --install=check:shiny.gosling.install-out.txt --library=/home/biocbuild/R/R/site-library --no-vignettes --timings shiny.gosling_1.5.0.tar.gz |
| StartedAt: 2025-09-30 13:10:50 -0000 (Tue, 30 Sep 2025) |
| EndedAt: 2025-09-30 13:11:38 -0000 (Tue, 30 Sep 2025) |
| EllapsedTime: 48.2 seconds |
| RetCode: 0 |
| Status: OK |
| CheckDir: shiny.gosling.Rcheck |
| Warnings: 0 |
##############################################################################
##############################################################################
###
### Running command:
###
### /home/biocbuild/R/R/bin/R CMD check --install=check:shiny.gosling.install-out.txt --library=/home/biocbuild/R/R/site-library --no-vignettes --timings shiny.gosling_1.5.0.tar.gz
###
##############################################################################
##############################################################################
* using log directory ‘/home/biocbuild/bbs-3.22-bioc/meat/shiny.gosling.Rcheck’
* using R version 4.5.0 (2025-04-11)
* using platform: aarch64-unknown-linux-gnu
* R was compiled by
aarch64-unknown-linux-gnu-gcc (GCC) 14.2.0
GNU Fortran (GCC) 14.2.0
* running under: openEuler 24.03 (LTS)
* using session charset: UTF-8
* using option ‘--no-vignettes’
* checking for file ‘shiny.gosling/DESCRIPTION’ ... OK
* this is package ‘shiny.gosling’ version ‘1.5.0’
* package encoding: UTF-8
* checking package namespace information ... OK
* checking package dependencies ... OK
* checking if this is a source package ... OK
* checking if there is a namespace ... OK
* checking for hidden files and directories ... OK
* checking for portable file names ... OK
* checking for sufficient/correct file permissions ... OK
* checking whether package ‘shiny.gosling’ can be installed ... OK
* checking installed package size ... OK
* checking package directory ... OK
* checking ‘build’ directory ... OK
* checking DESCRIPTION meta-information ... OK
* checking top-level files ... OK
* checking for left-over files ... OK
* checking index information ... OK
* checking package subdirectories ... OK
* checking code files for non-ASCII characters ... OK
* checking R files for syntax errors ... OK
* checking whether the package can be loaded ... OK
* checking whether the package can be loaded with stated dependencies ... OK
* checking whether the package can be unloaded cleanly ... OK
* checking whether the namespace can be loaded with stated dependencies ... OK
* checking whether the namespace can be unloaded cleanly ... OK
* checking loading without being on the library search path ... OK
* checking dependencies in R code ... OK
* checking S3 generic/method consistency ... OK
* checking replacement functions ... OK
* checking foreign function calls ... OK
* checking R code for possible problems ... OK
* checking Rd files ... NOTE
checkRd: (-1) track_data.Rd:42: Lost braces; missing escapes or markup?
42 | {"chromosomeField":"string","genomicFields":"string[]"} ( )}
| ^
checkRd: (-1) track_data_transform.Rd:21: Lost braces; missing escapes or markup?
21 | \item{not}{A Boolean. When {"not": true}, apply a NOT logical operation to
| ^
* checking Rd metadata ... OK
* checking Rd cross-references ... OK
* checking for missing documentation entries ... OK
* checking for code/documentation mismatches ... OK
* checking Rd \usage sections ... OK
* checking Rd contents ... OK
* checking for unstated dependencies in examples ... OK
* checking files in ‘vignettes’ ... OK
* checking examples ... OK
* checking for unstated dependencies in ‘tests’ ... OK
* checking tests ...
Running ‘testthat.R’
OK
* checking for unstated dependencies in vignettes ... OK
* checking package vignettes ... OK
* checking running R code from vignettes ... SKIPPED
* checking re-building of vignette outputs ... SKIPPED
* checking PDF version of manual ... OK
* DONE
Status: 1 NOTE
See
‘/home/biocbuild/bbs-3.22-bioc/meat/shiny.gosling.Rcheck/00check.log’
for details.
shiny.gosling.Rcheck/00install.out
############################################################################## ############################################################################## ### ### Running command: ### ### /home/biocbuild/R/R/bin/R CMD INSTALL shiny.gosling ### ############################################################################## ############################################################################## * installing to library ‘/home/biocbuild/R/R-4.5.0/site-library’ * installing *source* package ‘shiny.gosling’ ... ** this is package ‘shiny.gosling’ version ‘1.5.0’ ** using staged installation ** R ** inst ** byte-compile and prepare package for lazy loading ** help *** installing help indices *** copying figures ** building package indices ** installing vignettes ** testing if installed package can be loaded from temporary location ** testing if installed package can be loaded from final location ** testing if installed package keeps a record of temporary installation path * DONE (shiny.gosling)
shiny.gosling.Rcheck/tests/testthat.Rout
R version 4.5.0 (2025-04-11) -- "How About a Twenty-Six"
Copyright (C) 2025 The R Foundation for Statistical Computing
Platform: aarch64-unknown-linux-gnu
R is free software and comes with ABSOLUTELY NO WARRANTY.
You are welcome to redistribute it under certain conditions.
Type 'license()' or 'licence()' for distribution details.
R is a collaborative project with many contributors.
Type 'contributors()' for more information and
'citation()' on how to cite R or R packages in publications.
Type 'demo()' for some demos, 'help()' for on-line help, or
'help.start()' for an HTML browser interface to help.
Type 'q()' to quit R.
> # This file is part of the standard setup for testthat.
> # It is recommended that you do not modify it.
> #
> # Where should you do additional test configuration?
> # Learn more about the roles of various files in:
> # * https://r-pkgs.org/tests.html
> # * https://testthat.r-lib.org/reference/test_package.html#special-files
>
> library(testthat)
> library(shiny.gosling)
>
> test_check("shiny.gosling")
[ FAIL 0 | WARN 0 | SKIP 0 | PASS 7 ]
>
> proc.time()
user system elapsed
0.973 0.099 1.475
shiny.gosling.Rcheck/shiny.gosling-Ex.timings
| name | user | system | elapsed | |
| add_multi_tracks | 0.006 | 0.000 | 0.015 | |
| add_single_track | 0.007 | 0.000 | 0.015 | |
| arrange_views | 0.010 | 0.000 | 0.022 | |
| compose_view | 0.010 | 0.000 | 0.022 | |
| default_track_styles | 0.006 | 0.000 | 0.010 | |
| export_pdf | 0.006 | 0.000 | 0.006 | |
| export_png | 0.006 | 0.000 | 0.006 | |
| gosling | 0.009 | 0.000 | 0.009 | |
| goslingOutput | 0.007 | 0.000 | 0.007 | |
| json_list | 0.006 | 0.000 | 0.007 | |
| renderGosling | 0.006 | 0.000 | 0.007 | |
| run_example | 0 | 0 | 0 | |
| track_data | 0.01 | 0.00 | 0.01 | |
| track_data_csv | 0.004 | 0.000 | 0.003 | |
| track_data_gr | 0.003 | 0.000 | 0.003 | |
| track_data_transform | 0.011 | 0.000 | 0.010 | |
| use_gosling | 0.006 | 0.000 | 0.007 | |
| visual_channel_color | 0.010 | 0.000 | 0.011 | |
| visual_channel_row | 0.007 | 0.000 | 0.007 | |
| visual_channel_stroke | 0.007 | 0.000 | 0.006 | |
| visual_channel_text | 0.01 | 0.00 | 0.01 | |
| visual_channel_tooltip | 0.006 | 0.000 | 0.007 | |
| visual_channel_tooltips | 0.006 | 0.000 | 0.007 | |
| visual_channel_x | 0.006 | 0.000 | 0.007 | |
| visual_channel_y | 0.007 | 0.000 | 0.007 | |
| zoom_to | 0.009 | 0.000 | 0.008 | |
| zoom_to_extent | 0.007 | 0.000 | 0.006 | |