| Back to Multiple platform build/check report for BioC 3.23: simplified long |
|
This page was generated on 2025-11-22 11:37 -0500 (Sat, 22 Nov 2025).
| Hostname | OS | Arch (*) | R version | Installed pkgs |
|---|---|---|---|---|
| nebbiolo1 | Linux (Ubuntu 24.04.3 LTS) | x86_64 | R Under development (unstable) (2025-10-20 r88955) -- "Unsuffered Consequences" | 4829 |
| lconway | macOS 12.7.6 Monterey | x86_64 | R Under development (unstable) (2025-10-21 r88958) -- "Unsuffered Consequences" | 4603 |
| kjohnson3 | macOS 13.7.7 Ventura | arm64 | R Under development (unstable) (2025-11-04 r88984) -- "Unsuffered Consequences" | 4567 |
| Click on any hostname to see more info about the system (e.g. compilers) (*) as reported by 'uname -p', except on Windows and Mac OS X | ||||
| Package 1962/2327 | Hostname | OS / Arch | INSTALL | BUILD | CHECK | BUILD BIN | ||||||||
| sesame 1.29.0 (landing page) Wanding Zhou
| nebbiolo1 | Linux (Ubuntu 24.04.3 LTS) / x86_64 | OK | OK | OK | |||||||||
| lconway | macOS 12.7.6 Monterey / x86_64 | OK | OK | OK | OK | |||||||||
| kjohnson3 | macOS 13.7.7 Ventura / arm64 | OK | OK | OK | OK | |||||||||
|
To the developers/maintainers of the sesame package: - Allow up to 24 hours (and sometimes 48 hours) for your latest push to git@git.bioconductor.org:packages/sesame.git to reflect on this report. See Troubleshooting Build Report for more information. - Use the following Renviron settings to reproduce errors and warnings. - If 'R CMD check' started to fail recently on the Linux builder(s) over a missing dependency, add the missing dependency to 'Suggests:' in your DESCRIPTION file. See Renviron.bioc for more information. |
| Package: sesame |
| Version: 1.29.0 |
| Command: /home/biocbuild/bbs-3.23-bioc/R/bin/R CMD check --install=check:sesame.install-out.txt --library=/home/biocbuild/bbs-3.23-bioc/R/site-library --timings sesame_1.29.0.tar.gz |
| StartedAt: 2025-11-22 03:55:48 -0500 (Sat, 22 Nov 2025) |
| EndedAt: 2025-11-22 04:12:38 -0500 (Sat, 22 Nov 2025) |
| EllapsedTime: 1010.3 seconds |
| RetCode: 0 |
| Status: OK |
| CheckDir: sesame.Rcheck |
| Warnings: 0 |
##############################################################################
##############################################################################
###
### Running command:
###
### /home/biocbuild/bbs-3.23-bioc/R/bin/R CMD check --install=check:sesame.install-out.txt --library=/home/biocbuild/bbs-3.23-bioc/R/site-library --timings sesame_1.29.0.tar.gz
###
##############################################################################
##############################################################################
* using log directory ‘/home/biocbuild/bbs-3.23-bioc/meat/sesame.Rcheck’
* using R Under development (unstable) (2025-10-20 r88955)
* using platform: x86_64-pc-linux-gnu
* R was compiled by
gcc (Ubuntu 13.3.0-6ubuntu2~24.04) 13.3.0
GNU Fortran (Ubuntu 13.3.0-6ubuntu2~24.04) 13.3.0
* running under: Ubuntu 24.04.3 LTS
* using session charset: UTF-8
* checking for file ‘sesame/DESCRIPTION’ ... OK
* checking extension type ... Package
* this is package ‘sesame’ version ‘1.29.0’
* package encoding: UTF-8
* checking package namespace information ... OK
* checking package dependencies ... OK
* checking if this is a source package ... OK
* checking if there is a namespace ... OK
* checking for hidden files and directories ... OK
* checking for portable file names ... OK
* checking for sufficient/correct file permissions ... OK
* checking whether package ‘sesame’ can be installed ... OK
* checking installed package size ... OK
* checking package directory ... OK
* checking ‘build’ directory ... OK
* checking DESCRIPTION meta-information ... OK
* checking top-level files ... OK
* checking for left-over files ... OK
* checking index information ... OK
* checking package subdirectories ... OK
* checking code files for non-ASCII characters ... OK
* checking R files for syntax errors ... OK
* checking whether the package can be loaded ... OK
* checking whether the package can be loaded with stated dependencies ... OK
* checking whether the package can be unloaded cleanly ... OK
* checking whether the namespace can be loaded with stated dependencies ... OK
* checking whether the namespace can be unloaded cleanly ... OK
* checking loading without being on the library search path ... OK
* checking whether startup messages can be suppressed ... OK
* checking dependencies in R code ... OK
* checking S3 generic/method consistency ... OK
* checking replacement functions ... OK
* checking foreign function calls ... OK
* checking R code for possible problems ... OK
* checking Rd files ... OK
* checking Rd metadata ... OK
* checking Rd cross-references ... OK
* checking for missing documentation entries ... OK
* checking for code/documentation mismatches ... OK
* checking Rd \usage sections ... OK
* checking Rd contents ... OK
* checking for unstated dependencies in examples ... OK
* checking files in ‘vignettes’ ... OK
* checking examples ... OK
Examples with CPU (user + system) or elapsed time > 5s
user system elapsed
imputeBetasByGenomicNeighbors 32.099 1.046 33.148
inferSex 19.320 0.224 19.545
sesameQC_calcStats 18.284 0.223 18.508
imputeBetas 17.173 0.718 17.899
inferSpecies 15.491 0.810 16.303
sesameQC_plotHeatSNPs 15.877 0.215 16.094
ELBAR 13.933 0.370 14.319
diffRefSet 12.825 0.500 13.330
compareReference 11.450 0.676 12.126
sesameQC_plotBar 11.621 0.371 11.995
compareMouseStrainReference 11.038 0.440 11.480
getRefSet 11.045 0.337 11.384
matchDesign 10.927 0.245 11.177
sesameQC_plotBetaByDesign 9.089 0.147 9.237
visualizeGene 8.710 0.328 9.039
inferStrain 8.325 0.598 8.924
DMR 8.100 0.467 8.570
DML 6.623 0.811 7.436
sdf_read_table 7.219 0.208 7.428
getMask 6.867 0.384 10.053
dyeBiasNL 6.876 0.219 7.095
estimateLeukocyte 6.397 0.216 6.615
dyeBiasCorrMostBalanced 6.234 0.236 6.472
inferTissue 6.087 0.322 6.410
deIdentify 5.402 0.224 5.631
createUCSCtrack 4.979 0.287 5.268
probeSuccessRate 4.988 0.239 5.226
openSesame 4.871 0.188 5.063
* checking for unstated dependencies in ‘tests’ ... OK
* checking tests ...
Running ‘testthat.R’
OK
* checking for unstated dependencies in vignettes ... OK
* checking package vignettes ... OK
* checking re-building of vignette outputs ... OK
* checking PDF version of manual ... OK
* DONE
Status: OK
sesame.Rcheck/00install.out
############################################################################## ############################################################################## ### ### Running command: ### ### /home/biocbuild/bbs-3.23-bioc/R/bin/R CMD INSTALL sesame ### ############################################################################## ############################################################################## * installing to library ‘/home/biocbuild/bbs-3.23-bioc/R/site-library’ * installing *source* package ‘sesame’ ... ** this is package ‘sesame’ version ‘1.29.0’ ** using staged installation ** R ** inst ** byte-compile and prepare package for lazy loading ** help *** installing help indices ** building package indices ** installing vignettes ** testing if installed package can be loaded from temporary location ** testing if installed package can be loaded from final location ** testing if installed package keeps a record of temporary installation path * DONE (sesame)
sesame.Rcheck/tests/testthat.Rout
R Under development (unstable) (2025-10-20 r88955) -- "Unsuffered Consequences"
Copyright (C) 2025 The R Foundation for Statistical Computing
Platform: x86_64-pc-linux-gnu
R is free software and comes with ABSOLUTELY NO WARRANTY.
You are welcome to redistribute it under certain conditions.
Type 'license()' or 'licence()' for distribution details.
R is a collaborative project with many contributors.
Type 'contributors()' for more information and
'citation()' on how to cite R or R packages in publications.
Type 'demo()' for some demos, 'help()' for on-line help, or
'help.start()' for an HTML browser interface to help.
Type 'q()' to quit R.
> library(testthat)
> library(sesame)
Loading required package: sesameData
Loading required package: ExperimentHub
Loading required package: BiocGenerics
Loading required package: generics
Attaching package: 'generics'
The following objects are masked from 'package:base':
as.difftime, as.factor, as.ordered, intersect, is.element, setdiff,
setequal, union
Attaching package: 'BiocGenerics'
The following objects are masked from 'package:stats':
IQR, mad, sd, var, xtabs
The following objects are masked from 'package:base':
Filter, Find, Map, Position, Reduce, anyDuplicated, aperm, append,
as.data.frame, basename, cbind, colnames, dirname, do.call,
duplicated, eval, evalq, get, grep, grepl, is.unsorted, lapply,
mapply, match, mget, order, paste, pmax, pmax.int, pmin, pmin.int,
rank, rbind, rownames, sapply, saveRDS, table, tapply, unique,
unsplit, which.max, which.min
Loading required package: AnnotationHub
Loading required package: BiocFileCache
Loading required package: dbplyr
Loading sesameData.
----------------------------------------------------------
| SEnsible Step-wise Analysis of DNA MEthylation (SeSAMe)
| --------------------------------------------------------
| Please cache auxiliary data by "sesameDataCache()".
| This needs to be done only once per SeSAMe installation.
----------------------------------------------------------
>
> test_check("sesame")
[ FAIL 0 | WARN 0 | SKIP 0 | PASS 5 ]
>
> proc.time()
user system elapsed
19.352 1.141 20.491
sesame.Rcheck/sesame-Ex.timings
| name | user | system | elapsed | |
| BetaValueToMValue | 0.000 | 0.001 | 0.001 | |
| DML | 6.623 | 0.811 | 7.436 | |
| DMLpredict | 1.259 | 0.089 | 1.347 | |
| DMR | 8.100 | 0.467 | 8.570 | |
| ELBAR | 13.933 | 0.370 | 14.319 | |
| MValueToBetaValue | 0 | 0 | 0 | |
| SigDF | 0.292 | 0.047 | 0.339 | |
| addMask | 0.075 | 0.000 | 0.075 | |
| betasCollapseToPfx | 0.011 | 0.001 | 0.012 | |
| bisConversionControl | 4.621 | 0.267 | 4.889 | |
| calcEffectSize | 1.363 | 0.163 | 1.527 | |
| checkLevels | 3.133 | 0.392 | 3.526 | |
| cnSegmentation | 0.289 | 0.043 | 0.332 | |
| compareMouseStrainReference | 11.038 | 0.440 | 11.480 | |
| compareMouseTissueReference | 0 | 0 | 0 | |
| compareReference | 11.450 | 0.676 | 12.126 | |
| controls | 2.126 | 0.140 | 2.266 | |
| createUCSCtrack | 4.979 | 0.287 | 5.268 | |
| deIdentify | 5.402 | 0.224 | 5.631 | |
| detectionPnegEcdf | 0.876 | 0.032 | 0.909 | |
| diffRefSet | 12.825 | 0.500 | 13.330 | |
| dmContrasts | 1.877 | 0.059 | 1.935 | |
| dyeBiasCorr | 2.617 | 0.133 | 2.751 | |
| dyeBiasCorrMostBalanced | 6.234 | 0.236 | 6.472 | |
| dyeBiasL | 2.265 | 0.176 | 2.441 | |
| dyeBiasNL | 6.876 | 0.219 | 7.095 | |
| estimateLeukocyte | 6.397 | 0.216 | 6.615 | |
| formatVCF | 2.004 | 0.126 | 2.131 | |
| getAFTypeIbySumAlleles | 1.669 | 0.131 | 1.802 | |
| getAFs | 0.975 | 0.052 | 1.027 | |
| getBetas | 0.766 | 0.064 | 0.830 | |
| getMask | 6.867 | 0.384 | 10.053 | |
| getRefSet | 11.045 | 0.337 | 11.384 | |
| imputeBetas | 17.173 | 0.718 | 17.899 | |
| imputeBetasByGenomicNeighbors | 32.099 | 1.046 | 33.148 | |
| imputeBetasMatrixByMean | 0.001 | 0.000 | 0.001 | |
| inferEthnicity | 0.001 | 0.000 | 0.001 | |
| inferInfiniumIChannel | 0.258 | 0.547 | 0.805 | |
| inferSex | 19.320 | 0.224 | 19.545 | |
| inferSpecies | 15.491 | 0.810 | 16.303 | |
| inferStrain | 8.325 | 0.598 | 8.924 | |
| inferTissue | 6.087 | 0.322 | 6.410 | |
| initFileSet | 1.198 | 0.093 | 1.290 | |
| listAvailableMasks | 1.253 | 0.088 | 1.340 | |
| mLiftOver | 0.000 | 0.001 | 0.001 | |
| mapFileSet | 0.032 | 0.002 | 0.033 | |
| mapToMammal40 | 2.691 | 0.187 | 2.880 | |
| matchDesign | 10.927 | 0.245 | 11.177 | |
| meanIntensity | 2.494 | 0.149 | 2.644 | |
| medianTotalIntensity | 0.797 | 0.067 | 0.865 | |
| noMasked | 3.251 | 0.164 | 3.416 | |
| noob | 1.715 | 0.038 | 1.753 | |
| openSesame | 4.871 | 0.188 | 5.063 | |
| openSesameToFile | 1.278 | 0.016 | 1.293 | |
| pOOBAH | 1.211 | 0.025 | 1.236 | |
| palgen | 0.034 | 0.001 | 0.035 | |
| parseGEOsignalMU | 2.933 | 0.104 | 3.038 | |
| predictAge | 2.192 | 0.093 | 2.286 | |
| predictAgeHorvath353 | 0 | 0 | 0 | |
| predictAgeSkinBlood | 0 | 0 | 0 | |
| predictMouseAgeInMonth | 0.000 | 0.001 | 0.000 | |
| prefixMask | 0.529 | 0.001 | 0.529 | |
| prefixMaskButC | 0.158 | 0.001 | 0.158 | |
| prefixMaskButCG | 0.067 | 0.000 | 0.067 | |
| prepSesame | 3.518 | 0.108 | 3.626 | |
| prepSesameList | 0.001 | 0.001 | 0.002 | |
| print.DMLSummary | 2.828 | 0.162 | 2.990 | |
| print.fileSet | 1.154 | 0.077 | 1.231 | |
| probeID_designType | 0.000 | 0.001 | 0.000 | |
| probeSuccessRate | 4.988 | 0.239 | 5.226 | |
| qualityMask | 2.030 | 0.131 | 2.162 | |
| reIdentify | 4.083 | 0.105 | 4.189 | |
| readFileSet | 0.049 | 0.002 | 0.052 | |
| readIDATpair | 0.101 | 0.004 | 0.105 | |
| recommendedMaskNames | 0.001 | 0.000 | 0.000 | |
| resetMask | 0.399 | 0.058 | 0.457 | |
| scrub | 2.082 | 0.083 | 2.164 | |
| scrubSoft | 2.918 | 0.077 | 2.996 | |
| sdfPlatform | 0.291 | 0.042 | 0.332 | |
| sdf_read_table | 7.219 | 0.208 | 7.428 | |
| sdf_write_table | 1.605 | 0.078 | 1.759 | |
| searchIDATprefixes | 0.005 | 0.002 | 0.007 | |
| sesame-package | 2.300 | 0.088 | 2.389 | |
| sesameAnno_attachManifest | 0.000 | 0.001 | 0.000 | |
| sesameAnno_buildAddressFile | 0.000 | 0.000 | 0.001 | |
| sesameAnno_buildManifestGRanges | 0 | 0 | 0 | |
| sesameAnno_download | 0.000 | 0.001 | 0.000 | |
| sesameAnno_readManifestTSV | 0 | 0 | 0 | |
| sesameQC_calcStats | 18.284 | 0.223 | 18.508 | |
| sesameQC_getStats | 1.537 | 0.038 | 1.576 | |
| sesameQC_plotBar | 11.621 | 0.371 | 11.995 | |
| sesameQC_plotBetaByDesign | 9.089 | 0.147 | 9.237 | |
| sesameQC_plotHeatSNPs | 15.877 | 0.215 | 16.094 | |
| sesameQC_plotIntensVsBetas | 1.833 | 0.043 | 1.877 | |
| sesameQC_plotRedGrnQQ | 1.643 | 0.073 | 1.718 | |
| sesameQC_rankStats | 3.313 | 0.125 | 3.440 | |
| sesameQCtoDF | 1.786 | 0.006 | 1.792 | |
| sesame_checkVersion | 0.004 | 0.001 | 0.004 | |
| sesamize | 0.000 | 0.000 | 0.001 | |
| setMask | 0.097 | 0.000 | 0.097 | |
| signalMU | 0.894 | 0.042 | 0.935 | |
| sliceFileSet | 0.033 | 0.008 | 0.040 | |
| summaryExtractTest | 3.039 | 0.264 | 3.304 | |
| totalIntensities | 2.435 | 0.167 | 2.602 | |
| updateSigDF | 3.206 | 0.261 | 3.468 | |
| visualizeGene | 8.710 | 0.328 | 9.039 | |
| visualizeProbes | 1.798 | 0.032 | 1.830 | |
| visualizeRegion | 0.312 | 0.001 | 0.313 | |
| visualizeSegments | 1.499 | 0.041 | 1.540 | |