Back to Multiple platform build/check report for BioC 3.21:   simplified   long
ABCDEFGHIJKLMNOPQR[S]TUVWXYZ

This page was generated on 2025-02-03 12:37 -0500 (Mon, 03 Feb 2025).

HostnameOSArch (*)R versionInstalled pkgs
nebbiolo1Linux (Ubuntu 24.04.1 LTS)x86_64R Under development (unstable) (2025-01-20 r87609) -- "Unsuffered Consequences" 4704
palomino7Windows Server 2022 Datacenterx64R Under development (unstable) (2025-01-21 r87610 ucrt) -- "Unsuffered Consequences" 4467
lconwaymacOS 12.7.1 Montereyx86_64R Under development (unstable) (2025-01-22 r87618) -- "Unsuffered Consequences" 4478
Click on any hostname to see more info about the system (e.g. compilers)      (*) as reported by 'uname -p', except on Windows and Mac OS X

Package 1906/2289HostnameOS / ArchINSTALLBUILDCHECKBUILD BIN
scuttle 1.17.0  (landing page)
Aaron Lun
Snapshot Date: 2025-02-02 13:40 -0500 (Sun, 02 Feb 2025)
git_url: https://git.bioconductor.org/packages/scuttle
git_branch: devel
git_last_commit: 5930665
git_last_commit_date: 2024-10-29 10:47:24 -0500 (Tue, 29 Oct 2024)
nebbiolo1Linux (Ubuntu 24.04.1 LTS) / x86_64  OK    OK    OK  UNNEEDED, same version is already published
palomino7Windows Server 2022 Datacenter / x64  OK    OK    OK    OK  UNNEEDED, same version is already published
lconwaymacOS 12.7.1 Monterey / x86_64  OK    OK    OK    OK  UNNEEDED, same version is already published


CHECK results for scuttle on nebbiolo1

To the developers/maintainers of the scuttle package:
- Allow up to 24 hours (and sometimes 48 hours) for your latest push to git@git.bioconductor.org:packages/scuttle.git to reflect on this report. See Troubleshooting Build Report for more information.
- Use the following Renviron settings to reproduce errors and warnings.
- If 'R CMD check' started to fail recently on the Linux builder(s) over a missing dependency, add the missing dependency to 'Suggests:' in your DESCRIPTION file. See Renviron.bioc for more information.

raw results


Summary

Package: scuttle
Version: 1.17.0
Command: /home/biocbuild/bbs-3.21-bioc/R/bin/R CMD check --install=check:scuttle.install-out.txt --library=/home/biocbuild/bbs-3.21-bioc/R/site-library --timings scuttle_1.17.0.tar.gz
StartedAt: 2025-02-03 02:21:34 -0500 (Mon, 03 Feb 2025)
EndedAt: 2025-02-03 02:29:21 -0500 (Mon, 03 Feb 2025)
EllapsedTime: 466.6 seconds
RetCode: 0
Status:   OK  
CheckDir: scuttle.Rcheck
Warnings: 0

Command output

##############################################################################
##############################################################################
###
### Running command:
###
###   /home/biocbuild/bbs-3.21-bioc/R/bin/R CMD check --install=check:scuttle.install-out.txt --library=/home/biocbuild/bbs-3.21-bioc/R/site-library --timings scuttle_1.17.0.tar.gz
###
##############################################################################
##############################################################################


* using log directory ‘/home/biocbuild/bbs-3.21-bioc/meat/scuttle.Rcheck’
* using R Under development (unstable) (2025-01-20 r87609)
* using platform: x86_64-pc-linux-gnu
* R was compiled by
    gcc (Ubuntu 13.3.0-6ubuntu2~24.04) 13.3.0
    GNU Fortran (Ubuntu 13.3.0-6ubuntu2~24.04) 13.3.0
* running under: Ubuntu 24.04.1 LTS
* using session charset: UTF-8
* checking for file ‘scuttle/DESCRIPTION’ ... OK
* checking extension type ... Package
* this is package ‘scuttle’ version ‘1.17.0’
* package encoding: UTF-8
* checking package namespace information ... OK
* checking package dependencies ... OK
* checking if this is a source package ... OK
* checking if there is a namespace ... OK
* checking for hidden files and directories ... OK
* checking for portable file names ... OK
* checking for sufficient/correct file permissions ... OK
* checking whether package ‘scuttle’ can be installed ... OK
* used C++ compiler: ‘g++ (Ubuntu 13.3.0-6ubuntu2~24.04) 13.3.0’
* checking C++ specification ... NOTE
  Specified C++11: please drop specification unless essential
* checking installed package size ... OK
* checking package directory ... OK
* checking ‘build’ directory ... OK
* checking DESCRIPTION meta-information ... OK
* checking top-level files ... OK
* checking for left-over files ... OK
* checking index information ... OK
* checking package subdirectories ... OK
* checking code files for non-ASCII characters ... OK
* checking R files for syntax errors ... OK
* checking whether the package can be loaded ... OK
* checking whether the package can be loaded with stated dependencies ... OK
* checking whether the package can be unloaded cleanly ... OK
* checking whether the namespace can be loaded with stated dependencies ... OK
* checking whether the namespace can be unloaded cleanly ... OK
* checking loading without being on the library search path ... OK
* checking dependencies in R code ... OK
* checking S3 generic/method consistency ... OK
* checking replacement functions ... OK
* checking foreign function calls ... OK
* checking R code for possible problems ... OK
* checking Rd files ... OK
* checking Rd metadata ... OK
* checking Rd cross-references ... NOTE
Found the following Rd file(s) with Rd \link{} targets missing package
anchors:
  addPerCellQCMetrics.Rd: SummarizedExperiment-class, rowData, colData
  aggregateAcrossCells.Rd: colData, SingleCellExperiment-class,
    SummarizedExperiment-class, reducedDims, altExps, DataFrame-class,
    applySCE
  aggregateAcrossFeatures.Rd: SummarizedExperiment-class
  calculateAverage.Rd: SummarizedExperiment-class,
    SingleCellExperiment-class, BiocParallelParam-class,
    DelayedMatrix-class, sizeFactors
  calculateCPM.Rd: SummarizedExperiment-class,
    SingleCellExperiment-class
  calculateFPKM.Rd: SummarizedExperiment-class,
    SingleCellExperiment-class
  calculateTPM.Rd: SummarizedExperiment-class,
    SingleCellExperiment-class
  computePooledFactors.Rd: SummarizedExperiment-class,
    SingleCellExperiment-class, sizeFactors
  computeSpikeFactors.Rd: SingleCellExperiment-class, altExps, altExp,
    sizeFactors
  downsampleBatches.Rd: SummarizedExperiment-class, List-class
  downsampleMatrix.Rd: RealizationSink-class, dgCMatrix-class,
    DelayedMatrix-class
  fitLinearModel.Rd: BiocParallelParam-class
  geometricSizeFactors.Rd: SummarizedExperiment-class,
    SingleCellExperiment-class, BiocParallelParam-class,
    DelayedArray-class, sizeFactors
  librarySizeFactors.Rd: SummarizedExperiment-class,
    SingleCellExperiment-class, BiocParallelParam-class,
    DelayedArray-class, sizeFactors
  logNormCounts.Rd: SingleCellExperiment-class,
    SummarizedExperiment-class, BiocParallelParam-class, applySCE,
    sizeFactors
  makePerCellDF.Rd: SingleCellExperiment-class, altExp, rowData
  makePerFeatureDF.Rd: SingleCellExperiment-class
  medianSizeFactors.Rd: SummarizedExperiment-class,
    SingleCellExperiment-class, sizeFactors
  mockSCE.Rd: SingleCellExperiment-class, colData, altExps,
    SingleCellExperiment
  normalizeCounts.Rd: SingleCellExperiment-class,
    SummarizedExperiment-class, DelayedMatrix-class,
    BiocParallelParam-class, sizeFactors
  numDetectedAcrossCells.Rd: SummarizedExperiment-class,
    DataFrame-class, SingleCellExperiment-class, colData,
    BiocParallelParam-class
  numDetectedAcrossFeatures.Rd: SummarizedExperiment-class,
    BiocParallelParam-class
  perCellQCFilters.Rd: DataFrame-class
  perCellQCMetrics.Rd: SingleCellExperiment-class,
    SummarizedExperiment-class, BiocParallelParam-class,
    DataFrame-class
  perFeatureQCMetrics.Rd: SummarizedExperiment-class,
    SingleCellExperiment-class, BiocParallelParam-class,
    DataFrame-class
  quickPerCellQC.Rd: DataFrame-class, SummarizedExperiment-class,
    colData
  readSparseCounts.Rd: readMM
  sumCountsAcrossCells.Rd: SummarizedExperiment-class, DataFrame-class,
    SingleCellExperiment-class, colData, BiocParallelParam-class,
    colsum
  sumCountsAcrossFeatures.Rd: SummarizedExperiment-class,
    BiocParallelParam-class
  summarizeAssayByGroup.Rd: SummarizedExperiment-class,
    DataFrame-class, colData, BiocParallelParam-class
  uniquifyDataFrameByGroup.Rd: DataFrame-class, colData, DFrame-class
Please provide package anchors for all Rd \link{} targets not in the
package itself and the base packages.
* checking for missing documentation entries ... OK
* checking for code/documentation mismatches ... OK
* checking Rd \usage sections ... OK
* checking Rd contents ... OK
* checking for unstated dependencies in examples ... OK
* checking line endings in C/C++/Fortran sources/headers ... OK
* checking line endings in Makefiles ... OK
* checking compilation flags in Makevars ... OK
* checking for GNU extensions in Makefiles ... OK
* checking for portable use of $(BLAS_LIBS) and $(LAPACK_LIBS) ... OK
* checking use of PKG_*FLAGS in Makefiles ... OK
* checking compiled code ... NOTE
Note: information on .o files is not available
* checking files in ‘vignettes’ ... OK
* checking examples ... OK
Examples with CPU (user + system) or elapsed time > 5s
                      user system elapsed
computePooledFactors 5.452  0.212   5.664
* checking for unstated dependencies in ‘tests’ ... OK
* checking tests ...
  Running ‘testthat.R’
 OK
* checking for unstated dependencies in vignettes ... OK
* checking package vignettes ... OK
* checking re-building of vignette outputs ... OK
* checking PDF version of manual ... OK
* DONE

Status: 3 NOTEs
See
  ‘/home/biocbuild/bbs-3.21-bioc/meat/scuttle.Rcheck/00check.log’
for details.


Installation output

scuttle.Rcheck/00install.out

##############################################################################
##############################################################################
###
### Running command:
###
###   /home/biocbuild/bbs-3.21-bioc/R/bin/R CMD INSTALL scuttle
###
##############################################################################
##############################################################################


* installing to library ‘/home/biocbuild/bbs-3.21-bioc/R/site-library’
* installing *source* package ‘scuttle’ ...
** this is package ‘scuttle’ version ‘1.17.0’
** using staged installation
** libs
using C++ compiler: ‘g++ (Ubuntu 13.3.0-6ubuntu2~24.04) 13.3.0’
using C++11
g++ -std=gnu++11 -I"/home/biocbuild/bbs-3.21-bioc/R/include" -DNDEBUG -I../inst/include/ -I'/home/biocbuild/bbs-3.21-bioc/R/site-library/Rcpp/include' -I'/home/biocbuild/bbs-3.21-bioc/R/site-library/beachmat/include' -I/usr/local/include    -fpic  -g -O2  -DR_NO_REMAP -c RcppExports.cpp -o RcppExports.o
g++ -std=gnu++11 -I"/home/biocbuild/bbs-3.21-bioc/R/include" -DNDEBUG -I../inst/include/ -I'/home/biocbuild/bbs-3.21-bioc/R/site-library/Rcpp/include' -I'/home/biocbuild/bbs-3.21-bioc/R/site-library/beachmat/include' -I/usr/local/include    -fpic  -g -O2  -DR_NO_REMAP -c cumulative_prop.cpp -o cumulative_prop.o
g++ -std=gnu++11 -I"/home/biocbuild/bbs-3.21-bioc/R/include" -DNDEBUG -I../inst/include/ -I'/home/biocbuild/bbs-3.21-bioc/R/site-library/Rcpp/include' -I'/home/biocbuild/bbs-3.21-bioc/R/site-library/beachmat/include' -I/usr/local/include    -fpic  -g -O2  -DR_NO_REMAP -c downsample_counts.cpp -o downsample_counts.o
g++ -std=gnu++11 -I"/home/biocbuild/bbs-3.21-bioc/R/include" -DNDEBUG -I../inst/include/ -I'/home/biocbuild/bbs-3.21-bioc/R/site-library/Rcpp/include' -I'/home/biocbuild/bbs-3.21-bioc/R/site-library/beachmat/include' -I/usr/local/include    -fpic  -g -O2  -DR_NO_REMAP -c fit_linear_model.cpp -o fit_linear_model.o
g++ -std=gnu++11 -I"/home/biocbuild/bbs-3.21-bioc/R/include" -DNDEBUG -I../inst/include/ -I'/home/biocbuild/bbs-3.21-bioc/R/site-library/Rcpp/include' -I'/home/biocbuild/bbs-3.21-bioc/R/site-library/beachmat/include' -I/usr/local/include    -fpic  -g -O2  -DR_NO_REMAP -c pool_size_factors.cpp -o pool_size_factors.o
g++ -std=gnu++11 -I"/home/biocbuild/bbs-3.21-bioc/R/include" -DNDEBUG -I../inst/include/ -I'/home/biocbuild/bbs-3.21-bioc/R/site-library/Rcpp/include' -I'/home/biocbuild/bbs-3.21-bioc/R/site-library/beachmat/include' -I/usr/local/include    -fpic  -g -O2  -DR_NO_REMAP -c sparse_summarize.cpp -o sparse_summarize.o
g++ -std=gnu++11 -I"/home/biocbuild/bbs-3.21-bioc/R/include" -DNDEBUG -I../inst/include/ -I'/home/biocbuild/bbs-3.21-bioc/R/site-library/Rcpp/include' -I'/home/biocbuild/bbs-3.21-bioc/R/site-library/beachmat/include' -I/usr/local/include    -fpic  -g -O2  -DR_NO_REMAP -c sum_counts.cpp -o sum_counts.o
g++ -std=gnu++11 -I"/home/biocbuild/bbs-3.21-bioc/R/include" -DNDEBUG -I../inst/include/ -I'/home/biocbuild/bbs-3.21-bioc/R/site-library/Rcpp/include' -I'/home/biocbuild/bbs-3.21-bioc/R/site-library/beachmat/include' -I/usr/local/include    -fpic  -g -O2  -DR_NO_REMAP -c utils.cpp -o utils.o
g++ -std=gnu++11 -shared -L/home/biocbuild/bbs-3.21-bioc/R/lib -L/usr/local/lib -o scuttle.so RcppExports.o cumulative_prop.o downsample_counts.o fit_linear_model.o pool_size_factors.o sparse_summarize.o sum_counts.o utils.o -llapack -L/home/biocbuild/bbs-3.21-bioc/R/lib -lRblas -lgfortran -lm -lquadmath -L/home/biocbuild/bbs-3.21-bioc/R/lib -lR
installing to /home/biocbuild/bbs-3.21-bioc/R/site-library/00LOCK-scuttle/00new/scuttle/libs
** R
** inst
** byte-compile and prepare package for lazy loading
** help
*** installing help indices
** building package indices
** installing vignettes
** testing if installed package can be loaded from temporary location
** checking absolute paths in shared objects and dynamic libraries
** testing if installed package can be loaded from final location
** testing if installed package keeps a record of temporary installation path
* DONE (scuttle)

Tests output

scuttle.Rcheck/tests/testthat.Rout


R Under development (unstable) (2025-01-20 r87609) -- "Unsuffered Consequences"
Copyright (C) 2025 The R Foundation for Statistical Computing
Platform: x86_64-pc-linux-gnu

R is free software and comes with ABSOLUTELY NO WARRANTY.
You are welcome to redistribute it under certain conditions.
Type 'license()' or 'licence()' for distribution details.

R is a collaborative project with many contributors.
Type 'contributors()' for more information and
'citation()' on how to cite R or R packages in publications.

Type 'demo()' for some demos, 'help()' for on-line help, or
'help.start()' for an HTML browser interface to help.
Type 'q()' to quit R.

> library(testthat)
> library(scuttle)
Loading required package: SingleCellExperiment
Loading required package: SummarizedExperiment
Loading required package: MatrixGenerics
Loading required package: matrixStats

Attaching package: 'MatrixGenerics'

The following objects are masked from 'package:matrixStats':

    colAlls, colAnyNAs, colAnys, colAvgsPerRowSet, colCollapse,
    colCounts, colCummaxs, colCummins, colCumprods, colCumsums,
    colDiffs, colIQRDiffs, colIQRs, colLogSumExps, colMadDiffs,
    colMads, colMaxs, colMeans2, colMedians, colMins, colOrderStats,
    colProds, colQuantiles, colRanges, colRanks, colSdDiffs, colSds,
    colSums2, colTabulates, colVarDiffs, colVars, colWeightedMads,
    colWeightedMeans, colWeightedMedians, colWeightedSds,
    colWeightedVars, rowAlls, rowAnyNAs, rowAnys, rowAvgsPerColSet,
    rowCollapse, rowCounts, rowCummaxs, rowCummins, rowCumprods,
    rowCumsums, rowDiffs, rowIQRDiffs, rowIQRs, rowLogSumExps,
    rowMadDiffs, rowMads, rowMaxs, rowMeans2, rowMedians, rowMins,
    rowOrderStats, rowProds, rowQuantiles, rowRanges, rowRanks,
    rowSdDiffs, rowSds, rowSums2, rowTabulates, rowVarDiffs, rowVars,
    rowWeightedMads, rowWeightedMeans, rowWeightedMedians,
    rowWeightedSds, rowWeightedVars

Loading required package: GenomicRanges
Loading required package: stats4
Loading required package: BiocGenerics
Loading required package: generics

Attaching package: 'generics'

The following objects are masked from 'package:base':

    as.difftime, as.factor, as.ordered, intersect, is.element, setdiff,
    setequal, union


Attaching package: 'BiocGenerics'

The following objects are masked from 'package:stats':

    IQR, mad, sd, var, xtabs

The following objects are masked from 'package:base':

    Filter, Find, Map, Position, Reduce, anyDuplicated, aperm, append,
    as.data.frame, basename, cbind, colnames, dirname, do.call,
    duplicated, eval, evalq, get, grep, grepl, is.unsorted, lapply,
    mapply, match, mget, order, paste, pmax, pmax.int, pmin, pmin.int,
    rank, rbind, rownames, sapply, saveRDS, table, tapply, unique,
    unsplit, which.max, which.min

Loading required package: S4Vectors

Attaching package: 'S4Vectors'

The following object is masked from 'package:utils':

    findMatches

The following objects are masked from 'package:base':

    I, expand.grid, unname

Loading required package: IRanges
Loading required package: GenomeInfoDb
Loading required package: Biobase
Welcome to Bioconductor

    Vignettes contain introductory material; view with
    'browseVignettes()'. To cite Bioconductor, see
    'citation("Biobase")', and for packages 'citation("pkgname")'.


Attaching package: 'Biobase'

The following object is masked from 'package:MatrixGenerics':

    rowMedians

The following objects are masked from 'package:matrixStats':

    anyMissing, rowMedians

> test_check("scuttle")
Loading required package: Matrix

Attaching package: 'Matrix'

The following object is masked from 'package:S4Vectors':

    expand

Loading required package: S4Arrays
Loading required package: abind

Attaching package: 'S4Arrays'

The following object is masked from 'package:abind':

    abind

The following object is masked from 'package:base':

    rowsum

Loading required package: SparseArray

Attaching package: 'DelayedArray'

The following objects are masked from 'package:base':

    apply, scale, sweep

[ FAIL 0 | WARN 13 | SKIP 0 | PASS 1707 ]

[ FAIL 0 | WARN 13 | SKIP 0 | PASS 1707 ]
> 
> proc.time()
   user  system elapsed 
104.479   6.517 132.480 

Example timings

scuttle.Rcheck/scuttle-Ex.timings

nameusersystemelapsed
addPerCellQCMetrics0.7840.0600.844
aggregateAcrossCells1.0720.0151.087
aggregateAcrossFeatures0.3260.0020.328
calculateAverage0.2570.0050.262
calculateCPM0.3110.0040.315
calculateFPKM0.8120.0010.813
calculateTPM0.2340.0050.239
cleanSizeFactors0.0190.0010.020
computePooledFactors5.4520.2125.664
computeSpikeFactors0.3660.0020.368
correctGroupSummary0.0570.0000.057
downsampleBatches3.5050.0023.507
downsampleMatrix2.7750.0662.844
fitLinearModel0.0620.0020.064
geometricSizeFactors1.0830.2461.329
isOutlier0.4580.0040.462
librarySizeFactors0.2350.0010.236
logNormCounts0.7560.0980.855
makePerCellDF0.4560.0700.526
makePerFeatureDF0.3440.0060.350
medianSizeFactors0.2450.0000.244
mockSCE0.2490.0030.252
normalizeCounts1.0810.0091.091
numDetectedAcrossCells0.2880.0020.291
numDetectedAcrossFeatures0.2550.0030.258
perCellQCFilters0.4890.0020.492
perCellQCMetrics0.9350.1791.115
perFeatureQCMetrics0.3210.0180.339
quickPerCellQC1.2730.1971.470
readSparseCounts0.0050.0010.006
sumCountsAcrossCells0.30.00.3
sumCountsAcrossFeatures0.2360.0040.240
summarizeAssayByGroup0.3240.0050.329
uniquifyDataFrameByGroup0.0260.0000.027
uniquifyFeatureNames0.0010.0000.001