Back to Multiple platform build/check report for BioC 3.22:   simplified   long
ABCDEFGHIJKLMNOPQR[S]TUVWXYZ

This page was generated on 2025-05-18 12:09 -0400 (Sun, 18 May 2025).

HostnameOSArch (*)R versionInstalled pkgs
nebbiolo2Linux (Ubuntu 24.04.1 LTS)x86_644.5.0 (2025-04-11) -- "How About a Twenty-Six" 4749
palomino8Windows Server 2022 Datacenterx644.5.0 (2025-04-11 ucrt) -- "How About a Twenty-Six" 4511
lconwaymacOS 12.7.1 Montereyx86_644.5.0 Patched (2025-04-21 r88169) -- "How About a Twenty-Six" 4548
kjohnson3macOS 13.7.1 Venturaarm644.5.0 Patched (2025-04-21 r88169) -- "How About a Twenty-Six" 4489
taishanLinux (openEuler 24.03 LTS)aarch644.5.0 (2025-04-11) -- "How About a Twenty-Six" 4453
Click on any hostname to see more info about the system (e.g. compilers)      (*) as reported by 'uname -p', except on Windows and Mac OS X

Package 1886/2304HostnameOS / ArchINSTALLBUILDCHECKBUILD BIN
scifer 1.11.0  (landing page)
Rodrigo Arcoverde Cerveira
Snapshot Date: 2025-05-16 13:25 -0400 (Fri, 16 May 2025)
git_url: https://git.bioconductor.org/packages/scifer
git_branch: devel
git_last_commit: fc6565a
git_last_commit_date: 2025-04-15 12:56:09 -0400 (Tue, 15 Apr 2025)
nebbiolo2Linux (Ubuntu 24.04.1 LTS) / x86_64  ERROR    ERROR  skipped
palomino8Windows Server 2022 Datacenter / x64  ERROR    ERROR  skippedskipped
lconwaymacOS 12.7.1 Monterey / x86_64  ERROR    ERROR  skippedskipped
kjohnson3macOS 13.7.1 Ventura / arm64  ERROR    ERROR  skippedskipped
taishanLinux (openEuler 24.03 LTS) / aarch64  ERROR    ERROR  skipped


INSTALL results for scifer on lconway

To the developers/maintainers of the scifer package:
- Allow up to 24 hours (and sometimes 48 hours) for your latest push to git@git.bioconductor.org:packages/scifer.git to reflect on this report. See Troubleshooting Build Report for more information.
- Use the following Renviron settings to reproduce errors and warnings.
- If 'R CMD check' started to fail recently on the Linux builder(s) over a missing dependency, add the missing dependency to 'Suggests:' in your DESCRIPTION file. See Renviron.bioc for more information.

raw results


Summary

Package: scifer
Version: 1.11.0
Command: /Library/Frameworks/R.framework/Resources/bin/R CMD INSTALL scifer
StartedAt: 2025-05-16 15:39:43 -0400 (Fri, 16 May 2025)
EndedAt: 2025-05-16 15:39:55 -0400 (Fri, 16 May 2025)
EllapsedTime: 12.3 seconds
RetCode: 1
Status:   ERROR  

Command output

##############################################################################
##############################################################################
###
### Running command:
###
###   /Library/Frameworks/R.framework/Resources/bin/R CMD INSTALL scifer
###
##############################################################################
##############################################################################


* installing to library ‘/Library/Frameworks/R.framework/Versions/4.5-x86_64/Resources/library’
* installing *source* package ‘scifer’ ...
** this is package ‘scifer’ version ‘1.11.0’
** using non-staged installation via StagedInstall field
** R
** inst
** byte-compile and prepare package for lazy loading
Error in get(n, ns) : object 'isMacOSX' not found
Calls: <Anonymous> ... withCallingHandlers -> loadNamespace -> namespaceImportFrom -> get
Execution halted
ERROR: lazy loading failed for package ‘scifer’
* removing ‘/Library/Frameworks/R.framework/Versions/4.5-x86_64/Resources/library/scifer’
* restoring previous ‘/Library/Frameworks/R.framework/Versions/4.5-x86_64/Resources/library/scifer’