Back to Multiple platform build/check report for BioC 3.21: simplified long |
|
This page was generated on 2025-02-03 12:37 -0500 (Mon, 03 Feb 2025).
Hostname | OS | Arch (*) | R version | Installed pkgs |
---|---|---|---|---|
nebbiolo1 | Linux (Ubuntu 24.04.1 LTS) | x86_64 | R Under development (unstable) (2025-01-20 r87609) -- "Unsuffered Consequences" | 4704 |
palomino7 | Windows Server 2022 Datacenter | x64 | R Under development (unstable) (2025-01-21 r87610 ucrt) -- "Unsuffered Consequences" | 4467 |
lconway | macOS 12.7.1 Monterey | x86_64 | R Under development (unstable) (2025-01-22 r87618) -- "Unsuffered Consequences" | 4478 |
Click on any hostname to see more info about the system (e.g. compilers) (*) as reported by 'uname -p', except on Windows and Mac OS X |
Package 1872/2289 | Hostname | OS / Arch | INSTALL | BUILD | CHECK | BUILD BIN | ||||||||
scHOT 1.19.0 (landing page) Shila Ghazanfar
| nebbiolo1 | Linux (Ubuntu 24.04.1 LTS) / x86_64 | OK | OK | OK | |||||||||
palomino7 | Windows Server 2022 Datacenter / x64 | OK | OK | OK | OK | |||||||||
lconway | macOS 12.7.1 Monterey / x86_64 | OK | OK | OK | OK | |||||||||
To the developers/maintainers of the scHOT package: - Allow up to 24 hours (and sometimes 48 hours) for your latest push to git@git.bioconductor.org:packages/scHOT.git to reflect on this report. See Troubleshooting Build Report for more information. - Use the following Renviron settings to reproduce errors and warnings. - If 'R CMD check' started to fail recently on the Linux builder(s) over a missing dependency, add the missing dependency to 'Suggests:' in your DESCRIPTION file. See Renviron.bioc for more information. |
Package: scHOT |
Version: 1.19.0 |
Command: /home/biocbuild/bbs-3.21-bioc/R/bin/R CMD check --install=check:scHOT.install-out.txt --library=/home/biocbuild/bbs-3.21-bioc/R/site-library --timings scHOT_1.19.0.tar.gz |
StartedAt: 2025-02-03 02:11:13 -0500 (Mon, 03 Feb 2025) |
EndedAt: 2025-02-03 02:17:18 -0500 (Mon, 03 Feb 2025) |
EllapsedTime: 365.3 seconds |
RetCode: 0 |
Status: OK |
CheckDir: scHOT.Rcheck |
Warnings: 0 |
############################################################################## ############################################################################## ### ### Running command: ### ### /home/biocbuild/bbs-3.21-bioc/R/bin/R CMD check --install=check:scHOT.install-out.txt --library=/home/biocbuild/bbs-3.21-bioc/R/site-library --timings scHOT_1.19.0.tar.gz ### ############################################################################## ############################################################################## * using log directory ‘/home/biocbuild/bbs-3.21-bioc/meat/scHOT.Rcheck’ * using R Under development (unstable) (2025-01-20 r87609) * using platform: x86_64-pc-linux-gnu * R was compiled by gcc (Ubuntu 13.3.0-6ubuntu2~24.04) 13.3.0 GNU Fortran (Ubuntu 13.3.0-6ubuntu2~24.04) 13.3.0 * running under: Ubuntu 24.04.1 LTS * using session charset: UTF-8 * checking for file ‘scHOT/DESCRIPTION’ ... OK * checking extension type ... Package * this is package ‘scHOT’ version ‘1.19.0’ * package encoding: UTF-8 * checking package namespace information ... OK * checking package dependencies ... OK * checking if this is a source package ... OK * checking if there is a namespace ... OK * checking for hidden files and directories ... OK * checking for portable file names ... OK * checking for sufficient/correct file permissions ... OK * checking whether package ‘scHOT’ can be installed ... OK * checking installed package size ... OK * checking package directory ... OK * checking ‘build’ directory ... OK * checking DESCRIPTION meta-information ... OK * checking top-level files ... OK * checking for left-over files ... OK * checking index information ... OK * checking package subdirectories ... OK * checking code files for non-ASCII characters ... OK * checking R files for syntax errors ... OK * checking whether the package can be loaded ... OK * checking whether the package can be loaded with stated dependencies ... OK * checking whether the package can be unloaded cleanly ... OK * checking whether the namespace can be loaded with stated dependencies ... OK * checking whether the namespace can be unloaded cleanly ... OK * checking loading without being on the library search path ... OK * checking dependencies in R code ... OK * checking S3 generic/method consistency ... OK * checking replacement functions ... OK * checking foreign function calls ... OK * checking R code for possible problems ... OK * checking Rd files ... OK * checking Rd metadata ... OK * checking Rd cross-references ... OK * checking for missing documentation entries ... OK * checking for code/documentation mismatches ... OK * checking Rd \usage sections ... OK * checking Rd contents ... OK * checking for unstated dependencies in examples ... OK * checking contents of ‘data’ directory ... OK * checking data for non-ASCII characters ... OK * checking LazyData ... OK * checking data for ASCII and uncompressed saves ... OK * checking files in ‘vignettes’ ... OK * checking examples ... OK Examples with CPU (user + system) or elapsed time > 5s user system elapsed scHOT 23.904 0.215 24.120 scHOT_performPermutationTest 23.458 0.000 23.458 scHOT_estimatePvalues 22.807 0.009 22.817 * checking for unstated dependencies in vignettes ... OK * checking package vignettes ... OK * checking re-building of vignette outputs ... OK * checking PDF version of manual ... OK * DONE Status: OK
scHOT.Rcheck/00install.out
############################################################################## ############################################################################## ### ### Running command: ### ### /home/biocbuild/bbs-3.21-bioc/R/bin/R CMD INSTALL scHOT ### ############################################################################## ############################################################################## * installing to library ‘/home/biocbuild/bbs-3.21-bioc/R/site-library’ * installing *source* package ‘scHOT’ ... ** this is package ‘scHOT’ version ‘1.19.0’ ** using staged installation ** R ** data *** moving datasets to lazyload DB ** byte-compile and prepare package for lazy loading ** help *** installing help indices ** building package indices ** installing vignettes ** testing if installed package can be loaded from temporary location ** testing if installed package can be loaded from final location ** testing if installed package keeps a record of temporary installation path * DONE (scHOT)
scHOT.Rcheck/scHOT-Ex.timings
name | user | system | elapsed | |
params-set | 0.230 | 0.036 | 0.266 | |
plotColouredExpression | 1.000 | 0.007 | 1.007 | |
plotHigherOrderSequence | 1.987 | 0.069 | 2.057 | |
positionColData-set | 0.104 | 0.007 | 0.111 | |
positionType-set | 0.085 | 0.000 | 0.086 | |
scHOT | 23.904 | 0.215 | 24.120 | |
scHOT_addTestingScaffold | 0.099 | 0.000 | 0.099 | |
scHOT_buildFromMatrix | 0.074 | 0.000 | 0.074 | |
scHOT_buildFromSCE | 0.275 | 0.015 | 0.290 | |
scHOT_calculateGlobalHigherOrderFunction | 0.157 | 0.017 | 0.174 | |
scHOT_calculateHigherOrderTestStatistics | 0.374 | 0.003 | 0.377 | |
scHOT_estimatePvalues | 22.807 | 0.009 | 22.817 | |
scHOT_output-set | 0.079 | 0.001 | 0.080 | |
scHOT_performPermutationTest | 23.458 | 0.000 | 23.458 | |
scHOT_setPermutationScaffold | 0.143 | 0.001 | 0.144 | |
scHOT_setWeightMatrix | 0.121 | 0.000 | 0.122 | |
scHOT_stripOutput | 0.087 | 0.000 | 0.088 | |
spatialWeightMatrix | 0.003 | 0.000 | 0.004 | |
testingScaffold-set | 0.088 | 0.001 | 0.089 | |
thin | 0.008 | 0.000 | 0.008 | |
trajectoryWeightMatrix | 0.002 | 0.000 | 0.003 | |
weightMatrix-set | 0.240 | 0.016 | 0.255 | |
weightedPearson | 0.000 | 0.000 | 0.001 | |
weightedSpearman | 0.001 | 0.000 | 0.001 | |
weightedVariance | 0 | 0 | 0 | |
weightedZIKendall | 0.001 | 0.000 | 0.001 | |
weightedZISpearman | 0.000 | 0.001 | 0.000 | |