Back to Build/check report for BioC 3.23:   simplified   long
ABCDEFGHIJKLMNOPQR[S]TUVWXYZ

This page was generated on 2025-11-05 11:32 -0500 (Wed, 05 Nov 2025).

HostnameOSArch (*)R versionInstalled pkgs
nebbiolo1Linux (Ubuntu 24.04.3 LTS)x86_64R Under development (unstable) (2025-10-20 r88955) -- "Unsuffered Consequences" 4818
Click on any hostname to see more info about the system (e.g. compilers)      (*) as reported by 'uname -p', except on Windows and Mac OS X

Package 1895/2323HostnameOS / ArchINSTALLBUILDCHECKBUILD BIN
scGraphVerse 1.1.0  (landing page)
Francesco Cecere
Snapshot Date: 2025-11-04 13:40 -0500 (Tue, 04 Nov 2025)
git_url: https://git.bioconductor.org/packages/scGraphVerse
git_branch: devel
git_last_commit: 1e63abe
git_last_commit_date: 2025-10-29 11:38:49 -0500 (Wed, 29 Oct 2025)
nebbiolo1Linux (Ubuntu 24.04.3 LTS) / x86_64  OK    OK    OK  UNNEEDED, same version is already published


CHECK results for scGraphVerse on nebbiolo1

To the developers/maintainers of the scGraphVerse package:
- Allow up to 24 hours (and sometimes 48 hours) for your latest push to git@git.bioconductor.org:packages/scGraphVerse.git to reflect on this report. See Troubleshooting Build Report for more information.
- Use the following Renviron settings to reproduce errors and warnings.
- If 'R CMD check' started to fail recently on the Linux builder(s) over a missing dependency, add the missing dependency to 'Suggests:' in your DESCRIPTION file. See Renviron.bioc for more information.

raw results


Summary

Package: scGraphVerse
Version: 1.1.0
Command: /home/biocbuild/bbs-3.23-bioc/R/bin/R CMD check --install=check:scGraphVerse.install-out.txt --library=/home/biocbuild/bbs-3.23-bioc/R/site-library --timings scGraphVerse_1.1.0.tar.gz
StartedAt: 2025-11-05 03:27:34 -0500 (Wed, 05 Nov 2025)
EndedAt: 2025-11-05 03:49:21 -0500 (Wed, 05 Nov 2025)
EllapsedTime: 1306.5 seconds
RetCode: 0
Status:   OK  
CheckDir: scGraphVerse.Rcheck
Warnings: 0

Command output

##############################################################################
##############################################################################
###
### Running command:
###
###   /home/biocbuild/bbs-3.23-bioc/R/bin/R CMD check --install=check:scGraphVerse.install-out.txt --library=/home/biocbuild/bbs-3.23-bioc/R/site-library --timings scGraphVerse_1.1.0.tar.gz
###
##############################################################################
##############################################################################


* using log directory ‘/home/biocbuild/bbs-3.23-bioc/meat/scGraphVerse.Rcheck’
* using R Under development (unstable) (2025-10-20 r88955)
* using platform: x86_64-pc-linux-gnu
* R was compiled by
    gcc (Ubuntu 13.3.0-6ubuntu2~24.04) 13.3.0
    GNU Fortran (Ubuntu 13.3.0-6ubuntu2~24.04) 13.3.0
* running under: Ubuntu 24.04.3 LTS
* using session charset: UTF-8
* checking for file ‘scGraphVerse/DESCRIPTION’ ... OK
* this is package ‘scGraphVerse’ version ‘1.1.0’
* package encoding: UTF-8
* checking package namespace information ... OK
* checking package dependencies ... INFO
Imports includes 21 non-default packages.
Importing from so many packages makes the package vulnerable to any of
them becoming unavailable.  Move as many as possible to Suggests and
use conditionally.
* checking if this is a source package ... OK
* checking if there is a namespace ... OK
* checking for hidden files and directories ... OK
* checking for portable file names ... OK
* checking for sufficient/correct file permissions ... OK
* checking whether package ‘scGraphVerse’ can be installed ... OK
* used C compiler: ‘gcc (Ubuntu 13.3.0-6ubuntu2~24.04) 13.3.0’
* checking installed package size ... OK
* checking package directory ... OK
* checking ‘build’ directory ... OK
* checking DESCRIPTION meta-information ... OK
* checking top-level files ... OK
* checking for left-over files ... OK
* checking index information ... OK
* checking package subdirectories ... OK
* checking code files for non-ASCII characters ... OK
* checking R files for syntax errors ... OK
* checking whether the package can be loaded ... OK
* checking whether the package can be loaded with stated dependencies ... OK
* checking whether the package can be unloaded cleanly ... OK
* checking whether the namespace can be loaded with stated dependencies ... OK
* checking whether the namespace can be unloaded cleanly ... OK
* checking loading without being on the library search path ... OK
* checking dependencies in R code ... OK
* checking S3 generic/method consistency ... OK
* checking replacement functions ... OK
* checking foreign function calls ... OK
* checking R code for possible problems ... OK
* checking Rd files ... OK
* checking Rd metadata ... OK
* checking Rd cross-references ... NOTE
Found the following Rd file(s) with Rd \link{} targets missing package
anchors:
  classify_edges.Rd: SummarizedExperiment-class
  community_path.Rd: SummarizedExperiment-class
  compare_consensus.Rd: SummarizedExperiment-class
  create_consensus.Rd: SummarizedExperiment-class
  cutoff_adjacency.Rd: MultiAssayExperiment-class,
    SummarizedExperiment-class
  earlyj.Rd: MultiAssayExperiment-class
  edge_mining.Rd: SummarizedExperiment-class
  generate_adjacency.Rd: SummarizedExperiment-class
  infer_networks.Rd: MultiAssayExperiment-class
  plotROC.Rd: SummarizedExperiment-class
  plotg.Rd: SummarizedExperiment-class
  pscores.Rd: SummarizedExperiment-class
  selgene.Rd: SingleCellExperiment-class
  symmetrize.Rd: SummarizedExperiment-class
  toy_counts.Rd: MultiAssayExperiment-class
Please provide package anchors for all Rd \link{} targets not in the
package itself and the base packages.
* checking for missing documentation entries ... OK
* checking for code/documentation mismatches ... OK
* checking Rd \usage sections ... OK
* checking Rd contents ... OK
* checking for unstated dependencies in examples ... OK
* checking contents of ‘data’ directory ... OK
* checking data for non-ASCII characters ... OK
* checking data for ASCII and uncompressed saves ... OK
* checking line endings in C/C++/Fortran sources/headers ... OK
* checking compiled code ... INFO
Note: information on .o files is not available
* checking files in ‘vignettes’ ... OK
* checking examples ... OK
Examples with CPU (user + system) or elapsed time > 5s
                            user system elapsed
stringdb_adjacency        53.275  1.879  77.710
community_path            27.769  0.490  36.504
community_similarity      27.960  0.249  39.173
plot_community_comparison 26.781  0.735  34.851
compute_topology_metrics  26.856  0.102  34.322
compute_community_metrics 26.645  0.071  33.708
edge_mining               26.281  0.198  32.743
plot_network_comparison   23.441  0.421  23.863
plotg                     22.891  0.249  23.139
compare_consensus         22.689  0.198  22.888
pscores                   22.593  0.230  22.824
create_consensus          21.875  0.040  21.915
cutoff_adjacency          21.825  0.055  21.885
classify_edges            20.529  0.203  20.734
symmetrize                10.062  0.059  10.122
generate_adjacency         8.034  0.900   8.000
plotROC                    8.583  0.346   8.930
build_network_se           7.383  0.128   7.511
toy_counts                 6.527  0.010   6.538
infer_networks             6.427  0.048   6.475
* checking for unstated dependencies in ‘tests’ ... OK
* checking tests ...
  Running ‘testthat.R’
 OK
* checking for unstated dependencies in vignettes ... OK
* checking package vignettes ... OK
* checking re-building of vignette outputs ... OK
* checking PDF version of manual ... OK
* DONE

Status: 1 NOTE
See
  ‘/home/biocbuild/bbs-3.23-bioc/meat/scGraphVerse.Rcheck/00check.log’
for details.


Installation output

scGraphVerse.Rcheck/00install.out

##############################################################################
##############################################################################
###
### Running command:
###
###   /home/biocbuild/bbs-3.23-bioc/R/bin/R CMD INSTALL scGraphVerse
###
##############################################################################
##############################################################################


* installing to library ‘/home/biocbuild/bbs-3.23-bioc/R/site-library’
* installing *source* package ‘scGraphVerse’ ...
** this is package ‘scGraphVerse’ version ‘1.1.0’
** using staged installation
** libs
using C compiler: ‘gcc (Ubuntu 13.3.0-6ubuntu2~24.04) 13.3.0’
gcc -std=gnu2x -I"/home/biocbuild/bbs-3.23-bioc/R/include" -DNDEBUG   -I/usr/local/include    -fpic  -g -O2  -Wall -Werror=format-security -c init.c -o init.o
gcc -std=gnu2x -I"/home/biocbuild/bbs-3.23-bioc/R/include" -DNDEBUG   -I/usr/local/include    -fpic  -g -O2  -Wall -Werror=format-security -c regTree.c -o regTree.o
regTree.c: In function ‘findBestSplit’:
regTree.c:232:15: warning: variable ‘lc’ set but not used [-Wunused-but-set-variable]
  232 |     int last, lc, nl, nr, npopl, npopr;
      |               ^~
regTree.c: In function ‘predictRegTree’:
regTree.c:418:19: warning: unused variable ‘cbestsplit’ [-Wunused-variable]
  418 |     int i, k, m, *cbestsplit, s;
      |                   ^~~~~~~~~~
gcc -std=gnu2x -I"/home/biocbuild/bbs-3.23-bioc/R/include" -DNDEBUG   -I/usr/local/include    -fpic  -g -O2  -Wall -Werror=format-security -c regrf.c -o regrf.o
regrf.c: In function ‘regRF’:
regrf.c:71:30: warning: unused variable ‘nodexts’ [-Wunused-variable]
   71 |     int *in, *nind, *nodex, *nodexts;
      |                              ^~~~~~~
regrf.c:71:22: warning: variable ‘nodex’ set but not used [-Wunused-but-set-variable]
   71 |     int *in, *nind, *nodex, *nodexts;
      |                      ^~~~~
regrf.c:69:10: warning: variable ‘oobpair’ set but not used [-Wunused-but-set-variable]
   69 |     int *oobpair, varImp, localImp, *varUsed, kk;
      |          ^~~~~~~
regrf.c:67:61: warning: variable ‘nPerm’ set but not used [-Wunused-but-set-variable]
   67 |     int k, m, mr, n, nOOB, j, jout, idx, ntest, last, ktmp, nPerm,
      |                                                             ^~~~~
regrf.c:67:31: warning: unused variable ‘jout’ [-Wunused-variable]
   67 |     int k, m, mr, n, nOOB, j, jout, idx, ntest, last, ktmp, nPerm,
      |                               ^~~~
regrf.c:67:22: warning: unused variable ‘nOOB’ [-Wunused-variable]
   67 |     int k, m, mr, n, nOOB, j, jout, idx, ntest, last, ktmp, nPerm,
      |                      ^~~~
regrf.c:67:15: warning: unused variable ‘mr’ [-Wunused-variable]
   67 |     int k, m, mr, n, nOOB, j, jout, idx, ntest, last, ktmp, nPerm,
      |               ^~
regrf.c:65:36: warning: unused variable ‘ytree’ [-Wunused-variable]
   65 |     double *yb, *xtmp, *xb, *ytr, *ytree, *tgini, *meanY, *varY, *ww;
      |                                    ^~~~~
regrf.c:65:30: warning: variable ‘ytr’ set but not used [-Wunused-but-set-variable]
   65 |     double *yb, *xtmp, *xb, *ytr, *ytree, *tgini, *meanY, *varY, *ww;
      |                              ^~~
regrf.c:65:18: warning: variable ‘xtmp’ set but not used [-Wunused-but-set-variable]
   65 |     double *yb, *xtmp, *xb, *ytr, *ytree, *tgini, *meanY, *varY, *ww;
      |                  ^~~~
regrf.c:63:58: warning: variable ‘resOOB’ set but not used [-Wunused-but-set-variable]
   63 |           *errb, resid=0.0, *ooberr, ooberrperm, delta, *resOOB;
      |                                                          ^~~~~~
regrf.c:63:50: warning: unused variable ‘delta’ [-Wunused-variable]
   63 |           *errb, resid=0.0, *ooberr, ooberrperm, delta, *resOOB;
      |                                                  ^~~~~
regrf.c:63:38: warning: unused variable ‘ooberrperm’ [-Wunused-variable]
   63 |           *errb, resid=0.0, *ooberr, ooberrperm, delta, *resOOB;
      |                                      ^~~~~~~~~~
regrf.c:63:30: warning: variable ‘ooberr’ set but not used [-Wunused-but-set-variable]
   63 |           *errb, resid=0.0, *ooberr, ooberrperm, delta, *resOOB;
      |                              ^~~~~~
regrf.c:63:18: warning: unused variable ‘resid’ [-Wunused-variable]
   63 |           *errb, resid=0.0, *ooberr, ooberrperm, delta, *resOOB;
      |                  ^~~~~
regrf.c:63:12: warning: variable ‘errb’ set but not used [-Wunused-but-set-variable]
   63 |           *errb, resid=0.0, *ooberr, ooberrperm, delta, *resOOB;
      |            ^~~~
regrf.c:62:53: warning: unused variable ‘r’ [-Wunused-variable]
   62 |     double errts = 0.0, averrb,  *meanYts, *varYts, r, *xrand,
      |                                                     ^
regrf.c:62:25: warning: variable ‘averrb’ set but not used [-Wunused-but-set-variable]
   62 |     double errts = 0.0, averrb,  *meanYts, *varYts, r, *xrand,
      |                         ^~~~~~
regrf.c:62:12: warning: unused variable ‘errts’ [-Wunused-variable]
   62 |     double errts = 0.0, averrb,  *meanYts, *varYts, r, *xrand,
      |            ^~~~~
gcc -std=gnu2x -shared -L/home/biocbuild/bbs-3.23-bioc/R/lib -L/usr/local/lib -o scGraphVerse.so init.o regTree.o regrf.o -L/home/biocbuild/bbs-3.23-bioc/R/lib -lR
installing to /home/biocbuild/bbs-3.23-bioc/R/site-library/00LOCK-scGraphVerse/00new/scGraphVerse/libs
** R
** data
** inst
** byte-compile and prepare package for lazy loading
** help
*** installing help indices
*** copying figures
** building package indices
** installing vignettes
** testing if installed package can be loaded from temporary location
** checking absolute paths in shared objects and dynamic libraries
** testing if installed package can be loaded from final location
** testing if installed package keeps a record of temporary installation path
* DONE (scGraphVerse)

Tests output

scGraphVerse.Rcheck/tests/testthat.Rout


R Under development (unstable) (2025-10-20 r88955) -- "Unsuffered Consequences"
Copyright (C) 2025 The R Foundation for Statistical Computing
Platform: x86_64-pc-linux-gnu

R is free software and comes with ABSOLUTELY NO WARRANTY.
You are welcome to redistribute it under certain conditions.
Type 'license()' or 'licence()' for distribution details.

R is a collaborative project with many contributors.
Type 'contributors()' for more information and
'citation()' on how to cite R or R packages in publications.

Type 'demo()' for some demos, 'help()' for on-line help, or
'help.start()' for an HTML browser interface to help.
Type 'q()' to quit R.

> library(testthat)
> library(scGraphVerse)
> 
> test_check("scGraphVerse")
[ FAIL 0 | WARN 2227 | SKIP 10 | PASS 492 ]

══ Skipped tests (10) ══════════════════════════════════════════════════════════
• Complex internal function tested via cutoff_adjacency (1):
  'test-utilities.R:288:5'
• KEGG requires internet and annotation packages (1):
  'test-community-topology.R:228:5'
• Reactome requires internet and annotation packages (1):
  'test-community-topology.R:245:5'
• Seurat object creation requires full Seurat setup (1):
  'test-network-inference.R:749:5'
• Seurat objects require actual Seurat setup (1): 'test-utilities.R:198:5'
• robinCompare parameter compatibility varies by version (2):
  'test-community-topology.R:160:5', 'test-community-topology.R:263:5'
• spinglass can be slow and unstable in tests (1):
  'test-community-topology.R:383:5'
• {pcalg} is not installed (2): 'test-network-inference.R:845:5',
  'test-network-inference.R:883:5'

[ FAIL 0 | WARN 2227 | SKIP 10 | PASS 492 ]
> 
> proc.time()
   user  system elapsed 
210.460   5.101 214.788 

Example timings

scGraphVerse.Rcheck/scGraphVerse-Ex.timings

nameusersystemelapsed
PCzinb0.9140.0080.923
build_network_se7.3830.1287.511
classify_edges20.529 0.20320.734
community_path27.769 0.49036.504
community_similarity27.960 0.24939.173
compare_consensus22.689 0.19822.888
compute_community_metrics26.645 0.07133.708
compute_topology_metrics26.856 0.10234.322
create_consensus21.875 0.04021.915
create_mae0.2520.0010.253
cutoff_adjacency21.825 0.05521.885
download_Atlas0.0750.0031.633
earlyj0.2550.0010.256
edge_mining26.281 0.19832.743
generate_adjacency8.0340.9008.000
infer_networks6.4270.0486.475
init_py0.3520.0970.598
plotROC8.5830.3468.930
plot_community_comparison26.781 0.73534.851
plot_network_comparison23.441 0.42123.863
plotg22.891 0.24923.139
pscores22.593 0.23022.824
selgene0.0160.0010.018
stringdb_adjacency53.275 1.87977.710
symmetrize10.062 0.05910.122
toy_adj_matrix0.0070.0000.007
toy_counts6.5270.0106.538
zinb_simdata0.0080.0010.009