Back to Build/check report for BioC 3.23:   simplified   long
ABCDEFGHIJKLMNOPQR[S]TUVWXYZ

This page was generated on 2025-11-06 11:32 -0500 (Thu, 06 Nov 2025).

HostnameOSArch (*)R versionInstalled pkgs
nebbiolo1Linux (Ubuntu 24.04.3 LTS)x86_64R Under development (unstable) (2025-10-20 r88955) -- "Unsuffered Consequences" 4818
Click on any hostname to see more info about the system (e.g. compilers)      (*) as reported by 'uname -p', except on Windows and Mac OS X

Package 1894/2323HostnameOS / ArchINSTALLBUILDCHECKBUILD BIN
scGPS 1.25.0  (landing page)
Quan Nguyen
Snapshot Date: 2025-11-05 13:40 -0500 (Wed, 05 Nov 2025)
git_url: https://git.bioconductor.org/packages/scGPS
git_branch: devel
git_last_commit: 73072f6
git_last_commit_date: 2025-10-29 10:53:11 -0500 (Wed, 29 Oct 2025)
nebbiolo1Linux (Ubuntu 24.04.3 LTS) / x86_64  OK    OK    OK  UNNEEDED, same version is already published


CHECK results for scGPS on nebbiolo1

To the developers/maintainers of the scGPS package:
- Allow up to 24 hours (and sometimes 48 hours) for your latest push to git@git.bioconductor.org:packages/scGPS.git to reflect on this report. See Troubleshooting Build Report for more information.
- Use the following Renviron settings to reproduce errors and warnings.
- If 'R CMD check' started to fail recently on the Linux builder(s) over a missing dependency, add the missing dependency to 'Suggests:' in your DESCRIPTION file. See Renviron.bioc for more information.

raw results


Summary

Package: scGPS
Version: 1.25.0
Command: /home/biocbuild/bbs-3.23-bioc/R/bin/R CMD check --install=check:scGPS.install-out.txt --library=/home/biocbuild/bbs-3.23-bioc/R/site-library --timings scGPS_1.25.0.tar.gz
StartedAt: 2025-11-06 03:33:35 -0500 (Thu, 06 Nov 2025)
EndedAt: 2025-11-06 03:46:12 -0500 (Thu, 06 Nov 2025)
EllapsedTime: 756.8 seconds
RetCode: 0
Status:   OK  
CheckDir: scGPS.Rcheck
Warnings: 0

Command output

##############################################################################
##############################################################################
###
### Running command:
###
###   /home/biocbuild/bbs-3.23-bioc/R/bin/R CMD check --install=check:scGPS.install-out.txt --library=/home/biocbuild/bbs-3.23-bioc/R/site-library --timings scGPS_1.25.0.tar.gz
###
##############################################################################
##############################################################################


* using log directory ‘/home/biocbuild/bbs-3.23-bioc/meat/scGPS.Rcheck’
* using R Under development (unstable) (2025-10-20 r88955)
* using platform: x86_64-pc-linux-gnu
* R was compiled by
    gcc (Ubuntu 13.3.0-6ubuntu2~24.04) 13.3.0
    GNU Fortran (Ubuntu 13.3.0-6ubuntu2~24.04) 13.3.0
* running under: Ubuntu 24.04.3 LTS
* using session charset: UTF-8
* checking for file ‘scGPS/DESCRIPTION’ ... OK
* checking extension type ... Package
* this is package ‘scGPS’ version ‘1.25.0’
* package encoding: UTF-8
* checking package namespace information ... OK
* checking package dependencies ... OK
* checking if this is a source package ... OK
* checking if there is a namespace ... OK
* checking for hidden files and directories ... OK
* checking for portable file names ... OK
* checking for sufficient/correct file permissions ... OK
* checking whether package ‘scGPS’ can be installed ... OK
* used C++ compiler: ‘g++ (Ubuntu 13.3.0-6ubuntu2~24.04) 13.3.0’
* checking installed package size ... OK
* checking package directory ... OK
* checking ‘build’ directory ... OK
* checking DESCRIPTION meta-information ... OK
* checking top-level files ... OK
* checking for left-over files ... OK
* checking index information ... OK
* checking package subdirectories ... OK
* checking code files for non-ASCII characters ... OK
* checking R files for syntax errors ... OK
* checking whether the package can be loaded ... OK
* checking whether the package can be loaded with stated dependencies ... OK
* checking whether the package can be unloaded cleanly ... OK
* checking whether the namespace can be loaded with stated dependencies ... OK
* checking whether the namespace can be unloaded cleanly ... OK
* checking loading without being on the library search path ... OK
* checking dependencies in R code ... OK
* checking S3 generic/method consistency ... OK
* checking replacement functions ... OK
* checking foreign function calls ... OK
* checking R code for possible problems ... NOTE
plot_reduced: no visible binding for global variable ‘..count..’
Undefined global functions or variables:
  ..count..
* checking Rd files ... OK
* checking Rd metadata ... OK
* checking Rd cross-references ... NOTE
Found the following Rd file(s) with Rd \link{} targets missing package
anchors:
  CORE_bagging.Rd: SingleCellExperiment-class
  CORE_clustering.Rd: SingleCellExperiment-class
  CORE_subcluster.Rd: SingleCellExperiment-class
  bootstrap_parallel.Rd: SingleCellExperiment-class
  bootstrap_prediction.Rd: SingleCellExperiment-class
  clustering.Rd: SingleCellExperiment-class
  clustering_bagging.Rd: SingleCellExperiment-class
  new_scGPS_object.Rd: SingleCellExperiment-class
  new_summarized_scGPS_object.Rd: SingleCellExperiment-class
  predicting.Rd: SingleCellExperiment-class
  sub_clustering.Rd: SingleCellExperiment-class
  training.Rd: SingleCellExperiment-class
Please provide package anchors for all Rd \link{} targets not in the
package itself and the base packages.
* checking for missing documentation entries ... OK
* checking for code/documentation mismatches ... OK
* checking Rd \usage sections ... OK
* checking Rd contents ... OK
* checking for unstated dependencies in examples ... OK
* checking contents of ‘data’ directory ... OK
* checking data for non-ASCII characters ... OK
* checking LazyData ... OK
* checking data for ASCII and uncompressed saves ... OK
* checking line endings in C/C++/Fortran sources/headers ... OK
* checking line endings in Makefiles ... OK
* checking compilation flags in Makevars ... OK
* checking for GNU extensions in Makefiles ... OK
* checking for portable use of $(BLAS_LIBS) and $(LAPACK_LIBS) ... OK
* checking use of PKG_*FLAGS in Makefiles ... OK
* checking compiled code ... INFO
Note: information on .o files is not available
* checking files in ‘vignettes’ ... OK
* checking examples ... OK
Examples with CPU (user + system) or elapsed time > 5s
                     user system elapsed
annotate_clusters  83.607  0.686  84.295
find_markers       60.804  0.382  61.194
CORE_bagging       10.680  0.219   9.396
clustering_bagging  7.931  0.063   6.251
plot_reduced        5.981  0.004   5.985
plot_optimal_CORE   5.606  0.028   3.592
* checking for unstated dependencies in ‘tests’ ... OK
* checking tests ...
  Running ‘testthat.R’
 OK
* checking for unstated dependencies in vignettes ... OK
* checking package vignettes ... OK
* checking re-building of vignette outputs ... OK
* checking PDF version of manual ... OK
* DONE

Status: 2 NOTEs
See
  ‘/home/biocbuild/bbs-3.23-bioc/meat/scGPS.Rcheck/00check.log’
for details.


Installation output

scGPS.Rcheck/00install.out

##############################################################################
##############################################################################
###
### Running command:
###
###   /home/biocbuild/bbs-3.23-bioc/R/bin/R CMD INSTALL scGPS
###
##############################################################################
##############################################################################


* installing to library ‘/home/biocbuild/bbs-3.23-bioc/R/site-library’
* installing *source* package ‘scGPS’ ...
** this is package ‘scGPS’ version ‘1.25.0’
** using staged installation
** libs
using C++ compiler: ‘g++ (Ubuntu 13.3.0-6ubuntu2~24.04) 13.3.0’
g++ -std=gnu++17 -I"/home/biocbuild/bbs-3.23-bioc/R/include" -DNDEBUG  -I'/home/biocbuild/bbs-3.23-bioc/R/site-library/Rcpp/include' -I'/home/biocbuild/bbs-3.23-bioc/R/site-library/RcppArmadillo/include' -I'/home/biocbuild/bbs-3.23-bioc/R/site-library/RcppParallel/include' -I/usr/local/include    -fpic  -g -O2  -Wall -Werror=format-security  -c RcppExports.cpp -o RcppExports.o
g++ -std=gnu++17 -I"/home/biocbuild/bbs-3.23-bioc/R/include" -DNDEBUG  -I'/home/biocbuild/bbs-3.23-bioc/R/site-library/Rcpp/include' -I'/home/biocbuild/bbs-3.23-bioc/R/site-library/RcppArmadillo/include' -I'/home/biocbuild/bbs-3.23-bioc/R/site-library/RcppParallel/include' -I/usr/local/include    -fpic  -g -O2  -Wall -Werror=format-security  -c dist_mat_cpp.cpp -o dist_mat_cpp.o
g++ -std=gnu++17 -I"/home/biocbuild/bbs-3.23-bioc/R/include" -DNDEBUG  -I'/home/biocbuild/bbs-3.23-bioc/R/site-library/Rcpp/include' -I'/home/biocbuild/bbs-3.23-bioc/R/site-library/RcppArmadillo/include' -I'/home/biocbuild/bbs-3.23-bioc/R/site-library/RcppParallel/include' -I/usr/local/include    -fpic  -g -O2  -Wall -Werror=format-security  -c dist_parallel_cpp.cpp -o dist_parallel_cpp.o
g++ -std=gnu++17 -I"/home/biocbuild/bbs-3.23-bioc/R/include" -DNDEBUG  -I'/home/biocbuild/bbs-3.23-bioc/R/site-library/Rcpp/include' -I'/home/biocbuild/bbs-3.23-bioc/R/site-library/RcppArmadillo/include' -I'/home/biocbuild/bbs-3.23-bioc/R/site-library/RcppParallel/include' -I/usr/local/include    -fpic  -g -O2  -Wall -Werror=format-security  -c utils_rcpp.cpp -o utils_rcpp.o
g++ -std=gnu++17 -shared -L/home/biocbuild/bbs-3.23-bioc/R/lib -L/usr/local/lib -o scGPS.so RcppExports.o dist_mat_cpp.o dist_parallel_cpp.o utils_rcpp.o -llapack -L/home/biocbuild/bbs-3.23-bioc/R/lib -lRblas -lgfortran -lm -lquadmath -L/home/biocbuild/bbs-3.23-bioc/R/lib -lR
installing to /home/biocbuild/bbs-3.23-bioc/R/site-library/00LOCK-scGPS/00new/scGPS/libs
** R
** data
*** moving datasets to lazyload DB
** byte-compile and prepare package for lazy loading
** help
*** installing help indices
*** copying figures
** building package indices
** installing vignettes
** testing if installed package can be loaded from temporary location
** checking absolute paths in shared objects and dynamic libraries
** testing if installed package can be loaded from final location
** testing if installed package keeps a record of temporary installation path
* DONE (scGPS)

Tests output

scGPS.Rcheck/tests/testthat.Rout


R Under development (unstable) (2025-10-20 r88955) -- "Unsuffered Consequences"
Copyright (C) 2025 The R Foundation for Statistical Computing
Platform: x86_64-pc-linux-gnu

R is free software and comes with ABSOLUTELY NO WARRANTY.
You are welcome to redistribute it under certain conditions.
Type 'license()' or 'licence()' for distribution details.

R is a collaborative project with many contributors.
Type 'contributors()' for more information and
'citation()' on how to cite R or R packages in publications.

Type 'demo()' for some demos, 'help()' for on-line help, or
'help.start()' for an HTML browser interface to help.
Type 'q()' to quit R.

> library(testthat)
> library(scGPS)
Loading required package: SummarizedExperiment
Loading required package: MatrixGenerics
Loading required package: matrixStats

Attaching package: 'MatrixGenerics'

The following objects are masked from 'package:matrixStats':

    colAlls, colAnyNAs, colAnys, colAvgsPerRowSet, colCollapse,
    colCounts, colCummaxs, colCummins, colCumprods, colCumsums,
    colDiffs, colIQRDiffs, colIQRs, colLogSumExps, colMadDiffs,
    colMads, colMaxs, colMeans2, colMedians, colMins, colOrderStats,
    colProds, colQuantiles, colRanges, colRanks, colSdDiffs, colSds,
    colSums2, colTabulates, colVarDiffs, colVars, colWeightedMads,
    colWeightedMeans, colWeightedMedians, colWeightedSds,
    colWeightedVars, rowAlls, rowAnyNAs, rowAnys, rowAvgsPerColSet,
    rowCollapse, rowCounts, rowCummaxs, rowCummins, rowCumprods,
    rowCumsums, rowDiffs, rowIQRDiffs, rowIQRs, rowLogSumExps,
    rowMadDiffs, rowMads, rowMaxs, rowMeans2, rowMedians, rowMins,
    rowOrderStats, rowProds, rowQuantiles, rowRanges, rowRanks,
    rowSdDiffs, rowSds, rowSums2, rowTabulates, rowVarDiffs, rowVars,
    rowWeightedMads, rowWeightedMeans, rowWeightedMedians,
    rowWeightedSds, rowWeightedVars

Loading required package: GenomicRanges
Loading required package: stats4
Loading required package: BiocGenerics
Loading required package: generics

Attaching package: 'generics'

The following objects are masked from 'package:base':

    as.difftime, as.factor, as.ordered, intersect, is.element, setdiff,
    setequal, union


Attaching package: 'BiocGenerics'

The following objects are masked from 'package:stats':

    IQR, mad, sd, var, xtabs

The following objects are masked from 'package:base':

    Filter, Find, Map, Position, Reduce, anyDuplicated, aperm, append,
    as.data.frame, basename, cbind, colnames, dirname, do.call,
    duplicated, eval, evalq, get, grep, grepl, is.unsorted, lapply,
    mapply, match, mget, order, paste, pmax, pmax.int, pmin, pmin.int,
    rank, rbind, rownames, sapply, saveRDS, table, tapply, unique,
    unsplit, which.max, which.min

Loading required package: S4Vectors

Attaching package: 'S4Vectors'

The following object is masked from 'package:utils':

    findMatches

The following objects are masked from 'package:base':

    I, expand.grid, unname

Loading required package: IRanges
Loading required package: Seqinfo
Loading required package: Biobase
Welcome to Bioconductor

    Vignettes contain introductory material; view with
    'browseVignettes()'. To cite Bioconductor, see
    'citation("Biobase")', and for packages 'citation("pkgname")'.


Attaching package: 'Biobase'

The following object is masked from 'package:MatrixGenerics':

    rowMedians

The following objects are masked from 'package:matrixStats':

    anyMissing, rowMedians

Loading required package: dynamicTreeCut
Loading required package: SingleCellExperiment
> 
> test_check("scGPS")
[ FAIL 0 | WARN 0 | SKIP 0 | PASS 2 ]
> 
> proc.time()
   user  system elapsed 
 10.760   0.614  11.359 

Example timings

scGPS.Rcheck/scGPS-Ex.timings

nameusersystemelapsed
CORE_bagging10.680 0.219 9.396
CORE_clustering4.3470.1622.995
CORE_subcluster4.3160.2253.000
PCA3.5470.4513.998
PrinComp_cpp0.1340.0020.137
annotate_clusters83.607 0.68684.295
bootstrap_parallel0.2310.0260.258
bootstrap_prediction2.5770.0432.620
calcDist1.2570.5491.806
calcDistArma0.0010.0000.000
clustering4.3330.1322.638
clustering_bagging7.9310.0636.251
distvec0.0010.0000.001
find_markers60.804 0.38261.194
find_optimal_stability4.7600.0232.715
find_stability4.5500.0162.627
mean_cpp0.0050.0000.005
new_scGPS_object0.1510.0060.157
new_summarized_scGPS_object0.0220.0040.026
plot_CORE4.8350.0272.829
plot_optimal_CORE5.6060.0283.592
plot_reduced5.9810.0045.985
predicting1.6890.0021.691
rand_index4.2540.0132.490
rcpp_Eucl_distance_NotPar0.0130.0000.014
rcpp_parallel_distance0.1330.0000.132
reformat_LASSO2.0320.0102.043
sub_clustering0.0940.0170.073
subset_cpp0.1340.0010.135
summary_accuracy1.1380.0111.150
summary_deviance2.0300.0062.037
summary_prediction_lasso1.1980.0161.214
summary_prediction_lda1.1670.0361.204
tSNE4.8940.0014.895
top_var0.1480.0010.149
tp_cpp0.2300.0150.245
training0.3810.0050.386
var_cpp0.0090.0000.008