Back to Build/check report for BioC 3.23:   simplified   long
ABCDEFGHIJKLMNOPQR[S]TUVWXYZ

This page was generated on 2025-11-13 11:32 -0500 (Thu, 13 Nov 2025).

HostnameOSArch (*)R versionInstalled pkgs
kjohnson3macOS 13.7.7 Venturaarm64R Under development (unstable) (2025-11-04 r88984) -- "Unsuffered Consequences" 4013
Click on any hostname to see more info about the system (e.g. compilers)      (*) as reported by 'uname -p', except on Windows and Mac OS X

Package 1896/2325HostnameOS / ArchINSTALLBUILDCHECKBUILD BIN
scGPS 1.25.0  (landing page)
Quan Nguyen
Snapshot Date: 2025-11-12 13:40 -0500 (Wed, 12 Nov 2025)
git_url: https://git.bioconductor.org/packages/scGPS
git_branch: devel
git_last_commit: 73072f6
git_last_commit_date: 2025-10-29 10:53:11 -0500 (Wed, 29 Oct 2025)
kjohnson3macOS 13.7.7 Ventura / arm64  OK    OK    OK    OK  NO, package depends on 'DESeq2' which is only available as a source package that needs compilation


CHECK results for scGPS on kjohnson3

To the developers/maintainers of the scGPS package:
- Allow up to 24 hours (and sometimes 48 hours) for your latest push to git@git.bioconductor.org:packages/scGPS.git to reflect on this report. See Troubleshooting Build Report for more information.
- Use the following Renviron settings to reproduce errors and warnings.
- If 'R CMD check' started to fail recently on the Linux builder(s) over a missing dependency, add the missing dependency to 'Suggests:' in your DESCRIPTION file. See Renviron.bioc for more information.

raw results


Summary

Package: scGPS
Version: 1.25.0
Command: /Library/Frameworks/R.framework/Resources/bin/R CMD check --install=check:scGPS.install-out.txt --library=/Library/Frameworks/R.framework/Resources/library --no-vignettes --timings scGPS_1.25.0.tar.gz
StartedAt: 2025-11-12 20:17:29 -0500 (Wed, 12 Nov 2025)
EndedAt: 2025-11-12 20:20:39 -0500 (Wed, 12 Nov 2025)
EllapsedTime: 190.3 seconds
RetCode: 0
Status:   OK  
CheckDir: scGPS.Rcheck
Warnings: 0

Command output

##############################################################################
##############################################################################
###
### Running command:
###
###   /Library/Frameworks/R.framework/Resources/bin/R CMD check --install=check:scGPS.install-out.txt --library=/Library/Frameworks/R.framework/Resources/library --no-vignettes --timings scGPS_1.25.0.tar.gz
###
##############################################################################
##############################################################################


* using log directory ‘/Users/biocbuild/bbs-3.23-bioc/meat/scGPS.Rcheck’
* using R Under development (unstable) (2025-11-04 r88984)
* using platform: aarch64-apple-darwin20
* R was compiled by
    Apple clang version 16.0.0 (clang-1600.0.26.6)
    GNU Fortran (GCC) 14.2.0
* running under: macOS Ventura 13.7.8
* using session charset: UTF-8
* using option ‘--no-vignettes’
* checking for file ‘scGPS/DESCRIPTION’ ... OK
* checking extension type ... Package
* this is package ‘scGPS’ version ‘1.25.0’
* package encoding: UTF-8
* checking package namespace information ... OK
* checking package dependencies ... OK
* checking if this is a source package ... OK
* checking if there is a namespace ... OK
* checking for hidden files and directories ... OK
* checking for portable file names ... OK
* checking for sufficient/correct file permissions ... OK
* checking whether package ‘scGPS’ can be installed ... OK
* used C++ compiler: ‘Apple clang version 15.0.0 (clang-1500.1.0.2.5)’
* used SDK: ‘MacOSX11.3.1.sdk’
* checking installed package size ... OK
* checking package directory ... OK
* checking ‘build’ directory ... OK
* checking DESCRIPTION meta-information ... OK
* checking top-level files ... OK
* checking for left-over files ... OK
* checking index information ... OK
* checking package subdirectories ... OK
* checking code files for non-ASCII characters ... OK
* checking R files for syntax errors ... OK
* checking whether the package can be loaded ... OK
* checking whether the package can be loaded with stated dependencies ... OK
* checking whether the package can be unloaded cleanly ... OK
* checking whether the namespace can be loaded with stated dependencies ... OK
* checking whether the namespace can be unloaded cleanly ... OK
* checking dependencies in R code ... OK
* checking S3 generic/method consistency ... OK
* checking replacement functions ... OK
* checking foreign function calls ... OK
* checking R code for possible problems ... NOTE
plot_reduced: no visible binding for global variable ‘..count..’
Undefined global functions or variables:
  ..count..
* checking Rd files ... OK
* checking Rd metadata ... OK
* checking Rd cross-references ... NOTE
Found the following Rd file(s) with Rd \link{} targets missing package
anchors:
  CORE_bagging.Rd: SingleCellExperiment-class
  CORE_clustering.Rd: SingleCellExperiment-class
  CORE_subcluster.Rd: SingleCellExperiment-class
  bootstrap_parallel.Rd: SingleCellExperiment-class
  bootstrap_prediction.Rd: SingleCellExperiment-class
  clustering.Rd: SingleCellExperiment-class
  clustering_bagging.Rd: SingleCellExperiment-class
  new_scGPS_object.Rd: SingleCellExperiment-class
  new_summarized_scGPS_object.Rd: SingleCellExperiment-class
  predicting.Rd: SingleCellExperiment-class
  sub_clustering.Rd: SingleCellExperiment-class
  training.Rd: SingleCellExperiment-class
Please provide package anchors for all Rd \link{} targets not in the
package itself and the base packages.
* checking for missing documentation entries ... OK
* checking for code/documentation mismatches ... OK
* checking Rd \usage sections ... OK
* checking Rd contents ... OK
* checking for unstated dependencies in examples ... OK
* checking contents of ‘data’ directory ... OK
* checking data for non-ASCII characters ... OK
* checking LazyData ... OK
* checking data for ASCII and uncompressed saves ... OK
* checking line endings in C/C++/Fortran sources/headers ... OK
* checking line endings in Makefiles ... OK
* checking compilation flags in Makevars ... OK
* checking for GNU extensions in Makefiles ... OK
* checking for portable use of $(BLAS_LIBS) and $(LAPACK_LIBS) ... OK
* checking use of PKG_*FLAGS in Makefiles ... OK
* checking compiled code ... INFO
Note: information on .o files is not available
* checking files in ‘vignettes’ ... OK
* checking examples ... OK
Examples with CPU (user + system) or elapsed time > 5s
                    user system elapsed
annotate_clusters 26.076  3.867  32.599
find_markers      25.894  0.261  28.213
* checking for unstated dependencies in ‘tests’ ... OK
* checking tests ...
  Running ‘testthat.R’
 OK
* checking for unstated dependencies in vignettes ... OK
* checking package vignettes ... OK
* checking running R code from vignettes ... SKIPPED
* checking re-building of vignette outputs ... SKIPPED
* checking PDF version of manual ... OK
* DONE

Status: 2 NOTEs
See
  ‘/Users/biocbuild/bbs-3.23-bioc/meat/scGPS.Rcheck/00check.log’
for details.


Installation output

scGPS.Rcheck/00install.out

##############################################################################
##############################################################################
###
### Running command:
###
###   /Library/Frameworks/R.framework/Resources/bin/R CMD INSTALL scGPS
###
##############################################################################
##############################################################################


* installing to library ‘/Library/Frameworks/R.framework/Versions/4.6-arm64/Resources/library’
* installing *source* package ‘scGPS’ ...
** this is package ‘scGPS’ version ‘1.25.0’
** using staged installation
** libs
using C++ compiler: ‘Apple clang version 15.0.0 (clang-1500.1.0.2.5)’
using SDK: ‘MacOSX11.3.1.sdk’
clang++ -arch arm64 -std=gnu++17 -I"/Library/Frameworks/R.framework/Resources/include" -DNDEBUG  -I'/Library/Frameworks/R.framework/Versions/4.6-arm64/Resources/library/Rcpp/include' -I'/Library/Frameworks/R.framework/Versions/4.6-arm64/Resources/library/RcppArmadillo/include' -I'/Library/Frameworks/R.framework/Versions/4.6-arm64/Resources/library/RcppParallel/include' -I/opt/R/arm64/include    -fPIC  -falign-functions=64 -Wall -g -O2   -c RcppExports.cpp -o RcppExports.o
clang++ -arch arm64 -std=gnu++17 -I"/Library/Frameworks/R.framework/Resources/include" -DNDEBUG  -I'/Library/Frameworks/R.framework/Versions/4.6-arm64/Resources/library/Rcpp/include' -I'/Library/Frameworks/R.framework/Versions/4.6-arm64/Resources/library/RcppArmadillo/include' -I'/Library/Frameworks/R.framework/Versions/4.6-arm64/Resources/library/RcppParallel/include' -I/opt/R/arm64/include    -fPIC  -falign-functions=64 -Wall -g -O2   -c dist_mat_cpp.cpp -o dist_mat_cpp.o
clang++ -arch arm64 -std=gnu++17 -I"/Library/Frameworks/R.framework/Resources/include" -DNDEBUG  -I'/Library/Frameworks/R.framework/Versions/4.6-arm64/Resources/library/Rcpp/include' -I'/Library/Frameworks/R.framework/Versions/4.6-arm64/Resources/library/RcppArmadillo/include' -I'/Library/Frameworks/R.framework/Versions/4.6-arm64/Resources/library/RcppParallel/include' -I/opt/R/arm64/include    -fPIC  -falign-functions=64 -Wall -g -O2   -c dist_parallel_cpp.cpp -o dist_parallel_cpp.o
clang++ -arch arm64 -std=gnu++17 -I"/Library/Frameworks/R.framework/Resources/include" -DNDEBUG  -I'/Library/Frameworks/R.framework/Versions/4.6-arm64/Resources/library/Rcpp/include' -I'/Library/Frameworks/R.framework/Versions/4.6-arm64/Resources/library/RcppArmadillo/include' -I'/Library/Frameworks/R.framework/Versions/4.6-arm64/Resources/library/RcppParallel/include' -I/opt/R/arm64/include    -fPIC  -falign-functions=64 -Wall -g -O2   -c utils_rcpp.cpp -o utils_rcpp.o
clang++ -arch arm64 -std=gnu++17 -dynamiclib -Wl,-headerpad_max_install_names -undefined dynamic_lookup -L/Library/Frameworks/R.framework/Resources/lib -L/opt/R/arm64/lib -o scGPS.so RcppExports.o dist_mat_cpp.o dist_parallel_cpp.o utils_rcpp.o -L/Library/Frameworks/R.framework/Resources/lib -lRlapack -L/Library/Frameworks/R.framework/Resources/lib -lRblas -L/opt/gfortran/lib/gcc/aarch64-apple-darwin20.0/14.2.0 -L/opt/gfortran/lib -lemutls_w -lheapt_w -lgfortran -lquadmath -F/Library/Frameworks/R.framework/.. -framework R
installing to /Library/Frameworks/R.framework/Versions/4.6-arm64/Resources/library/00LOCK-scGPS/00new/scGPS/libs
** R
** data
*** moving datasets to lazyload DB
** byte-compile and prepare package for lazy loading
** help
*** installing help indices
*** copying figures
** building package indices
** installing vignettes
** testing if installed package can be loaded from temporary location
** checking absolute paths in shared objects and dynamic libraries
** testing if installed package can be loaded from final location
** testing if installed package keeps a record of temporary installation path
* DONE (scGPS)

Tests output

scGPS.Rcheck/tests/testthat.Rout


R Under development (unstable) (2025-11-04 r88984) -- "Unsuffered Consequences"
Copyright (C) 2025 The R Foundation for Statistical Computing
Platform: aarch64-apple-darwin20

R is free software and comes with ABSOLUTELY NO WARRANTY.
You are welcome to redistribute it under certain conditions.
Type 'license()' or 'licence()' for distribution details.

R is a collaborative project with many contributors.
Type 'contributors()' for more information and
'citation()' on how to cite R or R packages in publications.

Type 'demo()' for some demos, 'help()' for on-line help, or
'help.start()' for an HTML browser interface to help.
Type 'q()' to quit R.

> library(testthat)
> library(scGPS)
Loading required package: SummarizedExperiment
Loading required package: MatrixGenerics
Loading required package: matrixStats

Attaching package: 'MatrixGenerics'

The following objects are masked from 'package:matrixStats':

    colAlls, colAnyNAs, colAnys, colAvgsPerRowSet, colCollapse,
    colCounts, colCummaxs, colCummins, colCumprods, colCumsums,
    colDiffs, colIQRDiffs, colIQRs, colLogSumExps, colMadDiffs,
    colMads, colMaxs, colMeans2, colMedians, colMins, colOrderStats,
    colProds, colQuantiles, colRanges, colRanks, colSdDiffs, colSds,
    colSums2, colTabulates, colVarDiffs, colVars, colWeightedMads,
    colWeightedMeans, colWeightedMedians, colWeightedSds,
    colWeightedVars, rowAlls, rowAnyNAs, rowAnys, rowAvgsPerColSet,
    rowCollapse, rowCounts, rowCummaxs, rowCummins, rowCumprods,
    rowCumsums, rowDiffs, rowIQRDiffs, rowIQRs, rowLogSumExps,
    rowMadDiffs, rowMads, rowMaxs, rowMeans2, rowMedians, rowMins,
    rowOrderStats, rowProds, rowQuantiles, rowRanges, rowRanks,
    rowSdDiffs, rowSds, rowSums2, rowTabulates, rowVarDiffs, rowVars,
    rowWeightedMads, rowWeightedMeans, rowWeightedMedians,
    rowWeightedSds, rowWeightedVars

Loading required package: GenomicRanges
Loading required package: stats4
Loading required package: BiocGenerics
Loading required package: generics

Attaching package: 'generics'

The following objects are masked from 'package:base':

    as.difftime, as.factor, as.ordered, intersect, is.element, setdiff,
    setequal, union


Attaching package: 'BiocGenerics'

The following objects are masked from 'package:stats':

    IQR, mad, sd, var, xtabs

The following objects are masked from 'package:base':

    Filter, Find, Map, Position, Reduce, anyDuplicated, aperm, append,
    as.data.frame, basename, cbind, colnames, dirname, do.call,
    duplicated, eval, evalq, get, grep, grepl, is.unsorted, lapply,
    mapply, match, mget, order, paste, pmax, pmax.int, pmin, pmin.int,
    rank, rbind, rownames, sapply, saveRDS, table, tapply, unique,
    unsplit, which.max, which.min

Loading required package: S4Vectors

Attaching package: 'S4Vectors'

The following object is masked from 'package:utils':

    findMatches

The following objects are masked from 'package:base':

    I, expand.grid, unname

Loading required package: IRanges
Loading required package: Seqinfo
Loading required package: Biobase
Welcome to Bioconductor

    Vignettes contain introductory material; view with
    'browseVignettes()'. To cite Bioconductor, see
    'citation("Biobase")', and for packages 'citation("pkgname")'.


Attaching package: 'Biobase'

The following object is masked from 'package:MatrixGenerics':

    rowMedians

The following objects are masked from 'package:matrixStats':

    anyMissing, rowMedians

Loading required package: dynamicTreeCut
Loading required package: SingleCellExperiment
> 
> test_check("scGPS")
[ FAIL 0 | WARN 0 | SKIP 0 | PASS 2 ]
> 
> proc.time()
   user  system elapsed 
  4.988   0.227   5.789 

Example timings

scGPS.Rcheck/scGPS-Ex.timings

nameusersystemelapsed
CORE_bagging3.5120.0903.186
CORE_clustering1.5810.0341.032
CORE_subcluster1.5670.0231.090
PCA0.5950.0370.840
PrinComp_cpp0.0590.0010.081
annotate_clusters26.076 3.86732.599
bootstrap_parallel0.1010.0060.110
bootstrap_prediction1.1420.0331.257
calcDist0.6980.2341.001
calcDistArma000
clustering1.5910.0691.009
clustering_bagging2.6640.0992.265
distvec000
find_markers25.894 0.26128.213
find_optimal_stability1.6240.0551.059
find_stability1.5600.0471.010
mean_cpp0.0020.0010.003
new_scGPS_object0.0510.0030.056
new_summarized_scGPS_object0.0070.0030.011
plot_CORE1.6240.0561.049
plot_optimal_CORE1.8190.0451.261
plot_reduced1.5470.0911.762
predicting0.3180.0180.387
rand_index1.6200.1181.113
rcpp_Eucl_distance_NotPar0.0070.0010.008
rcpp_parallel_distance0.0620.0020.070
reformat_LASSO0.8480.0410.992
sub_clustering0.0650.0150.076
subset_cpp0.0610.0050.066
summary_accuracy0.4730.0210.507
summary_deviance0.9040.0781.074
summary_prediction_lasso0.4920.0170.579
summary_prediction_lda0.4980.0350.644
tSNE1.6360.0931.962
top_var0.0510.0090.069
tp_cpp0.0640.0040.080
training0.1390.0120.165
var_cpp0.0030.0010.003