Back to Multiple platform build/check report for BioC 3.22:   simplified   long
ABCDEFGHIJKLMNOPQ[R]STUVWXYZ

This page was generated on 2025-07-24 12:07 -0400 (Thu, 24 Jul 2025).

HostnameOSArch (*)R versionInstalled pkgs
nebbiolo2Linux (Ubuntu 24.04.2 LTS)x86_644.5.1 (2025-06-13) -- "Great Square Root" 4792
palomino8Windows Server 2022 Datacenterx644.5.1 (2025-06-13 ucrt) -- "Great Square Root" 4530
lconwaymacOS 12.7.1 Montereyx86_644.5.1 (2025-06-13) -- "Great Square Root" 4573
kjohnson3macOS 13.7.1 Venturaarm644.5.1 Patched (2025-06-14 r88325) -- "Great Square Root" 4514
taishanLinux (openEuler 24.03 LTS)aarch644.5.0 (2025-04-11) -- "How About a Twenty-Six" 4510
Click on any hostname to see more info about the system (e.g. compilers)      (*) as reported by 'uname -p', except on Windows and Mac OS X

Package 1670/2311HostnameOS / ArchINSTALLBUILDCHECKBUILD BIN
randRotation 1.21.0  (landing page)
Peter Hettegger
Snapshot Date: 2025-07-23 13:25 -0400 (Wed, 23 Jul 2025)
git_url: https://git.bioconductor.org/packages/randRotation
git_branch: devel
git_last_commit: e688e6b
git_last_commit_date: 2025-04-15 11:57:34 -0400 (Tue, 15 Apr 2025)
nebbiolo2Linux (Ubuntu 24.04.2 LTS) / x86_64  OK    OK    OK  UNNEEDED, same version is already published
palomino8Windows Server 2022 Datacenter / x64  OK    OK    OK    OK  UNNEEDED, same version is already published
lconwaymacOS 12.7.1 Monterey / x86_64  OK    OK    OK    OK  UNNEEDED, same version is already published
kjohnson3macOS 13.7.1 Ventura / arm64  OK    ERROR  skippedskipped
taishanLinux (openEuler 24.03 LTS) / aarch64  OK    OK    ERROR  


BUILD results for randRotation on nebbiolo2

To the developers/maintainers of the randRotation package:
- Allow up to 24 hours (and sometimes 48 hours) for your latest push to git@git.bioconductor.org:packages/randRotation.git to reflect on this report. See Troubleshooting Build Report for more information.
- Use the following Renviron settings to reproduce errors and warnings.
- If 'R CMD check' started to fail recently on the Linux builder(s) over a missing dependency, add the missing dependency to 'Suggests:' in your DESCRIPTION file. See Renviron.bioc for more information.

raw results


Summary

Package: randRotation
Version: 1.21.0
Command: /home/biocbuild/bbs-3.22-bioc/R/bin/R CMD build --keep-empty-dirs --no-resave-data --md5 randRotation
StartedAt: 2025-07-23 19:00:48 -0400 (Wed, 23 Jul 2025)
EndedAt: 2025-07-23 19:02:35 -0400 (Wed, 23 Jul 2025)
EllapsedTime: 107.1 seconds
RetCode: 0
Status:   OK  
PackageFile: randRotation_1.21.0.tar.gz
PackageFileSize: 975.9 KiB

Command output

##############################################################################
##############################################################################
###
### Running command:
###
###   /home/biocbuild/bbs-3.22-bioc/R/bin/R CMD build --keep-empty-dirs --no-resave-data --md5 randRotation
###
##############################################################################
##############################################################################


* checking for file ‘randRotation/DESCRIPTION’ ... OK
* preparing ‘randRotation’:
* checking DESCRIPTION meta-information ... OK
* installing the package to process help pages
Loading required namespace: randRotation
* saving partial Rd database
* creating vignettes ... OK
* checking for LF line-endings in source and make files and shell scripts
* checking for empty or unneeded directories
Omitted ‘LazyData’ from DESCRIPTION
* adding MD5 file
* building ‘randRotation_1.21.0.tar.gz’