Back to Multiple platform build/check report for BioC 3.22: simplified long |
|
This page was generated on 2025-05-22 12:09 -0400 (Thu, 22 May 2025).
Hostname | OS | Arch (*) | R version | Installed pkgs |
---|---|---|---|---|
nebbiolo2 | Linux (Ubuntu 24.04.1 LTS) | x86_64 | 4.5.0 (2025-04-11) -- "How About a Twenty-Six" | 4750 |
palomino8 | Windows Server 2022 Datacenter | x64 | 4.5.0 (2025-04-11 ucrt) -- "How About a Twenty-Six" | 4525 |
lconway | macOS 12.7.1 Monterey | x86_64 | 4.5.0 Patched (2025-04-21 r88169) -- "How About a Twenty-Six" | 4550 |
kjohnson3 | macOS 13.7.1 Ventura | arm64 | 4.5.0 Patched (2025-04-21 r88169) -- "How About a Twenty-Six" | 4491 |
taishan | Linux (openEuler 24.03 LTS) | aarch64 | 4.5.0 (2025-04-11) -- "How About a Twenty-Six" | 4455 |
Click on any hostname to see more info about the system (e.g. compilers) (*) as reported by 'uname -p', except on Windows and Mac OS X |
Package 1636/2304 | Hostname | OS / Arch | INSTALL | BUILD | CHECK | BUILD BIN | ||||||||
qpgraph 2.43.0 (landing page) Robert Castelo
| nebbiolo2 | Linux (Ubuntu 24.04.1 LTS) / x86_64 | OK | OK | OK | ![]() | ||||||||
palomino8 | Windows Server 2022 Datacenter / x64 | OK | OK | OK | OK | ![]() | ||||||||
lconway | macOS 12.7.1 Monterey / x86_64 | OK | OK | OK | OK | ![]() | ||||||||
kjohnson3 | macOS 13.7.1 Ventura / arm64 | OK | OK | OK | OK | ![]() | ||||||||
taishan | Linux (openEuler 24.03 LTS) / aarch64 | OK | OK | OK | ||||||||||
To the developers/maintainers of the qpgraph package: - Allow up to 24 hours (and sometimes 48 hours) for your latest push to git@git.bioconductor.org:packages/qpgraph.git to reflect on this report. See Troubleshooting Build Report for more information. - Use the following Renviron settings to reproduce errors and warnings. - If 'R CMD check' started to fail recently on the Linux builder(s) over a missing dependency, add the missing dependency to 'Suggests:' in your DESCRIPTION file. See Renviron.bioc for more information. |
Package: qpgraph |
Version: 2.43.0 |
Command: /Library/Frameworks/R.framework/Resources/bin/R CMD check --install=check:qpgraph.install-out.txt --library=/Library/Frameworks/R.framework/Resources/library --no-vignettes --timings qpgraph_2.43.0.tar.gz |
StartedAt: 2025-05-21 22:36:28 -0400 (Wed, 21 May 2025) |
EndedAt: 2025-05-21 22:42:00 -0400 (Wed, 21 May 2025) |
EllapsedTime: 332.5 seconds |
RetCode: 0 |
Status: OK |
CheckDir: qpgraph.Rcheck |
Warnings: 0 |
############################################################################## ############################################################################## ### ### Running command: ### ### /Library/Frameworks/R.framework/Resources/bin/R CMD check --install=check:qpgraph.install-out.txt --library=/Library/Frameworks/R.framework/Resources/library --no-vignettes --timings qpgraph_2.43.0.tar.gz ### ############################################################################## ############################################################################## * using log directory ‘/Users/biocbuild/bbs-3.22-bioc/meat/qpgraph.Rcheck’ * using R version 4.5.0 Patched (2025-04-21 r88169) * using platform: x86_64-apple-darwin20 * R was compiled by Apple clang version 14.0.0 (clang-1400.0.29.202) GNU Fortran (GCC) 14.2.0 * running under: macOS Monterey 12.7.6 * using session charset: UTF-8 * using option ‘--no-vignettes’ * checking for file ‘qpgraph/DESCRIPTION’ ... OK * this is package ‘qpgraph’ version ‘2.43.0’ * checking package namespace information ... OK * checking package dependencies ... OK * checking if this is a source package ... OK * checking if there is a namespace ... OK * checking for hidden files and directories ... OK * checking for portable file names ... OK * checking for sufficient/correct file permissions ... OK * checking whether package ‘qpgraph’ can be installed ... OK * used C compiler: ‘Apple clang version 14.0.0 (clang-1400.0.29.202)’ * used SDK: ‘MacOSX11.3.sdk’ * checking installed package size ... OK * checking package directory ... OK * checking ‘build’ directory ... OK * checking DESCRIPTION meta-information ... OK * checking top-level files ... OK * checking for left-over files ... OK * checking index information ... OK * checking package subdirectories ... OK * checking code files for non-ASCII characters ... OK * checking R files for syntax errors ... OK * checking whether the package can be loaded ... OK * checking whether the package can be loaded with stated dependencies ... OK * checking whether the package can be unloaded cleanly ... OK * checking whether the namespace can be loaded with stated dependencies ... OK * checking whether the namespace can be unloaded cleanly ... OK * checking whether startup messages can be suppressed ... OK * checking dependencies in R code ... OK * checking S3 generic/method consistency ... OK * checking replacement functions ... OK * checking foreign function calls ... OK * checking R code for possible problems ... OK * checking Rd files ... OK * checking Rd metadata ... OK * checking Rd cross-references ... OK * checking for missing documentation entries ... OK * checking for code/documentation mismatches ... OK * checking Rd \usage sections ... OK * checking Rd contents ... OK * checking for unstated dependencies in examples ... OK * checking contents of ‘data’ directory ... OK * checking data for non-ASCII characters ... OK * checking LazyData ... OK * checking data for ASCII and uncompressed saves ... OK * checking line endings in shell scripts ... OK * checking line endings in C/C++/Fortran sources/headers ... OK * checking line endings in Makefiles ... OK * checking compilation flags in Makevars ... OK * checking for GNU extensions in Makefiles ... OK * checking for portable use of $(BLAS_LIBS) and $(LAPACK_LIBS) ... OK * checking use of PKG_*FLAGS in Makefiles ... OK * checking compiled code ... NOTE Note: information on .o files is not available * checking sizes of PDF files under ‘inst/doc’ ... OK * checking installed files from ‘inst/doc’ ... OK * checking files in ‘vignettes’ ... OK * checking examples ... OK * checking for unstated dependencies in ‘tests’ ... OK * checking tests ... Running ‘runTests.R’ OK * checking for unstated dependencies in vignettes ... OK * checking package vignettes ... OK * checking running R code from vignettes ... SKIPPED * checking re-building of vignette outputs ... SKIPPED * checking PDF version of manual ... OK * DONE Status: 1 NOTE See ‘/Users/biocbuild/bbs-3.22-bioc/meat/qpgraph.Rcheck/00check.log’ for details.
qpgraph.Rcheck/00install.out
############################################################################## ############################################################################## ### ### Running command: ### ### /Library/Frameworks/R.framework/Resources/bin/R CMD INSTALL qpgraph ### ############################################################################## ############################################################################## * installing to library ‘/Library/Frameworks/R.framework/Versions/4.5-x86_64/Resources/library’ * installing *source* package ‘qpgraph’ ... ** this is package ‘qpgraph’ version ‘2.43.0’ ** using staged installation checking for gcc... clang -arch x86_64 checking for C compiler default output file name... a.out checking whether the C compiler works... yes checking whether we are cross compiling... no checking for suffix of executables... checking for suffix of object files... o checking whether we are using the GNU C compiler... yes checking whether clang -arch x86_64 accepts -g... yes checking for clang -arch x86_64 option to accept ANSI C... none needed checking build system type... x86_64-apple-darwin21.6.0 checking host system type... x86_64-apple-darwin21.6.0 configure: creating ./config.status config.status: creating src/Makevars ** libs using C compiler: ‘Apple clang version 14.0.0 (clang-1400.0.29.202)’ using SDK: ‘MacOSX11.3.sdk’ clang -arch x86_64 -I"/Library/Frameworks/R.framework/Resources/include" -DNDEBUG -I/opt/R/x86_64/include -DUSE_FC_LEN_T -I/opt/R/x86_64/include -falign-functions=64 -Wall -g -O2 -Wall -pedantic -fPIC -falign-functions=64 -Wall -g -O2 -c cliquer.c -o cliquer.o clang -arch x86_64 -I"/Library/Frameworks/R.framework/Resources/include" -DNDEBUG -I/opt/R/x86_64/include -DUSE_FC_LEN_T -I/opt/R/x86_64/include -falign-functions=64 -Wall -g -O2 -Wall -pedantic -fPIC -falign-functions=64 -Wall -g -O2 -c graph.c -o graph.o clang -arch x86_64 -I"/Library/Frameworks/R.framework/Resources/include" -DNDEBUG -I/opt/R/x86_64/include -DUSE_FC_LEN_T -I/opt/R/x86_64/include -falign-functions=64 -Wall -g -O2 -Wall -pedantic -fPIC -falign-functions=64 -Wall -g -O2 -c qpgraph.c -o qpgraph.o clang -arch x86_64 -I"/Library/Frameworks/R.framework/Resources/include" -DNDEBUG -I/opt/R/x86_64/include -DUSE_FC_LEN_T -I/opt/R/x86_64/include -falign-functions=64 -Wall -g -O2 -Wall -pedantic -fPIC -falign-functions=64 -Wall -g -O2 -c reorder.c -o reorder.o clang -arch x86_64 -dynamiclib -Wl,-headerpad_max_install_names -undefined dynamic_lookup -L/Library/Frameworks/R.framework/Resources/lib -L/opt/R/x86_64/lib -o qpgraph.so cliquer.o graph.o qpgraph.o reorder.o -L/Library/Frameworks/R.framework/Resources/lib -lRlapack -L/Library/Frameworks/R.framework/Resources/lib -lRblas -L/opt/gfortran/lib/gcc/x86_64-apple-darwin20.0/14.2.0 -L/opt/gfortran/lib -lemutls_w -lheapt_w -lgfortran -lquadmath -F/Library/Frameworks/R.framework/.. -framework R installing to /Library/Frameworks/R.framework/Versions/4.5-x86_64/Resources/library/00LOCK-qpgraph/00new/qpgraph/libs ** R ** data *** moving datasets to lazyload DB ** inst ** byte-compile and prepare package for lazy loading Creating a generic function for ‘det’ from package ‘Matrix’ in package ‘qpgraph’ ** help *** installing help indices ** building package indices ** installing vignettes ** testing if installed package can be loaded from temporary location ** checking absolute paths in shared objects and dynamic libraries ** testing if installed package can be loaded from final location ** testing if installed package keeps a record of temporary installation path * DONE (qpgraph)
qpgraph.Rcheck/tests/runTests.Rout
R version 4.5.0 Patched (2025-04-21 r88169) -- "How About a Twenty-Six" Copyright (C) 2025 The R Foundation for Statistical Computing Platform: x86_64-apple-darwin20 R is free software and comes with ABSOLUTELY NO WARRANTY. You are welcome to redistribute it under certain conditions. Type 'license()' or 'licence()' for distribution details. R is a collaborative project with many contributors. Type 'contributors()' for more information and 'citation()' on how to cite R or R packages in publications. Type 'demo()' for some demos, 'help()' for on-line help, or 'help.start()' for an HTML browser interface to help. Type 'q()' to quit R. > BiocGenerics:::testPackage("qpgraph") Using t tests for zero partial regression coefficients. Using exact likelihood ratio tests. RUNIT TEST PROTOCOL -- Wed May 21 22:41:46 2025 *********************************************** Number of test functions: 3 Number of errors: 0 Number of failures: 0 1 Test Suite : qpgraph RUnit Tests - 3 test functions, 0 errors, 0 failures Number of test functions: 3 Number of errors: 0 Number of failures: 0 > > proc.time() user system elapsed 16.304 0.650 17.045
qpgraph.Rcheck/qpgraph-Ex.timings
name | user | system | elapsed | |
EcoliOxygen | 0.002 | 0.001 | 0.003 | |
filterCollinearities | 0.075 | 0.008 | 0.084 | |
qpAllCItests | 0.093 | 0.008 | 0.103 | |
qpAnyGraph | 0.12 | 0.01 | 0.13 | |
qpAvgNrr | 1.300 | 0.013 | 1.320 | |
qpBoundary | 0.352 | 0.007 | 0.360 | |
qpCItest | 0.111 | 0.012 | 0.123 | |
qpClique | 0.386 | 0.011 | 0.402 | |
qpCliqueNumber | 0.319 | 0.015 | 0.336 | |
qpCov | 0.094 | 0.006 | 0.102 | |
qpEdgeNrr | 0.109 | 0.003 | 0.113 | |
qpFunctionalCoherence | 0.000 | 0.001 | 0.001 | |
qpG2Sigma | 0.005 | 0.001 | 0.006 | |
qpGenNrr | 0.569 | 0.007 | 0.577 | |
qpGetCliques | 0.267 | 0.008 | 0.277 | |
qpGraphDensity | 0.322 | 0.003 | 0.327 | |
qpHTF | 0.102 | 0.006 | 0.109 | |
qpHist | 0.206 | 0.004 | 0.210 | |
qpIPF | 0.137 | 0.007 | 0.145 | |
qpK2ParCor | 0.060 | 0.004 | 0.064 | |
qpNrr | 0.145 | 0.002 | 0.148 | |
qpPAC | 0.258 | 0.007 | 0.266 | |
qpPCC | 0.092 | 0.004 | 0.097 | |
qpPRscoreThreshold | 0.170 | 0.004 | 0.175 | |
qpPathWeight | 0.054 | 0.001 | 0.055 | |
qpPlotMap | 0.027 | 0.003 | 0.029 | |
qpPlotNetwork | 0.000 | 0.000 | 0.001 | |
qpPrecisionRecall | 0.192 | 0.003 | 0.196 | |
qpRndGraph | 0.005 | 0.000 | 0.005 | |
qpRndWishart | 0.007 | 0.002 | 0.008 | |
qpTopPairs | 0.002 | 0.001 | 0.002 | |
qpUnifRndAssociation | 0.002 | 0.000 | 0.002 | |
qpUpdateCliquesRemoving | 0 | 0 | 0 | |