| Back to Multiple platform build/check report for BioC 3.22: simplified long |
|
This page was generated on 2025-10-21 12:07 -0400 (Tue, 21 Oct 2025).
| Hostname | OS | Arch (*) | R version | Installed pkgs |
|---|---|---|---|---|
| nebbiolo2 | Linux (Ubuntu 24.04.3 LTS) | x86_64 | 4.5.1 Patched (2025-08-23 r88802) -- "Great Square Root" | 4887 |
| lconway | macOS 12.7.6 Monterey | x86_64 | 4.5.1 Patched (2025-09-10 r88807) -- "Great Square Root" | 4677 |
| kjohnson3 | macOS 13.7.7 Ventura | arm64 | 4.5.1 Patched (2025-09-10 r88807) -- "Great Square Root" | 4622 |
| taishan | Linux (openEuler 24.03 LTS) | aarch64 | 4.5.0 (2025-04-11) -- "How About a Twenty-Six" | 4642 |
| Click on any hostname to see more info about the system (e.g. compilers) (*) as reported by 'uname -p', except on Windows and Mac OS X | ||||
| Package 1654/2353 | Hostname | OS / Arch | INSTALL | BUILD | CHECK | BUILD BIN | ||||||||
| psichomics 1.35.0 (landing page) Nuno Saraiva-Agostinho
| nebbiolo2 | Linux (Ubuntu 24.04.3 LTS) / x86_64 | OK | OK | OK | |||||||||
| lconway | macOS 12.7.6 Monterey / x86_64 | OK | OK | OK | OK | |||||||||
| kjohnson3 | macOS 13.7.7 Ventura / arm64 | OK | OK | OK | OK | |||||||||
| taishan | Linux (openEuler 24.03 LTS) / aarch64 | OK | OK | OK | ||||||||||
|
To the developers/maintainers of the psichomics package: - Allow up to 24 hours (and sometimes 48 hours) for your latest push to git@git.bioconductor.org:packages/psichomics.git to reflect on this report. See Troubleshooting Build Report for more information. - Use the following Renviron settings to reproduce errors and warnings. - If 'R CMD check' started to fail recently on the Linux builder(s) over a missing dependency, add the missing dependency to 'Suggests:' in your DESCRIPTION file. See Renviron.bioc for more information. - See Martin Grigorov's blog post for how to debug Linux ARM64 related issues on a x86_64 host. |
| Package: psichomics |
| Version: 1.35.0 |
| Command: /home/biocbuild/R/R/bin/R CMD check --install=check:psichomics.install-out.txt --library=/home/biocbuild/R/R/site-library --no-vignettes --timings psichomics_1.35.0.tar.gz |
| StartedAt: 2025-10-17 12:25:48 -0000 (Fri, 17 Oct 2025) |
| EndedAt: 2025-10-17 12:36:31 -0000 (Fri, 17 Oct 2025) |
| EllapsedTime: 642.9 seconds |
| RetCode: 0 |
| Status: OK |
| CheckDir: psichomics.Rcheck |
| Warnings: 0 |
##############################################################################
##############################################################################
###
### Running command:
###
### /home/biocbuild/R/R/bin/R CMD check --install=check:psichomics.install-out.txt --library=/home/biocbuild/R/R/site-library --no-vignettes --timings psichomics_1.35.0.tar.gz
###
##############################################################################
##############################################################################
* using log directory ‘/home/biocbuild/bbs-3.22-bioc/meat/psichomics.Rcheck’
* using R version 4.5.0 (2025-04-11)
* using platform: aarch64-unknown-linux-gnu
* R was compiled by
aarch64-unknown-linux-gnu-gcc (GCC) 14.2.0
GNU Fortran (GCC) 14.2.0
* running under: openEuler 24.03 (LTS)
* using session charset: UTF-8
* using option ‘--no-vignettes’
* checking for file ‘psichomics/DESCRIPTION’ ... OK
* this is package ‘psichomics’ version ‘1.35.0’
* package encoding: UTF-8
* checking package namespace information ... OK
* checking package dependencies ... INFO
Imports includes 33 non-default packages.
Importing from so many packages makes the package vulnerable to any of
them becoming unavailable. Move as many as possible to Suggests and
use conditionally.
* checking if this is a source package ... OK
* checking if there is a namespace ... OK
* checking for hidden files and directories ... NOTE
Found the following hidden files and directories:
.devcontainer
These were most likely included in error. See section ‘Package
structure’ in the ‘Writing R Extensions’ manual.
* checking for portable file names ... OK
* checking for sufficient/correct file permissions ... OK
* checking whether package ‘psichomics’ can be installed ... OK
* used C++ compiler: ‘aarch64-unknown-linux-gnu-g++ (GCC) 14.2.0’
* checking installed package size ... OK
* checking package directory ... OK
* checking ‘build’ directory ... OK
* checking DESCRIPTION meta-information ... OK
* checking top-level files ... OK
* checking for left-over files ... OK
* checking index information ... OK
* checking package subdirectories ... OK
* checking code files for non-ASCII characters ... OK
* checking R files for syntax errors ... OK
* checking whether the package can be loaded ... OK
* checking whether the package can be loaded with stated dependencies ... OK
* checking whether the package can be unloaded cleanly ... OK
* checking whether the namespace can be loaded with stated dependencies ... OK
* checking whether the namespace can be unloaded cleanly ... OK
* checking loading without being on the library search path ... OK
* checking whether startup messages can be suppressed ... OK
* checking dependencies in R code ... OK
* checking S3 generic/method consistency ... OK
* checking replacement functions ... OK
* checking foreign function calls ... OK
* checking R code for possible problems ... OK
* checking Rd files ... OK
* checking Rd metadata ... OK
* checking Rd cross-references ... NOTE
Found the following Rd file(s) with Rd \link{} targets missing package
anchors:
colSums-EList-method.Rd: EList-class
renderDataTableSparklines.Rd: renderDataTable
showAlert.Rd: showModal
Please provide package anchors for all Rd \link{} targets not in the
package itself and the base packages.
* checking for missing documentation entries ... OK
* checking for code/documentation mismatches ... OK
* checking Rd \usage sections ... NOTE
Documented arguments not in \usage in Rd file 'createSparklines.Rd':
‘id’
Documented arguments not in \usage in Rd file 'renderGeneticInfo.Rd':
‘ns’
Functions with \usage entries need to have the appropriate \alias
entries, and all their arguments documented.
The \usage entries must correspond to syntactically valid R code.
See chapter ‘Writing R documentation files’ in the ‘Writing R
Extensions’ manual.
* checking Rd contents ... OK
* checking for unstated dependencies in examples ... OK
* checking line endings in C/C++/Fortran sources/headers ... OK
* checking compiled code ... NOTE
Note: information on .o files is not available
* checking files in ‘vignettes’ ... OK
* checking examples ... OK
Examples with CPU (user + system) or elapsed time > 5s
user system elapsed
convertGeneIdentifiers 17.590 2.387 29.122
listSplicingAnnotations 13.166 0.716 20.886
loadAnnotation 3.332 0.188 5.577
* checking for unstated dependencies in ‘tests’ ... OK
* checking tests ...
Running ‘spelling.R’
Running ‘testthat.R’
OK
* checking for unstated dependencies in vignettes ... OK
* checking package vignettes ... OK
* checking running R code from vignettes ... SKIPPED
* checking re-building of vignette outputs ... SKIPPED
* checking PDF version of manual ... OK
* DONE
Status: 4 NOTEs
See
‘/home/biocbuild/bbs-3.22-bioc/meat/psichomics.Rcheck/00check.log’
for details.
psichomics.Rcheck/00install.out
############################################################################## ############################################################################## ### ### Running command: ### ### /home/biocbuild/R/R/bin/R CMD INSTALL psichomics ### ############################################################################## ############################################################################## * installing to library ‘/home/biocbuild/R/R-4.5.0/site-library’ * installing *source* package ‘psichomics’ ... ** this is package ‘psichomics’ version ‘1.35.0’ ** using staged installation ** libs using C++ compiler: ‘aarch64-unknown-linux-gnu-g++ (GCC) 14.2.0’ /opt/ohpc/pub/compiler/gcc/14.2.0/bin/aarch64-unknown-linux-gnu-g++ -std=gnu++17 -I"/home/biocbuild/R/R-4.5.0/include" -DNDEBUG -I'/home/biocbuild/R/R-4.5.0/site-library/Rcpp/include' -I/usr/local/include -fPIC -g -O2 -Wall -Werror=format-security -c RcppExports.cpp -o RcppExports.o /opt/ohpc/pub/compiler/gcc/14.2.0/bin/aarch64-unknown-linux-gnu-g++ -std=gnu++17 -I"/home/biocbuild/R/R-4.5.0/include" -DNDEBUG -I'/home/biocbuild/R/R-4.5.0/site-library/Rcpp/include' -I/usr/local/include -fPIC -g -O2 -Wall -Werror=format-security -c progressBar.cpp -o progressBar.o /opt/ohpc/pub/compiler/gcc/14.2.0/bin/aarch64-unknown-linux-gnu-g++ -std=gnu++17 -I"/home/biocbuild/R/R-4.5.0/include" -DNDEBUG -I'/home/biocbuild/R/R-4.5.0/site-library/Rcpp/include' -I/usr/local/include -fPIC -g -O2 -Wall -Werror=format-security -c psiFastCalc.cpp -o psiFastCalc.o /opt/ohpc/pub/compiler/gcc/14.2.0/bin/aarch64-unknown-linux-gnu-g++ -std=gnu++17 -I"/home/biocbuild/R/R-4.5.0/include" -DNDEBUG -I'/home/biocbuild/R/R-4.5.0/site-library/Rcpp/include' -I/usr/local/include -fPIC -g -O2 -Wall -Werror=format-security -c vastToolsParser.cpp -o vastToolsParser.o /opt/ohpc/pub/compiler/gcc/14.2.0/bin/aarch64-unknown-linux-gnu-g++ -std=gnu++17 -shared -L/home/biocbuild/R/R-4.5.0/lib -L/usr/local/lib -o psichomics.so RcppExports.o progressBar.o psiFastCalc.o vastToolsParser.o -L/home/biocbuild/R/R-4.5.0/lib -lR installing to /home/biocbuild/R/R-4.5.0/site-library/00LOCK-psichomics/00new/psichomics/libs ** R ** inst ** byte-compile and prepare package for lazy loading Creating a generic function for ‘colSums’ from package ‘base’ in package ‘psichomics’ ** help *** installing help indices *** copying figures ** building package indices ** installing vignettes ** testing if installed package can be loaded from temporary location ** checking absolute paths in shared objects and dynamic libraries ** testing if installed package can be loaded from final location ** testing if installed package keeps a record of temporary installation path * DONE (psichomics)
psichomics.Rcheck/tests/spelling.Rout
R version 4.5.0 (2025-04-11) -- "How About a Twenty-Six"
Copyright (C) 2025 The R Foundation for Statistical Computing
Platform: aarch64-unknown-linux-gnu
R is free software and comes with ABSOLUTELY NO WARRANTY.
You are welcome to redistribute it under certain conditions.
Type 'license()' or 'licence()' for distribution details.
R is a collaborative project with many contributors.
Type 'contributors()' for more information and
'citation()' on how to cite R or R packages in publications.
Type 'demo()' for some demos, 'help()' for on-line help, or
'help.start()' for an HTML browser interface to help.
Type 'q()' to quit R.
> if(requireNamespace('spelling', quietly = TRUE))
+ spelling::spell_check_test(vignettes = TRUE, error = FALSE,
+ skip_on_cran = TRUE)
All Done!
>
> proc.time()
user system elapsed
0.212 0.014 0.210
psichomics.Rcheck/tests/testthat.Rout
R version 4.5.0 (2025-04-11) -- "How About a Twenty-Six"
Copyright (C) 2025 The R Foundation for Statistical Computing
Platform: aarch64-unknown-linux-gnu
R is free software and comes with ABSOLUTELY NO WARRANTY.
You are welcome to redistribute it under certain conditions.
Type 'license()' or 'licence()' for distribution details.
R is a collaborative project with many contributors.
Type 'contributors()' for more information and
'citation()' on how to cite R or R packages in publications.
Type 'demo()' for some demos, 'help()' for on-line help, or
'help.start()' for an HTML browser interface to help.
Type 'q()' to quit R.
> library(testthat)
> library(psichomics)
Loading required package: shiny
Loading required package: shinyBS
Setting options('download.file.method.GEOquery'='auto')
Setting options('GEOquery.inmemory.gpl'=FALSE)
psichomics 1.35.0: start the visual interface by running psichomics()
Full documentation and tutorials at https://nuno-agostinho.github.io/psichomics
>
> test_check("psichomics")
| | 0%
|======== | 20%
|================ | 40%
|======================== | 60%
|================================ | 80%
|========================================| 100%
| | 0%
|======== | 20%
|================ | 40%
|======================== | 60%
|================================ | 80%
|========================================| 100%
| | 0%
|======== | 20%
|================ | 40%
|======================== | 60%
|================================ | 80%
|========================================| 100%
| | 0%
|======== | 20%
|================ | 40%
|======================== | 60%
|================================ | 80%
|========================================| 100%
Retrieving rMATS annotation...
Parsing rMATS annotation...
Retrieving rMATS annotation...
Parsing rMATS annotation...
Retrieving MISO annotation...
Parsing MISO annotation...
| | 0%
|======== | 20%
|================ | 40%
|======================== | 60%
|================================ | 80%
|========================================| 100%
| | 0%
|======== | 20%
|================ | 40%
|======================== | 60%
|================================ | 80%
|========================================| 100%
| | 0%
|======== | 20%
|================ | 40%
|======================== | 60%
|================================ | 80%
|========================================| 100%
| | 0%
|======== | 20%
|================ | 40%
|======================== | 60%
|================================ | 80%
|========================================| 100%
| | 0%
|======== | 20%
|================ | 40%
|======================== | 60%
|================================ | 80%
|========================================| 100%
| | 0%
|======== | 20%
|================ | 40%
|======================== | 60%
|================================ | 80%
|========================================| 100%
| | 0%
|======== | 20%
|================ | 40%
|======================== | 60%
|================================ | 80%
|========================================| 100%
| | 0%
|======== | 20%
|================ | 40%
|======================== | 60%
|================================ | 80%
|========================================| 100%
Retrieving SUPPA annotation...
Parsing SUPPA annotation...
Retrieving VAST-TOOLS annotation...
Parsing VAST-TOOLS annotation...
ALT3
ALT5
COMBI
EXSK
IR
MERGE3m
MIC
MULTI
[ FAIL 0 | WARN 0 | SKIP 4 | PASS 1418 ]
══ Skipped tests (4) ═══════════════════════════════════════════════════════════
• Couldn't resolve host name (1): 'testGeneInfo.R:99:5'
• On Bioconductor (2): 'testDiscardLowCoveragePSIs.R:62:5',
'testGeneInfo.R:50:5'
• On CRAN (1): 'testSRAloading.R:4:5'
[ FAIL 0 | WARN 0 | SKIP 4 | PASS 1418 ]
>
> proc.time()
user system elapsed
32.987 1.426 42.700
psichomics.Rcheck/psichomics-Ex.timings
| name | user | system | elapsed | |
| addObjectAttrs | 0.001 | 0.000 | 0.001 | |
| assignValuePerSubject | 0.014 | 0.008 | 0.023 | |
| blendColours | 0.001 | 0.000 | 0.001 | |
| calculateLoadingsContribution | 0.007 | 0.004 | 0.014 | |
| convertGeneIdentifiers | 17.590 | 2.387 | 29.122 | |
| correlateGEandAS | 0.023 | 0.000 | 0.024 | |
| createGroupByAttribute | 0.001 | 0.000 | 0.001 | |
| createJunctionsTemplate | 0.002 | 0.000 | 0.003 | |
| customRowMeans | 0.001 | 0.000 | 0.001 | |
| diffAnalyses | 0.096 | 0.000 | 0.096 | |
| downloadFiles | 0 | 0 | 0 | |
| ensemblToUniprot | 0.038 | 0.000 | 0.952 | |
| filterGeneExpr | 0.009 | 0.000 | 0.008 | |
| filterGroups | 0.002 | 0.000 | 0.002 | |
| filterPSI | 0.013 | 0.004 | 0.017 | |
| getAttributesTime | 0.003 | 0.000 | 0.003 | |
| getDownloadsFolder | 0.001 | 0.000 | 0.001 | |
| getFirebrowseDateFormat | 0 | 0 | 0 | |
| getGeneList | 0.004 | 0.000 | 0.005 | |
| getGtexDataTypes | 0.000 | 0.001 | 0.001 | |
| getGtexTissues | 0 | 0 | 0 | |
| getNumerics | 0.000 | 0.002 | 0.002 | |
| getSampleFromSubject | 0.001 | 0.000 | 0.001 | |
| getSplicingEventFromGenes | 0.004 | 0.000 | 0.005 | |
| getSplicingEventTypes | 0 | 0 | 0 | |
| getSubjectFromSample | 0 | 0 | 0 | |
| getTCGAdataTypes | 0.041 | 0.000 | 1.481 | |
| getValidEvents | 0.005 | 0.000 | 0.004 | |
| groupPerElem | 0.005 | 0.000 | 0.005 | |
| hchart.survfit | 0.320 | 0.032 | 0.355 | |
| isFirebrowseUp | 0.003 | 0.004 | 0.244 | |
| labelBasedOnCutoff | 0 | 0 | 0 | |
| leveneTest | 0.009 | 0.000 | 0.009 | |
| listAllAnnotations | 2.809 | 0.211 | 4.947 | |
| listSplicingAnnotations | 13.166 | 0.716 | 20.886 | |
| loadAnnotation | 3.332 | 0.188 | 5.577 | |
| loadGtexData | 0 | 0 | 0 | |
| loadLocalFiles | 0 | 0 | 0 | |
| loadSRAproject | 0 | 0 | 0 | |
| loadTCGAdata | 0.011 | 0.003 | 0.535 | |
| missingDataModal | 0 | 0 | 0 | |
| normaliseGeneExpression | 0.034 | 0.000 | 0.033 | |
| optimalSurvivalCutoff | 0.149 | 0.004 | 0.153 | |
| parseCategoricalGroups | 0.001 | 0.000 | 0.001 | |
| parseFirebrowseMetadata | 0.060 | 0.000 | 1.394 | |
| parseMatsEvent | 0.007 | 0.000 | 0.006 | |
| parseMatsGeneric | 0.028 | 0.000 | 0.028 | |
| parseMisoAnnotation | 0.173 | 0.009 | 0.212 | |
| parseMisoEvent | 0.005 | 0.000 | 0.006 | |
| parseMisoEventID | 0.007 | 0.000 | 0.008 | |
| parseMisoGeneric | 0.040 | 0.000 | 0.048 | |
| parseMisoId | 0.001 | 0.000 | 0.000 | |
| parseSplicingEvent | 0.006 | 0.000 | 0.005 | |
| parseSuppaEvent | 0.005 | 0.000 | 0.005 | |
| parseSuppaGeneric | 0.025 | 0.000 | 0.027 | |
| parseTcgaSampleInfo | 0.002 | 0.003 | 0.006 | |
| parseUrlsFromFirebrowseResponse | 0.038 | 0.000 | 0.867 | |
| parseVastToolsEvent | 0.008 | 0.000 | 0.008 | |
| parseVastToolsSE | 0.026 | 0.000 | 0.026 | |
| performICA | 0.005 | 0.004 | 0.008 | |
| performPCA | 0.002 | 0.000 | 0.002 | |
| plot.GEandAScorrelation | 0.939 | 0.052 | 0.999 | |
| plotDistribution | 0.943 | 0.104 | 1.049 | |
| plotGeneExprPerSample | 0.106 | 0.008 | 0.114 | |
| plotGroupIndependence | 0.555 | 0.000 | 0.555 | |
| plotICA | 0.164 | 0.004 | 0.175 | |
| plotLibrarySize | 0.260 | 0.008 | 0.269 | |
| plotPCA | 0.345 | 0.016 | 0.360 | |
| plotPCAvariance | 0.065 | 0.008 | 0.072 | |
| plotProtein | 0.859 | 0.032 | 2.100 | |
| plotRowStats | 0.845 | 0.004 | 0.856 | |
| plotSingleICA | 0.266 | 0.008 | 0.276 | |
| plotSplicingEvent | 0.062 | 0.000 | 0.063 | |
| plotSurvivalCurves | 0.109 | 0.008 | 0.119 | |
| plotSurvivalPvaluesByCutoff | 0.746 | 0.007 | 0.757 | |
| plotTranscripts | 0.026 | 0.000 | 1.269 | |
| prepareAnnotationFromEvents | 0.210 | 0.008 | 0.219 | |
| prepareFirebrowseArchives | 0 | 0 | 0 | |
| prepareJunctionQuantSTAR | 0 | 0 | 0 | |
| prepareSRAmetadata | 0 | 0 | 0 | |
| processSurvTerms | 0.012 | 0.000 | 0.011 | |
| psichomics | 0 | 0 | 0 | |
| quantifySplicing | 0.014 | 0.000 | 0.014 | |
| queryEnsembl | 0.034 | 0.004 | 0.566 | |
| queryEnsemblByGene | 0.116 | 0.004 | 2.178 | |
| queryFirebrowseData | 0.052 | 0.000 | 1.552 | |
| queryPubMed | 0.036 | 0.005 | 1.277 | |
| queryUniprot | 0.048 | 0.000 | 0.703 | |
| readFile | 0.001 | 0.000 | 0.001 | |
| renameDuplicated | 0.001 | 0.000 | 0.000 | |
| renderBoxplot | 0.101 | 0.000 | 0.102 | |
| survdiffTerms | 0.008 | 0.000 | 0.008 | |
| survfit.survTerms | 0.032 | 0.000 | 0.032 | |
| testGroupIndependence | 0.004 | 0.000 | 0.004 | |
| testSurvival | 0.029 | 0.000 | 0.030 | |
| textSuggestions | 0.000 | 0.000 | 0.001 | |
| trimWhitespace | 0 | 0 | 0 | |