Back to Multiple platform build/check report for BioC 3.23:   simplified   long
ABCDEFGHIJKLMNO[P]QRSTUVWXYZ

This page was generated on 2025-11-22 11:37 -0500 (Sat, 22 Nov 2025).

HostnameOSArch (*)R versionInstalled pkgs
nebbiolo1Linux (Ubuntu 24.04.3 LTS)x86_64R Under development (unstable) (2025-10-20 r88955) -- "Unsuffered Consequences" 4829
lconwaymacOS 12.7.6 Montereyx86_64R Under development (unstable) (2025-10-21 r88958) -- "Unsuffered Consequences" 4603
kjohnson3macOS 13.7.7 Venturaarm64R Under development (unstable) (2025-11-04 r88984) -- "Unsuffered Consequences" 4567
Click on any hostname to see more info about the system (e.g. compilers)      (*) as reported by 'uname -p', except on Windows and Mac OS X

Package 1642/2327HostnameOS / ArchINSTALLBUILDCHECKBUILD BIN
psichomics 1.37.0  (landing page)
Nuno Saraiva-Agostinho
Snapshot Date: 2025-11-21 13:40 -0500 (Fri, 21 Nov 2025)
git_url: https://git.bioconductor.org/packages/psichomics
git_branch: devel
git_last_commit: a7c8792
git_last_commit_date: 2025-10-29 10:35:05 -0500 (Wed, 29 Oct 2025)
nebbiolo1Linux (Ubuntu 24.04.3 LTS) / x86_64  OK    OK    OK  UNNEEDED, same version is already published
lconwaymacOS 12.7.6 Monterey / x86_64  OK    OK    OK    OK  UNNEEDED, same version is already published
kjohnson3macOS 13.7.7 Ventura / arm64  OK    OK    OK    OK  UNNEEDED, same version is already published


CHECK results for psichomics on nebbiolo1

To the developers/maintainers of the psichomics package:
- Allow up to 24 hours (and sometimes 48 hours) for your latest push to git@git.bioconductor.org:packages/psichomics.git to reflect on this report. See Troubleshooting Build Report for more information.
- Use the following Renviron settings to reproduce errors and warnings.
- If 'R CMD check' started to fail recently on the Linux builder(s) over a missing dependency, add the missing dependency to 'Suggests:' in your DESCRIPTION file. See Renviron.bioc for more information.

raw results


Summary

Package: psichomics
Version: 1.37.0
Command: /home/biocbuild/bbs-3.23-bioc/R/bin/R CMD check --install=check:psichomics.install-out.txt --library=/home/biocbuild/bbs-3.23-bioc/R/site-library --timings psichomics_1.37.0.tar.gz
StartedAt: 2025-11-22 02:52:22 -0500 (Sat, 22 Nov 2025)
EndedAt: 2025-11-22 03:01:09 -0500 (Sat, 22 Nov 2025)
EllapsedTime: 526.7 seconds
RetCode: 0
Status:   OK  
CheckDir: psichomics.Rcheck
Warnings: 0

Command output

##############################################################################
##############################################################################
###
### Running command:
###
###   /home/biocbuild/bbs-3.23-bioc/R/bin/R CMD check --install=check:psichomics.install-out.txt --library=/home/biocbuild/bbs-3.23-bioc/R/site-library --timings psichomics_1.37.0.tar.gz
###
##############################################################################
##############################################################################


* using log directory ‘/home/biocbuild/bbs-3.23-bioc/meat/psichomics.Rcheck’
* using R Under development (unstable) (2025-10-20 r88955)
* using platform: x86_64-pc-linux-gnu
* R was compiled by
    gcc (Ubuntu 13.3.0-6ubuntu2~24.04) 13.3.0
    GNU Fortran (Ubuntu 13.3.0-6ubuntu2~24.04) 13.3.0
* running under: Ubuntu 24.04.3 LTS
* using session charset: UTF-8
* checking for file ‘psichomics/DESCRIPTION’ ... OK
* this is package ‘psichomics’ version ‘1.37.0’
* package encoding: UTF-8
* checking package namespace information ... OK
* checking package dependencies ... INFO
Imports includes 33 non-default packages.
Importing from so many packages makes the package vulnerable to any of
them becoming unavailable.  Move as many as possible to Suggests and
use conditionally.
* checking if this is a source package ... OK
* checking if there is a namespace ... OK
* checking for hidden files and directories ... NOTE
Found the following hidden files and directories:
  .devcontainer
These were most likely included in error. See section ‘Package
structure’ in the ‘Writing R Extensions’ manual.
* checking for portable file names ... OK
* checking for sufficient/correct file permissions ... OK
* checking whether package ‘psichomics’ can be installed ... OK
* used C++ compiler: ‘g++ (Ubuntu 13.3.0-6ubuntu2~24.04) 13.3.0’
* checking installed package size ... OK
* checking package directory ... OK
* checking ‘build’ directory ... OK
* checking DESCRIPTION meta-information ... OK
* checking top-level files ... OK
* checking for left-over files ... OK
* checking index information ... OK
* checking package subdirectories ... OK
* checking code files for non-ASCII characters ... OK
* checking R files for syntax errors ... OK
* checking whether the package can be loaded ... OK
* checking whether the package can be loaded with stated dependencies ... OK
* checking whether the package can be unloaded cleanly ... OK
* checking whether the namespace can be loaded with stated dependencies ... OK
* checking whether the namespace can be unloaded cleanly ... OK
* checking loading without being on the library search path ... OK
* checking whether startup messages can be suppressed ... OK
* checking dependencies in R code ... OK
* checking S3 generic/method consistency ... OK
* checking replacement functions ... OK
* checking foreign function calls ... OK
* checking R code for possible problems ... OK
* checking Rd files ... OK
* checking Rd metadata ... OK
* checking Rd cross-references ... NOTE
Found the following Rd file(s) with Rd \link{} targets missing package
anchors:
  colSums-EList-method.Rd: EList-class
  renderDataTableSparklines.Rd: renderDataTable
  showAlert.Rd: showModal
Please provide package anchors for all Rd \link{} targets not in the
package itself and the base packages.
* checking for missing documentation entries ... OK
* checking for code/documentation mismatches ... OK
* checking Rd \usage sections ... NOTE
Documented arguments not in \usage in Rd file 'createSparklines.Rd':
  ‘id’

Documented arguments not in \usage in Rd file 'renderGeneticInfo.Rd':
  ‘ns’

Functions with \usage entries need to have the appropriate \alias
entries, and all their arguments documented.
The \usage entries must correspond to syntactically valid R code.
See chapter ‘Writing R documentation files’ in the ‘Writing R
Extensions’ manual.
* checking Rd contents ... OK
* checking for unstated dependencies in examples ... OK
* checking line endings in C/C++/Fortran sources/headers ... OK
* checking compiled code ... INFO
Note: information on .o files is not available
* checking files in ‘vignettes’ ... OK
* checking examples ... OK
Examples with CPU (user + system) or elapsed time > 5s
                          user system elapsed
convertGeneIdentifiers  13.881  1.446  16.076
listSplicingAnnotations 11.324  1.738  13.739
* checking for unstated dependencies in ‘tests’ ... OK
* checking tests ...
  Running ‘spelling.R’
  Running ‘testthat.R’
 OK
* checking for unstated dependencies in vignettes ... OK
* checking package vignettes ... OK
* checking re-building of vignette outputs ... OK
* checking PDF version of manual ... OK
* DONE

Status: 3 NOTEs
See
  ‘/home/biocbuild/bbs-3.23-bioc/meat/psichomics.Rcheck/00check.log’
for details.


Installation output

psichomics.Rcheck/00install.out

##############################################################################
##############################################################################
###
### Running command:
###
###   /home/biocbuild/bbs-3.23-bioc/R/bin/R CMD INSTALL psichomics
###
##############################################################################
##############################################################################


* installing to library ‘/home/biocbuild/bbs-3.23-bioc/R/site-library’
* installing *source* package ‘psichomics’ ...
** this is package ‘psichomics’ version ‘1.37.0’
** using staged installation
** libs
using C++ compiler: ‘g++ (Ubuntu 13.3.0-6ubuntu2~24.04) 13.3.0’
g++ -std=gnu++17 -I"/home/biocbuild/bbs-3.23-bioc/R/include" -DNDEBUG  -I'/home/biocbuild/bbs-3.23-bioc/R/site-library/Rcpp/include' -I/usr/local/include    -fpic  -g -O2  -Wall -Werror=format-security  -c RcppExports.cpp -o RcppExports.o
g++ -std=gnu++17 -I"/home/biocbuild/bbs-3.23-bioc/R/include" -DNDEBUG  -I'/home/biocbuild/bbs-3.23-bioc/R/site-library/Rcpp/include' -I/usr/local/include    -fpic  -g -O2  -Wall -Werror=format-security  -c progressBar.cpp -o progressBar.o
g++ -std=gnu++17 -I"/home/biocbuild/bbs-3.23-bioc/R/include" -DNDEBUG  -I'/home/biocbuild/bbs-3.23-bioc/R/site-library/Rcpp/include' -I/usr/local/include    -fpic  -g -O2  -Wall -Werror=format-security  -c psiFastCalc.cpp -o psiFastCalc.o
g++ -std=gnu++17 -I"/home/biocbuild/bbs-3.23-bioc/R/include" -DNDEBUG  -I'/home/biocbuild/bbs-3.23-bioc/R/site-library/Rcpp/include' -I/usr/local/include    -fpic  -g -O2  -Wall -Werror=format-security  -c vastToolsParser.cpp -o vastToolsParser.o
g++ -std=gnu++17 -shared -L/home/biocbuild/bbs-3.23-bioc/R/lib -L/usr/local/lib -o psichomics.so RcppExports.o progressBar.o psiFastCalc.o vastToolsParser.o -L/home/biocbuild/bbs-3.23-bioc/R/lib -lR
installing to /home/biocbuild/bbs-3.23-bioc/R/site-library/00LOCK-psichomics/00new/psichomics/libs
** R
** inst
** byte-compile and prepare package for lazy loading
Creating a generic function for ‘colSums’ from package ‘base’ in package ‘psichomics’
** help
*** installing help indices
*** copying figures
** building package indices
** installing vignettes
** testing if installed package can be loaded from temporary location
** checking absolute paths in shared objects and dynamic libraries
** testing if installed package can be loaded from final location
** testing if installed package keeps a record of temporary installation path
* DONE (psichomics)

Tests output

psichomics.Rcheck/tests/spelling.Rout


R Under development (unstable) (2025-10-20 r88955) -- "Unsuffered Consequences"
Copyright (C) 2025 The R Foundation for Statistical Computing
Platform: x86_64-pc-linux-gnu

R is free software and comes with ABSOLUTELY NO WARRANTY.
You are welcome to redistribute it under certain conditions.
Type 'license()' or 'licence()' for distribution details.

R is a collaborative project with many contributors.
Type 'contributors()' for more information and
'citation()' on how to cite R or R packages in publications.

Type 'demo()' for some demos, 'help()' for on-line help, or
'help.start()' for an HTML browser interface to help.
Type 'q()' to quit R.

> if(requireNamespace('spelling', quietly = TRUE))
+   spelling::spell_check_test(vignettes = TRUE, error = FALSE,
+                              skip_on_cran = TRUE)
All Done!
> 
> proc.time()
   user  system elapsed 
  0.153   0.037   0.177 

psichomics.Rcheck/tests/testthat.Rout


R Under development (unstable) (2025-10-20 r88955) -- "Unsuffered Consequences"
Copyright (C) 2025 The R Foundation for Statistical Computing
Platform: x86_64-pc-linux-gnu

R is free software and comes with ABSOLUTELY NO WARRANTY.
You are welcome to redistribute it under certain conditions.
Type 'license()' or 'licence()' for distribution details.

R is a collaborative project with many contributors.
Type 'contributors()' for more information and
'citation()' on how to cite R or R packages in publications.

Type 'demo()' for some demos, 'help()' for on-line help, or
'help.start()' for an HTML browser interface to help.
Type 'q()' to quit R.

> library(testthat)
> library(psichomics)
Loading required package: shiny
Loading required package: shinyBS
Setting options('download.file.method.GEOquery'='auto')
Setting options('GEOquery.inmemory.gpl'=FALSE)

psichomics 1.37.0: start the visual interface by running psichomics()
Full documentation and tutorials at https://nuno-agostinho.github.io/psichomics
> 
> test_check("psichomics")
  |                                        |   0% 
  |========                                |  20% 
  |================                        |  40% 
  |========================                |  60% 
  |================================        |  80% 
  |========================================| 100% 
  |                                        |   0% 
  |========                                |  20% 
  |================                        |  40% 
  |========================                |  60% 
  |================================        |  80% 
  |========================================| 100% 
  |                                        |   0% 
  |========                                |  20% 
  |================                        |  40% 
  |========================                |  60% 
  |================================        |  80% 
  |========================================| 100% 
  |                                        |   0% 
  |========                                |  20% 
  |================                        |  40% 
  |========================                |  60% 
  |================================        |  80% 
  |========================================| 100% 





























Retrieving rMATS annotation...

Parsing rMATS annotation...

Retrieving rMATS annotation...

Parsing rMATS annotation...

Retrieving MISO annotation...

Parsing MISO annotation...
  |                                        |   0% 
  |========                                |  20% 
  |================                        |  40% 
  |========================                |  60% 
  |================================        |  80% 
  |========================================| 100% 
  |                                        |   0% 
  |========                                |  20% 
  |================                        |  40% 
  |========================                |  60% 
  |================================        |  80% 
  |========================================| 100% 
  |                                        |   0% 
  |========                                |  20% 
  |================                        |  40% 
  |========================                |  60% 
  |================================        |  80% 
  |========================================| 100% 
  |                                        |   0% 
  |========                                |  20% 
  |================                        |  40% 
  |========================                |  60% 
  |================================        |  80% 
  |========================================| 100% 
  |                                        |   0% 
  |========                                |  20% 
  |================                        |  40% 
  |========================                |  60% 
  |================================        |  80% 
  |========================================| 100% 
  |                                        |   0% 
  |========                                |  20% 
  |================                        |  40% 
  |========================                |  60% 
  |================================        |  80% 
  |========================================| 100% 
  |                                        |   0% 
  |========                                |  20% 
  |================                        |  40% 
  |========================                |  60% 
  |================================        |  80% 
  |========================================| 100% 
  |                                        |   0% 
  |========                                |  20% 
  |================                        |  40% 
  |========================                |  60% 
  |================================        |  80% 
  |========================================| 100% 

Retrieving SUPPA annotation...

Parsing SUPPA annotation...

Retrieving VAST-TOOLS annotation...

Parsing VAST-TOOLS annotation...

ALT3

ALT5

COMBI

EXSK

IR

MERGE3m

MIC

MULTI
[ FAIL 0 | WARN 0 | SKIP 4 | PASS 1418 ]

══ Skipped tests (4) ═══════════════════════════════════════════════════════════
• Couldn't resolve host name (1): 'testGeneInfo.R:99:5'
• On Bioconductor (2): 'testDiscardLowCoveragePSIs.R:62:5',
  'testGeneInfo.R:50:5'
• On CRAN (1): 'testSRAloading.R:4:5'

[ FAIL 0 | WARN 0 | SKIP 4 | PASS 1418 ]
> 
> proc.time()
   user  system elapsed 
 25.199   1.442  29.078 

Example timings

psichomics.Rcheck/psichomics-Ex.timings

nameusersystemelapsed
addObjectAttrs0.0000.0000.001
assignValuePerSubject0.0170.0030.019
blendColours0.0010.0000.001
calculateLoadingsContribution0.0070.0020.009
convertGeneIdentifiers13.881 1.44616.076
correlateGEandAS0.0170.0020.019
createGroupByAttribute0.0000.0010.002
createJunctionsTemplate0.0020.0010.002
customRowMeans0.0000.0010.001
diffAnalyses0.0630.0040.067
downloadFiles000
ensemblToUniprot0.0700.0010.641
filterGeneExpr0.0070.0000.007
filterGroups0.0010.0000.001
filterPSI0.0120.0020.014
getAttributesTime0.0020.0010.003
getDownloadsFolder0.0000.0000.001
getFirebrowseDateFormat000
getGeneList0.0020.0020.004
getGtexDataTypes0.0000.0000.001
getGtexTissues000
getNumerics0.0010.0010.002
getSampleFromSubject0.0010.0000.001
getSplicingEventFromGenes0.0030.0010.004
getSplicingEventTypes000
getSubjectFromSample0.0000.0000.001
getTCGAdataTypes0.0410.0030.314
getValidEvents0.0050.0030.008
groupPerElem0.0020.0000.002
hchart.survfit0.2540.0550.327
isFirebrowseUp0.0040.0010.046
labelBasedOnCutoff0.0010.0000.001
leveneTest0.0060.0020.007
listAllAnnotations2.3470.4953.029
listSplicingAnnotations11.324 1.73813.739
loadAnnotation2.7850.3733.328
loadGtexData0.0000.0000.001
loadLocalFiles000
loadSRAproject000
loadTCGAdata0.0110.0030.093
missingDataModal000
normaliseGeneExpression0.0250.0010.026
optimalSurvivalCutoff0.0970.0030.100
parseCategoricalGroups0.0010.0010.001
parseFirebrowseMetadata0.0500.0060.282
parseMatsEvent0.0030.0030.007
parseMatsGeneric0.0220.0020.025
parseMisoAnnotation0.1910.0140.220
parseMisoEvent0.0030.0010.004
parseMisoEventID0.0050.0010.007
parseMisoGeneric0.0270.0030.030
parseMisoId0.0000.0000.001
parseSplicingEvent0.0050.0000.005
parseSuppaEvent0.0030.0000.003
parseSuppaGeneric0.0150.0020.017
parseTcgaSampleInfo0.0020.0020.005
parseUrlsFromFirebrowseResponse0.0310.0020.212
parseVastToolsEvent0.0050.0020.008
parseVastToolsSE0.0230.0020.025
performICA0.0070.0050.012
performPCA0.0020.0010.003
plot.GEandAScorrelation0.6020.0600.662
plotDistribution0.5490.0930.641
plotGeneExprPerSample0.1210.0370.158
plotGroupIndependence0.3730.0230.396
plotICA0.1090.0050.115
plotLibrarySize0.1830.0190.202
plotPCA0.2210.0440.265
plotPCAvariance0.0450.0080.053
plotProtein0.6490.0801.796
plotRowStats0.5750.0350.611
plotSingleICA0.1780.0380.216
plotSplicingEvent0.0410.0080.049
plotSurvivalCurves0.0810.0160.096
plotSurvivalPvaluesByCutoff0.460.040.50
plotTranscripts0.0290.0021.527
prepareAnnotationFromEvents0.2010.0490.250
prepareFirebrowseArchives0.0010.0000.000
prepareJunctionQuantSTAR0.0010.0000.000
prepareSRAmetadata0.0000.0000.001
processSurvTerms0.0090.0000.010
psichomics000
quantifySplicing0.0110.0020.014
queryEnsembl0.0280.0060.757
queryEnsemblByGene0.1190.0203.257
queryFirebrowseData0.0670.0010.369
queryPubMed0.1280.0210.510
queryUniprot0.0910.0030.534
readFile0.0020.0010.002
renameDuplicated0.0010.0010.001
renderBoxplot0.0810.0160.096
survdiffTerms0.0060.0010.007
survfit.survTerms0.0240.0050.029
testGroupIndependence0.0030.0000.003
testSurvival0.0170.0010.017
textSuggestions0.0010.0000.001
trimWhitespace0.0000.0000.001