Back to Build/check report for BioC 3.21:   simplified   long
ABCDEFGHIJKLMNO[P]QRSTUVWXYZ

This page was generated on 2024-10-24 11:04 -0400 (Thu, 24 Oct 2024).

HostnameOSArch (*)R versionInstalled pkgs
nebbiolo1Linux (Ubuntu 22.04.3 LTS)x86_64R Under development (unstable) (2024-10-21 r87258) -- "Unsuffered Consequences" 3656
Click on any hostname to see more info about the system (e.g. compilers)      (*) as reported by 'uname -p', except on Windows and Mac OS X

Package 1571/2281HostnameOS / ArchINSTALLBUILDCHECKBUILD BIN
polyester 1.41.1  (landing page)
Jack Fu , Jeff Leek
Snapshot Date: 2024-10-23 19:16 -0400 (Wed, 23 Oct 2024)
git_url: https://git.bioconductor.org/packages/polyester
git_branch: devel
git_last_commit: cba7fe3
git_last_commit_date: 2024-08-21 14:47:28 -0400 (Wed, 21 Aug 2024)
nebbiolo1Linux (Ubuntu 22.04.3 LTS) / x86_64  OK    OK    ERROR  


BUILD results for polyester on nebbiolo1

To the developers/maintainers of the polyester package:
- Allow up to 24 hours (and sometimes 48 hours) for your latest push to git@git.bioconductor.org:packages/polyester.git to reflect on this report. See Troubleshooting Build Report for more information.
- Use the following Renviron settings to reproduce errors and warnings.
- If 'R CMD check' started to fail recently on the Linux builder(s) over a missing dependency, add the missing dependency to 'Suggests:' in your DESCRIPTION file. See Renviron.bioc for more information.

raw results


Summary

Package: polyester
Version: 1.41.1
Command: /home/biocbuild/bbs-3.21-bioc/R/bin/R CMD build --keep-empty-dirs --no-resave-data polyester
StartedAt: 2024-10-24 05:15:37 -0400 (Thu, 24 Oct 2024)
EndedAt: 2024-10-24 05:16:03 -0400 (Thu, 24 Oct 2024)
EllapsedTime: 26.0 seconds
RetCode: 0
Status:   OK  
PackageFile: polyester_1.41.1.tar.gz
PackageFileSize: 1.814 MiB

Command output

##############################################################################
##############################################################################
###
### Running command:
###
###   /home/biocbuild/bbs-3.21-bioc/R/bin/R CMD build --keep-empty-dirs --no-resave-data polyester
###
##############################################################################
##############################################################################


* checking for file ‘polyester/DESCRIPTION’ ... OK
* preparing ‘polyester’:
* checking DESCRIPTION meta-information ... OK
* installing the package to build vignettes
* creating vignettes ... OK
* checking for LF line-endings in source and make files and shell scripts
* checking for empty or unneeded directories
* looking to see if a ‘data/datalist’ file should be added
* building ‘polyester_1.41.1.tar.gz’