| Back to Multiple platform build/check report for BioC 3.22: simplified long |
|
This page was generated on 2025-08-15 12:07 -0400 (Fri, 15 Aug 2025).
| Hostname | OS | Arch (*) | R version | Installed pkgs |
|---|---|---|---|---|
| nebbiolo2 | Linux (Ubuntu 24.04.3 LTS) | x86_64 | 4.5.1 (2025-06-13) -- "Great Square Root" | 4818 |
| palomino8 | Windows Server 2022 Datacenter | x64 | 4.5.1 (2025-06-13 ucrt) -- "Great Square Root" | 4554 |
| lconway | macOS 12.7.1 Monterey | x86_64 | 4.5.1 (2025-06-13) -- "Great Square Root" | 4595 |
| kjohnson3 | macOS 13.7.7 Ventura | arm64 | 4.5.1 Patched (2025-06-14 r88325) -- "Great Square Root" | 4537 |
| taishan | Linux (openEuler 24.03 LTS) | aarch64 | 4.5.0 (2025-04-11) -- "How About a Twenty-Six" | 4535 |
| Click on any hostname to see more info about the system (e.g. compilers) (*) as reported by 'uname -p', except on Windows and Mac OS X | ||||
| Package 1589/2317 | Hostname | OS / Arch | INSTALL | BUILD | CHECK | BUILD BIN | ||||||||
| podkat 1.41.1 (landing page) Ulrich Bodenhofer
| nebbiolo2 | Linux (Ubuntu 24.04.3 LTS) / x86_64 | OK | OK | OK | |||||||||
| palomino8 | Windows Server 2022 Datacenter / x64 | OK | OK | OK | OK | |||||||||
| lconway | macOS 12.7.1 Monterey / x86_64 | OK | OK | OK | OK | |||||||||
| kjohnson3 | macOS 13.7.7 Ventura / arm64 | OK | OK | OK | OK | |||||||||
| taishan | Linux (openEuler 24.03 LTS) / aarch64 | OK | ERROR | skipped | ||||||||||
|
To the developers/maintainers of the podkat package: - Allow up to 24 hours (and sometimes 48 hours) for your latest push to git@git.bioconductor.org:packages/podkat.git to reflect on this report. See Troubleshooting Build Report for more information. - Use the following Renviron settings to reproduce errors and warnings. - If 'R CMD check' started to fail recently on the Linux builder(s) over a missing dependency, add the missing dependency to 'Suggests:' in your DESCRIPTION file. See Renviron.bioc for more information. |
| Package: podkat |
| Version: 1.41.1 |
| Command: F:\biocbuild\bbs-3.22-bioc\R\bin\R.exe CMD check --no-multiarch --install=check:podkat.install-out.txt --library=F:\biocbuild\bbs-3.22-bioc\R\library --no-vignettes --timings podkat_1.41.1.tar.gz |
| StartedAt: 2025-08-15 06:29:31 -0400 (Fri, 15 Aug 2025) |
| EndedAt: 2025-08-15 06:40:19 -0400 (Fri, 15 Aug 2025) |
| EllapsedTime: 648.1 seconds |
| RetCode: 0 |
| Status: OK |
| CheckDir: podkat.Rcheck |
| Warnings: 0 |
##############################################################################
##############################################################################
###
### Running command:
###
### F:\biocbuild\bbs-3.22-bioc\R\bin\R.exe CMD check --no-multiarch --install=check:podkat.install-out.txt --library=F:\biocbuild\bbs-3.22-bioc\R\library --no-vignettes --timings podkat_1.41.1.tar.gz
###
##############################################################################
##############################################################################
* using log directory 'F:/biocbuild/bbs-3.22-bioc/meat/podkat.Rcheck'
* using R version 4.5.1 (2025-06-13 ucrt)
* using platform: x86_64-w64-mingw32
* R was compiled by
gcc.exe (GCC) 14.2.0
GNU Fortran (GCC) 14.2.0
* running under: Windows Server 2022 x64 (build 20348)
* using session charset: UTF-8
* using option '--no-vignettes'
* checking for file 'podkat/DESCRIPTION' ... OK
* checking extension type ... Package
* this is package 'podkat' version '1.41.1'
* checking package namespace information ... OK
* checking package dependencies ... OK
* checking if this is a source package ... OK
* checking if there is a namespace ... OK
* checking for hidden files and directories ... OK
* checking for portable file names ... OK
* checking whether package 'podkat' can be installed ... OK
* used C++ compiler: 'G__~1.EXE (GCC) 14.2.0'
* checking installed package size ... INFO
installed size is 13.8Mb
sub-directories of 1Mb or more:
R 1.1Mb
libs 12.3Mb
* checking package directory ... OK
* checking 'build' directory ... OK
* checking DESCRIPTION meta-information ... OK
* checking top-level files ... OK
* checking for left-over files ... OK
* checking index information ... OK
* checking package subdirectories ... OK
* checking code files for non-ASCII characters ... OK
* checking R files for syntax errors ... OK
* checking whether the package can be loaded ... OK
* checking whether the package can be loaded with stated dependencies ... OK
* checking whether the package can be unloaded cleanly ... OK
* checking whether the namespace can be loaded with stated dependencies ... OK
* checking whether the namespace can be unloaded cleanly ... OK
* checking dependencies in R code ... OK
* checking S3 generic/method consistency ... OK
* checking replacement functions ... OK
* checking foreign function calls ... OK
* checking R code for possible problems ... OK
* checking Rd files ... OK
* checking Rd metadata ... OK
* checking Rd cross-references ... NOTE
Found the following Rd file(s) with Rd \link{} targets missing package
anchors:
AssocTestResultRanges-class.Rd: GRanges-class
GenotypeMatrix-class.Rd: dgCMatrix-class
VariantInfo-class.Rd: GRanges-class
assocTest-methods.Rd: GRanges-class, GRangesList-class
computeKernel.Rd: Matrix-class
filterResult-methods.Rd: GRanges-class, GRangesList-class
genotypeMatrix-methods.Rd: dgCMatrix-class, GRanges-class
hgA.Rd: GRanges-class
partitionRegions-methods.Rd: GRanges-class, GRangesList-class
plot-methods.Rd: GRanges-class
readGenotypeMatrix-methods.Rd: TabixFile-class, GRanges-class
readRegionsFromBedFile.Rd: GRanges-class, Seqinfo-class
readSampleNamesFromVcfHeader.Rd: TabixFile-class, scanBcfHeader
readVariantInfo-methods.Rd: TabixFile-class, GRanges-class
sort-methods.Rd: GRanges-class
split-methods.Rd: GRanges-class, GRangesList-class
unmasked-datasets.Rd: GRangesList-class, GRanges-class
unmaskedRegions.Rd: GRangesList-class, GRanges-class
weights-methods.Rd: GRanges-class, GRangesList-class
Please provide package anchors for all Rd \link{} targets not in the
package itself and the base packages.
* checking for missing documentation entries ... OK
* checking for code/documentation mismatches ... OK
* checking Rd \usage sections ... OK
* checking Rd contents ... OK
* checking for unstated dependencies in examples ... OK
* checking contents of 'data' directory ... OK
* checking data for non-ASCII characters ... OK
* checking data for ASCII and uncompressed saves ... OK
* checking line endings in C/C++/Fortran sources/headers ... OK
* checking line endings in Makefiles ... OK
* checking compilation flags in Makevars ... OK
* checking for GNU extensions in Makefiles ... INFO
GNU make is a SystemRequirements.
* checking for portable use of $(BLAS_LIBS) and $(LAPACK_LIBS) ... OK
* checking use of PKG_*FLAGS in Makefiles ... OK
* checking compiled code ... NOTE
Note: information on .o files for x64 is not available
File 'F:/biocbuild/bbs-3.22-bioc/R/library/podkat/libs/x64/podkat.dll':
Found '_assert', possibly from 'assert' (C)
Found '_exit', possibly from '_exit' (C)
Found 'abort', possibly from 'abort' (C), 'runtime' (Fortran)
Found 'exit', possibly from 'exit' (C), 'stop' (Fortran)
Compiled code should not call entry points which might terminate R nor
write to stdout/stderr instead of to the console, nor use Fortran I/O
nor system RNGs nor [v]sprintf. The detected symbols are linked into
the code but might come from libraries and not actually be called.
See 'Writing portable packages' in the 'Writing R Extensions' manual.
* checking sizes of PDF files under 'inst/doc' ... NOTE
'qpdf' made some significant size reductions:
compacted 'podkat.pdf' from 924Kb to 807Kb
consider running tools::compactPDF() on these files,
or build the source package with --compact-vignettes
* checking files in 'vignettes' ... OK
* checking examples ... OK
Examples with CPU (user + system) or elapsed time > 5s
user system elapsed
unmaskedRegions 197.54 4.46 204.97
assocTest-methods 14.41 0.97 15.37
plot-methods 11.55 0.77 12.32
* checking for unstated dependencies in vignettes ... OK
* checking package vignettes ... OK
* checking running R code from vignettes ... SKIPPED
* checking re-building of vignette outputs ... SKIPPED
* checking PDF version of manual ... OK
* DONE
Status: 3 NOTEs
See
'F:/biocbuild/bbs-3.22-bioc/meat/podkat.Rcheck/00check.log'
for details.
podkat.Rcheck/00install.out
##############################################################################
##############################################################################
###
### Running command:
###
### F:\biocbuild\bbs-3.22-bioc\R\bin\R.exe CMD INSTALL podkat
###
##############################################################################
##############################################################################
* installing to library 'F:/biocbuild/bbs-3.22-bioc/R/library'
* installing *source* package 'podkat' ...
** this is package 'podkat' version '1.41.1'
** using staged installation
** libs
using C++ compiler: 'G__~1.EXE (GCC) 14.2.0'
g++ -std=gnu++17 -I"F:/biocbuild/bbs-3.22-bioc/R/include" -DNDEBUG -D_FILE_OFFSET_BITS=64 -I'F:/biocbuild/bbs-3.22-bioc/R/library/Rcpp/include' -I'F:/biocbuild/bbs-3.22-bioc/R/library/Rhtslib/include' -I"C:/rtools45/x86_64-w64-mingw32.static.posix/include" -O2 -Wall -mfpmath=sse -msse2 -mstackrealign -c R_init_podkat.cpp -o R_init_podkat.o
g++ -std=gnu++17 -I"F:/biocbuild/bbs-3.22-bioc/R/include" -DNDEBUG -D_FILE_OFFSET_BITS=64 -I'F:/biocbuild/bbs-3.22-bioc/R/library/Rcpp/include' -I'F:/biocbuild/bbs-3.22-bioc/R/library/Rhtslib/include' -I"C:/rtools45/x86_64-w64-mingw32.static.posix/include" -O2 -Wall -mfpmath=sse -msse2 -mstackrealign -c bernoulliExact.cpp -o bernoulliExact.o
g++ -std=gnu++17 -I"F:/biocbuild/bbs-3.22-bioc/R/include" -DNDEBUG -D_FILE_OFFSET_BITS=64 -I'F:/biocbuild/bbs-3.22-bioc/R/library/Rcpp/include' -I'F:/biocbuild/bbs-3.22-bioc/R/library/Rhtslib/include' -I"C:/rtools45/x86_64-w64-mingw32.static.posix/include" -O2 -Wall -mfpmath=sse -msse2 -mstackrealign -c checkAndFixGenotype.cpp -o checkAndFixGenotype.o
g++ -std=gnu++17 -I"F:/biocbuild/bbs-3.22-bioc/R/include" -DNDEBUG -D_FILE_OFFSET_BITS=64 -I'F:/biocbuild/bbs-3.22-bioc/R/library/Rcpp/include' -I'F:/biocbuild/bbs-3.22-bioc/R/library/Rhtslib/include' -I"C:/rtools45/x86_64-w64-mingw32.static.posix/include" -O2 -Wall -mfpmath=sse -msse2 -mstackrealign -c cumMax.cpp -o cumMax.o
g++ -std=gnu++17 -I"F:/biocbuild/bbs-3.22-bioc/R/include" -DNDEBUG -D_FILE_OFFSET_BITS=64 -I'F:/biocbuild/bbs-3.22-bioc/R/library/Rcpp/include' -I'F:/biocbuild/bbs-3.22-bioc/R/library/Rhtslib/include' -I"C:/rtools45/x86_64-w64-mingw32.static.posix/include" -O2 -Wall -mfpmath=sse -msse2 -mstackrealign -c doubleMale.cpp -o doubleMale.o
g++ -std=gnu++17 -I"F:/biocbuild/bbs-3.22-bioc/R/include" -DNDEBUG -D_FILE_OFFSET_BITS=64 -I'F:/biocbuild/bbs-3.22-bioc/R/library/Rcpp/include' -I'F:/biocbuild/bbs-3.22-bioc/R/library/Rhtslib/include' -I"C:/rtools45/x86_64-w64-mingw32.static.posix/include" -O2 -Wall -mfpmath=sse -msse2 -mstackrealign -c kernels.cpp -o kernels.o
g++ -std=gnu++17 -I"F:/biocbuild/bbs-3.22-bioc/R/include" -DNDEBUG -D_FILE_OFFSET_BITS=64 -I'F:/biocbuild/bbs-3.22-bioc/R/library/Rcpp/include' -I'F:/biocbuild/bbs-3.22-bioc/R/library/Rhtslib/include' -I"C:/rtools45/x86_64-w64-mingw32.static.posix/include" -O2 -Wall -mfpmath=sse -msse2 -mstackrealign -c pValues.cpp -o pValues.o
g++ -std=gnu++17 -I"F:/biocbuild/bbs-3.22-bioc/R/include" -DNDEBUG -D_FILE_OFFSET_BITS=64 -I'F:/biocbuild/bbs-3.22-bioc/R/library/Rcpp/include' -I'F:/biocbuild/bbs-3.22-bioc/R/library/Rhtslib/include' -I"C:/rtools45/x86_64-w64-mingw32.static.posix/include" -O2 -Wall -mfpmath=sse -msse2 -mstackrealign -c partitionRegions.cpp -o partitionRegions.o
g++ -std=gnu++17 -I"F:/biocbuild/bbs-3.22-bioc/R/include" -DNDEBUG -D_FILE_OFFSET_BITS=64 -I'F:/biocbuild/bbs-3.22-bioc/R/library/Rcpp/include' -I'F:/biocbuild/bbs-3.22-bioc/R/library/Rhtslib/include' -I"C:/rtools45/x86_64-w64-mingw32.static.posix/include" -O2 -Wall -mfpmath=sse -msse2 -mstackrealign -c qfc.cpp -o qfc.o
g++ -std=gnu++17 -I"F:/biocbuild/bbs-3.22-bioc/R/include" -DNDEBUG -D_FILE_OFFSET_BITS=64 -I'F:/biocbuild/bbs-3.22-bioc/R/library/Rcpp/include' -I'F:/biocbuild/bbs-3.22-bioc/R/library/Rhtslib/include' -I"C:/rtools45/x86_64-w64-mingw32.static.posix/include" -O2 -Wall -mfpmath=sse -msse2 -mstackrealign -c readGenotypeMatrix.cpp -o readGenotypeMatrix.o
In file included from F:/biocbuild/bbs-3.22-bioc/R/include/R.h:73,
from readGenotypeMatrix.cpp:1:
F:/biocbuild/bbs-3.22-bioc/R/library/Rcpp/include/Rcpp/exceptions.h: In function 'void Rcpp::Rf_warning(const char*, Args&& ...) [with Args = {const char*}]':
F:/biocbuild/bbs-3.22-bioc/R/include/R_ext/Error.h:85:17: warning: infinite recursion detected [-Winfinite-recursion]
85 | #define warning Rf_warning
| ^~~~~~~~~~
F:/biocbuild/bbs-3.22-bioc/R/library/Rcpp/include/Rcpp/exceptions.h:190:17: note: in expansion of macro 'warning'
190 | inline void warning(const char* fmt, Args&&... args ) {
| ^~~~~~~
In file included from F:/biocbuild/bbs-3.22-bioc/R/library/Rcpp/include/RcppCommon.h:133,
from F:/biocbuild/bbs-3.22-bioc/R/library/Rcpp/include/Rcpp.h:27,
from readGenotypeMatrix.cpp:2:
F:/biocbuild/bbs-3.22-bioc/R/library/Rcpp/include/Rcpp/exceptions.h:191:19: note: recursive call
191 | Rf_warning("%s", tfm::format(fmt, std::forward<Args>(args)... ).c_str());
| ~~~~~~~~~~^~~~~~~~~~~~~~~~~~~~~~~~~~~~~~~~~~~~~~~~~~~~~~~~~~~~~~~~~~~~~~
g++ -std=gnu++17 -I"F:/biocbuild/bbs-3.22-bioc/R/include" -DNDEBUG -D_FILE_OFFSET_BITS=64 -I'F:/biocbuild/bbs-3.22-bioc/R/library/Rcpp/include' -I'F:/biocbuild/bbs-3.22-bioc/R/library/Rhtslib/include' -I"C:/rtools45/x86_64-w64-mingw32.static.posix/include" -O2 -Wall -mfpmath=sse -msse2 -mstackrealign -c readVariantInfo.cpp -o readVariantInfo.o
In file included from F:/biocbuild/bbs-3.22-bioc/R/include/R.h:73,
from readVariantInfo.cpp:1:
F:/biocbuild/bbs-3.22-bioc/R/library/Rcpp/include/Rcpp/exceptions.h: In function 'void Rcpp::Rf_warning(const char*, Args&& ...) [with Args = {const char*}]':
F:/biocbuild/bbs-3.22-bioc/R/include/R_ext/Error.h:85:17: warning: infinite recursion detected [-Winfinite-recursion]
85 | #define warning Rf_warning
| ^~~~~~~~~~
F:/biocbuild/bbs-3.22-bioc/R/library/Rcpp/include/Rcpp/exceptions.h:190:17: note: in expansion of macro 'warning'
190 | inline void warning(const char* fmt, Args&&... args ) {
| ^~~~~~~
In file included from F:/biocbuild/bbs-3.22-bioc/R/library/Rcpp/include/RcppCommon.h:133,
from F:/biocbuild/bbs-3.22-bioc/R/library/Rcpp/include/Rcpp.h:27,
from readVariantInfo.cpp:2:
F:/biocbuild/bbs-3.22-bioc/R/library/Rcpp/include/Rcpp/exceptions.h:191:19: note: recursive call
191 | Rf_warning("%s", tfm::format(fmt, std::forward<Args>(args)... ).c_str());
| ~~~~~~~~~~^~~~~~~~~~~~~~~~~~~~~~~~~~~~~~~~~~~~~~~~~~~~~~~~~~~~~~~~~~~~~~
g++ -std=gnu++17 -shared -s -static-libgcc -o podkat.dll tmp.def R_init_podkat.o bernoulliExact.o checkAndFixGenotype.o cumMax.o doubleMale.o kernels.o pValues.o partitionRegions.o qfc.o readGenotypeMatrix.o readVariantInfo.o F:/biocbuild/bbs-3.22-bioc/R/library/Rhtslib/usrlib/x64/libhts.a -lm -lbz2 -llzma -lcurl -lnghttp2 -lpsl -lbrotlidec -lbrotlicommon -lbcrypt -lidn2 -lunistring -liconv -lssl -lcrypto -lz -lcrypt32 -lwsock32 -lwldap32 -lssh2 -lgcrypt -lgpg-error -lws2_32 -lzstd -lregex -LC:/rtools45/x86_64-w64-mingw32.static.posix/lib/x64 -LC:/rtools45/x86_64-w64-mingw32.static.posix/lib -LF:/biocbuild/bbs-3.22-bioc/R/bin/x64 -lR
installing to F:/biocbuild/bbs-3.22-bioc/R/library/00LOCK-podkat/00new/podkat/libs/x64
** R
** data
** inst
** byte-compile and prepare package for lazy loading
Creating a generic function for 'p.adjust' from package 'stats' in package 'podkat'
** help
*** installing help indices
** building package indices
** installing vignettes
** testing if installed package can be loaded from temporary location
** testing if installed package can be loaded from final location
** testing if installed package keeps a record of temporary installation path
* DONE (podkat)
podkat.Rcheck/podkat-Ex.timings
| name | user | system | elapsed | |
| AssocTestResult-class | 0.60 | 0.04 | 0.69 | |
| AssocTestResultRanges-class | 1.87 | 0.13 | 2.00 | |
| GenotypeMatrix-class | 3.54 | 0.12 | 3.67 | |
| NullModel-class | 1.69 | 0.13 | 1.83 | |
| VariantInfo-class | 0.23 | 0.00 | 0.23 | |
| assocTest-methods | 14.41 | 0.97 | 15.37 | |
| computeKernel | 0 | 0 | 0 | |
| filterResult-methods | 1.65 | 0.06 | 1.72 | |
| genotypeMatrix-methods | 0.78 | 0.09 | 0.88 | |
| hgA | 0.02 | 0.00 | 0.02 | |
| nullModel-methods | 0.96 | 0.11 | 1.08 | |
| p.adjust-methods | 1.16 | 0.05 | 1.20 | |
| partitionRegions-methods | 0.98 | 0.00 | 0.99 | |
| plot-methods | 11.55 | 0.77 | 12.32 | |
| podkat-package | 1.28 | 0.03 | 1.32 | |
| print-methods | 1.03 | 0.04 | 1.07 | |
| qqplot-methods | 2.04 | 0.04 | 2.07 | |
| readGenotypeMatrix-methods | 0.29 | 0.00 | 0.29 | |
| readRegionsFromBedFile | 0.17 | 0.00 | 0.19 | |
| readSampleNamesFromVcfHeader | 0.04 | 0.01 | 0.05 | |
| readVariantInfo-methods | 0.25 | 0.00 | 0.25 | |
| sort-methods | 1.34 | 0.05 | 1.39 | |
| split-methods | 3.84 | 0.17 | 4.01 | |
| unmasked-datasets | 0.38 | 0.02 | 0.39 | |
| unmaskedRegions | 197.54 | 4.46 | 204.97 | |
| weightFuncs | 0.02 | 0.00 | 0.02 | |
| weights-methods | 1.52 | 0.02 | 1.53 | |