| Back to Multiple platform build/check report for BioC 3.22: simplified long |
|
This page was generated on 2025-10-24 12:04 -0400 (Fri, 24 Oct 2025).
| Hostname | OS | Arch (*) | R version | Installed pkgs |
|---|---|---|---|---|
| nebbiolo2 | Linux (Ubuntu 24.04.3 LTS) | x86_64 | 4.5.1 Patched (2025-08-23 r88802) -- "Great Square Root" | 4898 |
| lconway | macOS 12.7.6 Monterey | x86_64 | 4.5.1 Patched (2025-09-10 r88807) -- "Great Square Root" | 4688 |
| kjohnson3 | macOS 13.7.7 Ventura | arm64 | 4.5.1 Patched (2025-09-10 r88807) -- "Great Square Root" | 4634 |
| taishan | Linux (openEuler 24.03 LTS) | aarch64 | 4.5.0 (2025-04-11) -- "How About a Twenty-Six" | 4658 |
| Click on any hostname to see more info about the system (e.g. compilers) (*) as reported by 'uname -p', except on Windows and Mac OS X | ||||
| Package 1615/2359 | Hostname | OS / Arch | INSTALL | BUILD | CHECK | BUILD BIN | ||||||||
| plyranges 1.29.1 (landing page) Michael Love
| nebbiolo2 | Linux (Ubuntu 24.04.3 LTS) / x86_64 | OK | OK | OK | |||||||||
| lconway | macOS 12.7.6 Monterey / x86_64 | OK | OK | OK | OK | |||||||||
| kjohnson3 | macOS 13.7.7 Ventura / arm64 | OK | OK | ERROR | OK | |||||||||
| taishan | Linux (openEuler 24.03 LTS) / aarch64 | OK | OK | NA | ||||||||||
|
To the developers/maintainers of the plyranges package: - Allow up to 24 hours (and sometimes 48 hours) for your latest push to git@git.bioconductor.org:packages/plyranges.git to reflect on this report. See Troubleshooting Build Report for more information. - Use the following Renviron settings to reproduce errors and warnings. - If 'R CMD check' started to fail recently on the Linux builder(s) over a missing dependency, add the missing dependency to 'Suggests:' in your DESCRIPTION file. See Renviron.bioc for more information. |
| Package: plyranges |
| Version: 1.29.1 |
| Command: /home/biocbuild/bbs-3.22-bioc/R/bin/R CMD check --install=check:plyranges.install-out.txt --library=/home/biocbuild/bbs-3.22-bioc/R/site-library --timings plyranges_1.29.1.tar.gz |
| StartedAt: 2025-10-24 02:38:52 -0400 (Fri, 24 Oct 2025) |
| EndedAt: 2025-10-24 02:43:37 -0400 (Fri, 24 Oct 2025) |
| EllapsedTime: 285.3 seconds |
| RetCode: 0 |
| Status: OK |
| CheckDir: plyranges.Rcheck |
| Warnings: 0 |
##############################################################################
##############################################################################
###
### Running command:
###
### /home/biocbuild/bbs-3.22-bioc/R/bin/R CMD check --install=check:plyranges.install-out.txt --library=/home/biocbuild/bbs-3.22-bioc/R/site-library --timings plyranges_1.29.1.tar.gz
###
##############################################################################
##############################################################################
* using log directory ‘/home/biocbuild/bbs-3.22-bioc/meat/plyranges.Rcheck’
* using R version 4.5.1 Patched (2025-08-23 r88802)
* using platform: x86_64-pc-linux-gnu
* R was compiled by
gcc (Ubuntu 13.3.0-6ubuntu2~24.04) 13.3.0
GNU Fortran (Ubuntu 13.3.0-6ubuntu2~24.04) 13.3.0
* running under: Ubuntu 24.04.3 LTS
* using session charset: UTF-8
* checking for file ‘plyranges/DESCRIPTION’ ... OK
* checking extension type ... Package
* this is package ‘plyranges’ version ‘1.29.1’
* package encoding: UTF-8
* checking package namespace information ... OK
* checking package dependencies ... OK
* checking if this is a source package ... OK
* checking if there is a namespace ... OK
* checking for hidden files and directories ... OK
* checking for portable file names ... OK
* checking for sufficient/correct file permissions ... OK
* checking whether package ‘plyranges’ can be installed ... OK
* checking installed package size ... OK
* checking package directory ... OK
* checking ‘build’ directory ... OK
* checking DESCRIPTION meta-information ... OK
* checking top-level files ... OK
* checking for left-over files ... OK
* checking index information ... OK
* checking package subdirectories ... OK
* checking code files for non-ASCII characters ... OK
* checking R files for syntax errors ... OK
* checking whether the package can be loaded ... OK
* checking whether the package can be loaded with stated dependencies ... OK
* checking whether the package can be unloaded cleanly ... OK
* checking whether the namespace can be loaded with stated dependencies ... OK
* checking whether the namespace can be unloaded cleanly ... OK
* checking loading without being on the library search path ... OK
* checking dependencies in R code ... OK
* checking S3 generic/method consistency ... OK
* checking replacement functions ... OK
* checking foreign function calls ... OK
* checking R code for possible problems ... OK
* checking Rd files ... NOTE
checkRd: (-1) group_by-ranges.Rd:57: Lost braces in \itemize; meant \describe ?
checkRd: (-1) group_by-ranges.Rd:58: Lost braces in \itemize; meant \describe ?
checkRd: (-1) ranges-anchor.Rd:58: Lost braces in \itemize; meant \describe ?
checkRd: (-1) ranges-anchor.Rd:59: Lost braces in \itemize; meant \describe ?
checkRd: (-1) ranges-anchor.Rd:60: Lost braces in \itemize; meant \describe ?
checkRd: (-1) ranges-anchor.Rd:61-62: Lost braces in \itemize; meant \describe ?
checkRd: (-1) ranges-anchor.Rd:63-64: Lost braces in \itemize; meant \describe ?
* checking Rd metadata ... OK
* checking Rd cross-references ... NOTE
Non-topic package-anchored link(s) in Rd file 'tidyverse-reexports.Rd':
‘[magrittr:pipe]{%>%}’
See section 'Cross-references' in the 'Writing R Extensions' manual.
Found the following Rd file(s) with Rd \link{} targets missing package
anchors:
as_ranges.Rd: Rle, RleList, IRanges, GRanges
ranges-construct.Rd: tibble
ranges-filter-overlaps.Rd: GRanges
Please provide package anchors for all Rd \link{} targets not in the
package itself and the base packages.
* checking for missing documentation entries ... OK
* checking for code/documentation mismatches ... OK
* checking Rd \usage sections ... OK
* checking Rd contents ... OK
* checking for unstated dependencies in examples ... OK
* checking files in ‘vignettes’ ... OK
* checking examples ... OK
* checking for unstated dependencies in ‘tests’ ... OK
* checking tests ...
Running ‘testthat.R’
OK
* checking for unstated dependencies in vignettes ... OK
* checking package vignettes ... OK
* checking re-building of vignette outputs ... OK
* checking PDF version of manual ... OK
* DONE
Status: 2 NOTEs
See
‘/home/biocbuild/bbs-3.22-bioc/meat/plyranges.Rcheck/00check.log’
for details.
plyranges.Rcheck/00install.out
############################################################################## ############################################################################## ### ### Running command: ### ### /home/biocbuild/bbs-3.22-bioc/R/bin/R CMD INSTALL plyranges ### ############################################################################## ############################################################################## * installing to library ‘/home/biocbuild/bbs-3.22-bioc/R/site-library’ * installing *source* package ‘plyranges’ ... ** this is package ‘plyranges’ version ‘1.29.1’ ** using staged installation ** R ** inst ** byte-compile and prepare package for lazy loading ** help *** installing help indices *** copying figures ** building package indices ** installing vignettes ** testing if installed package can be loaded from temporary location ** testing if installed package can be loaded from final location ** testing if installed package keeps a record of temporary installation path * DONE (plyranges)
plyranges.Rcheck/tests/testthat.Rout
R version 4.5.1 Patched (2025-08-23 r88802) -- "Great Square Root"
Copyright (C) 2025 The R Foundation for Statistical Computing
Platform: x86_64-pc-linux-gnu
R is free software and comes with ABSOLUTELY NO WARRANTY.
You are welcome to redistribute it under certain conditions.
Type 'license()' or 'licence()' for distribution details.
R is a collaborative project with many contributors.
Type 'contributors()' for more information and
'citation()' on how to cite R or R packages in publications.
Type 'demo()' for some demos, 'help()' for on-line help, or
'help.start()' for an HTML browser interface to help.
Type 'q()' to quit R.
> library(testthat)
> library(plyranges)
Loading required package: BiocGenerics
Loading required package: generics
Attaching package: 'generics'
The following objects are masked from 'package:base':
as.difftime, as.factor, as.ordered, intersect, is.element, setdiff,
setequal, union
Attaching package: 'BiocGenerics'
The following objects are masked from 'package:stats':
IQR, mad, sd, var, xtabs
The following objects are masked from 'package:base':
Filter, Find, Map, Position, Reduce, anyDuplicated, aperm, append,
as.data.frame, basename, cbind, colnames, dirname, do.call,
duplicated, eval, evalq, get, grep, grepl, is.unsorted, lapply,
mapply, match, mget, order, paste, pmax, pmax.int, pmin, pmin.int,
rank, rbind, rownames, sapply, saveRDS, table, tapply, unique,
unsplit, which.max, which.min
Loading required package: IRanges
Loading required package: S4Vectors
Loading required package: stats4
Attaching package: 'S4Vectors'
The following object is masked from 'package:utils':
findMatches
The following objects are masked from 'package:base':
I, expand.grid, unname
Loading required package: GenomicRanges
Loading required package: Seqinfo
Attaching package: 'plyranges'
The following object is masked from 'package:IRanges':
slice
The following object is masked from 'package:stats':
filter
>
> test_check("plyranges")
[ FAIL 0 | WARN 8 | SKIP 0 | PASS 397 ]
[ FAIL 0 | WARN 8 | SKIP 0 | PASS 397 ]
>
> proc.time()
user system elapsed
41.105 1.121 42.230
plyranges.Rcheck/plyranges-Ex.timings
| name | user | system | elapsed | |
| add-nearest-distance | 0.343 | 0.004 | 0.347 | |
| as_ranges | 0.079 | 0.000 | 0.080 | |
| compute_coverage | 0.013 | 0.000 | 0.013 | |
| element-setops | 0.092 | 0.000 | 0.094 | |
| filter-ranges | 0.616 | 0.057 | 0.675 | |
| group_by-ranges | 0.273 | 0.000 | 0.274 | |
| io-bam-read | 1.371 | 0.040 | 1.417 | |
| io-bed-read | 0.970 | 0.010 | 0.981 | |
| io-bed-write | 0 | 0 | 0 | |
| io-bigwig-read | 0.090 | 0.001 | 0.090 | |
| io-bigwig-write | 0 | 0 | 0 | |
| io-gff-read | 0.305 | 0.024 | 0.330 | |
| io-gff-write | 0.000 | 0.000 | 0.001 | |
| io-wig-read | 0.267 | 0.007 | 0.273 | |
| mutate-ranges | 0.562 | 0.003 | 0.565 | |
| n | 0.190 | 0.002 | 0.192 | |
| n_distinct | 0.023 | 0.004 | 0.029 | |
| overlap-joins | 0.172 | 0.004 | 0.176 | |
| ranges-anchor | 0.084 | 0.000 | 0.084 | |
| ranges-arrange | 0.041 | 0.000 | 0.040 | |
| ranges-bind | 0.163 | 0.001 | 0.164 | |
| ranges-chop | 0.332 | 0.016 | 0.349 | |
| ranges-construct | 0.091 | 0.000 | 0.091 | |
| ranges-count-overlaps | 0.053 | 0.000 | 0.053 | |
| ranges-disjoin | 0.651 | 0.001 | 0.651 | |
| ranges-expand | 0.417 | 0.002 | 0.419 | |
| ranges-filter-overlaps | 0.111 | 0.000 | 0.111 | |
| ranges-flank | 0.083 | 0.000 | 0.083 | |
| ranges-follow | 0.159 | 0.002 | 0.161 | |
| ranges-info | 0.041 | 0.000 | 0.042 | |
| ranges-interweave | 0.151 | 0.000 | 0.152 | |
| ranges-names | 0.105 | 0.000 | 0.105 | |
| ranges-nearest | 0.37 | 0.00 | 0.37 | |
| ranges-overlaps-self | 0.172 | 0.001 | 0.173 | |
| ranges-overlaps | 0.15 | 0.00 | 0.15 | |
| ranges-pairs | 0.306 | 0.000 | 0.306 | |
| ranges-precede | 0.141 | 0.001 | 0.141 | |
| ranges-reduce | 0.868 | 0.001 | 0.868 | |
| ranges-select | 0.071 | 0.000 | 0.071 | |
| ranges-setops | 0.752 | 0.002 | 0.754 | |
| ranges-shift | 0.144 | 0.000 | 0.145 | |
| ranges-summarise | 0.123 | 0.000 | 0.124 | |
| ranges-tile | 0.081 | 0.000 | 0.082 | |
| slice-ranges | 0.518 | 0.001 | 0.520 | |
| stretch | 0.182 | 0.002 | 0.184 | |